BEGIN:VCALENDAR
VERSION:2.0
PRODID:-//Trial and Error Lab - ECPv6.1.3//NONSGML v1.0//EN
CALSCALE:GREGORIAN
METHOD:PUBLISH
X-ORIGINAL-URL:https://trialanderror.hk
X-WR-CALDESC:Events for Trial and Error Lab
REFRESH-INTERVAL;VALUE=DURATION:PT1H
X-Robots-Tag:noindex
X-PUBLISHED-TTL:PT1H
BEGIN:VTIMEZONE
TZID:Asia/Hong_Kong
BEGIN:STANDARD
TZOFFSETFROM:+0800
TZOFFSETTO:+0800
TZNAME:HKT
DTSTART:20210101T000000
END:STANDARD
END:VTIMEZONE
BEGIN:VEVENT
DTSTART;TZID=Asia/Hong_Kong:20210616T193000
DTEND;TZID=Asia/Hong_Kong:20210929T220000
DTSTAMP:20260425T113636
CREATED:20210426T045909Z
LAST-MODIFIED:20210603T083819Z
UID:68552-1623871800-1632952800@trialanderror.hk
SUMMARY:探索系列：繪本創作研習班
DESCRIPTION:研習班簡介\n【繪本，是給所有人的禮物】　 \n繪本，不是給孩子讀的嗎？對象都是家長、老師、文字或藝術工作者，是嗎？ \n不，繪本是一本不單靠文字，也不單用圖畫的神奇書本。它以童趣或幽默的眼光，帶人重新審視世界；並透過淺白的文字與圖畫，就能溫暖心靈，觸碰生命。 \n誰都可以被繪本感動。 \n你也想製作一本感動自己與每一個人的繪本嗎？來把心中的故事化成繪本，成為自己與所有人的禮物。Trial and Error Lab再次請來繪本作家貓珊（袁明珊）教授舉辦繪本研習班。她曾跟日本繪本大師田島征三學藝，並到劍橋大學修讀兒童文學，著有個人繪本及地圖畫集；擅長以畫作及詩作，把時代、動物及生命作記錄。 \n貓珊明言，來學的人，不需精於繪畫及寫作，只要很想創作，不斷嘗試，就能有自己的繪本。這人，會是你嗎？ \n研習目標\n學習基本繪本及講故事理論，了解創作繪本及故事的思考流程，以及故事主角及情節的創造方法等。導師會以導修形式，指導每位學員完成及演繹所創作的繪本。作品將會被安排展出（詳情待定）。 \n研習方法\n\n課堂授課—— 繪本及圖畫書經典理論分享。\n工作坊 —— 堂上練習，即時感受故事的力量。\n技巧分享 —— 體驗演釋故事的精彩與觸動。\n珍藏交流—— 導師把心愛的繪本一一分享。\n小組研習 —— 分組創作繪本，互相觀摩，刺激學習。\n\n研習對象\n對象：有意創作繪本、想認識更多有關繪本、繪本愛好者（只要不怕畫畫交流，即使不是專業畫師，同樣歡迎啊！） \n研習班資料\n\n\n\n\n	上課日期6月16日、30日、7月14日、28日、8月11 日、9月1日、9月29日（三）\n\n\n	上課時間7:30pm-9:30pm\n\n\n	堂數7\n\n\n	名額 14人\n\n\n	地點Trial and Error Lab （佐敦吳松街191號突破中心1樓）\n\n\n	費用 $1\,800\n\n\n	截止報名日期2021年6月4日（五）\n\n\n	疫情安排Trial Academy將持續觀察疫情，課堂將因應疫情的狀態以及政府公佈的限聚令安排，有機會改為網上授課，Trial Academy會於開課7日前透過電郵發出通知，敬請留意。\n\n\n\n\n報名連結\nhttps://form.breakthrough.org.hk/form/TA00_2021-Third_A \n\n導師簡介\n貓珊（袁明珊 ）｜繪本作家、畫家\n於英國劍橋大學取得碩士學位，主修兒童文學。現為全職繪本作家及畫家，經常繪製大型社區地圖。相信以圖畫及文字，能夠紀錄及分享有意思的訊息。於2014年創辦樹木保育專頁「親愛的樹」；出版著作包括《獅子山下的黃大獅》、《夏慤佔領圖》、《最後的告別》、《iDiscover Hong Kong Guide》、《Deserve》及《小虎妹形象工作室》（日）。曾多次於香港及海外參與展覽，2019年並於日本越後妻有大地藝術祭中的田島征三繪本美術館進行個人展覽。
URL:https://trialanderror.hk/single-event/ta2021s3_picturebook/
LOCATION:匠舍 Artisan Essence\, 1/F\, Breakthrough Centre\, 191 - 197 Woo Sung Street\, Jordan\, Kowloon
ATTACH;FMTTYPE=image/jpeg:https://trialanderror.hk/wp-content/uploads/2020/11/ta_xc03-scaled.jpg
END:VEVENT
BEGIN:VEVENT
DTSTART;VALUE=DATE:20210816
DTEND;VALUE=DATE:20210913
DTSTAMP:20260425T113636
CREATED:20210715T082825Z
LAST-MODIFIED:20210821T034419Z
UID:68841-1629072000-1631491199@trialanderror.hk
SUMMARY:20-21年度實驗室伙伴作品展覽
DESCRIPTION:每年的公眾活動也是一個平台讓 Trial and Error Lab 計劃參加者（稱「實驗室伙伴」）展示其試錯成果。今年他們一共策劃12個展覽，呈現過去一年的成長與創作；即使世界很灰很頹，希望這一班仍然堅持的人的努力和勇氣，能夠鼓勵你堅持在困境中繼續嘗試！ \n展覽開放時間\n\n\n\n\n	日期2021年8月16日至9月12日\n\n\n	地點佐敦吳松街191號突破中心地下及1樓\n\n\n	突破書廊(G/F)開放時間星期一、三至六：11am - 8pm\n星期二：12:30pm - 8pm\n星期日及公眾假期：12:30pm 6:30pm*\n\n*書廊如有活動會提早關門，記得參觀前查一查啊！詳情請參閱突破書廊網頁：facebook.com/btgallery\n\n\n	Trial and Error Lab(1/F)開放時間8月16日至9月12日 11am - 8pm\n\n\n\n	費用 免費參觀\n\n\n\n\n如參觀Trial and Error Lab (1/F) 展覽，請預約或到場登記\nhttps://bit.ly/fest2021-booking \n大會將採取一系列防疫措施。所有參觀人士須佩戴口罩。大會亦採取適當的人流控制措施，參與者可預約參觀或到場登記等候進場。歡迎預約參觀！ \n  \n\n突破中心地下展覽（無須預約）\nBlossomholic\n			\n			\n	\n\n四時更迭，花開花落，會流逝的除了花事，世間萬物亦然，願美好的事物生生不息。Blossomholic是一系列以花、葉入畫的花環作品，呈現畫者本人對大自然熱愛的作品。再美好的事物都會枯萎，既然消逝無可避免，何不趁一切極盛的時候珍惜當下？ \n\n作品媒體：水彩花環畫作\n展覽地點：突破中心地下走廊\n\n\nMandy Chan\n全職⻄洋書法及插畫家，品牌「Mstandforc」主理⼈。畢業於香港城市⼤學環保政策社會科學學⼠，曾到英國伊利進修⻄洋書法。2019年舉辦「微縮世界」個⼈⽔彩風景畫作品展，亦剛於去年在誠品香港店舉行「#3CM的微縮世界」。 \n\n繞出千絲萬緒\n			\n			\n	\n\n如果單憑一件銀線首飾作品，你或許難以想像其背後經歷的故事。 \n展覽從作品誕生的起點娓娓道來，由原材料、手稿至半成品，一步步帶你沿著金屬線藝術家Winnie的千思萬緒，看懂作品的全貌。透過展出從零開始的創作過程，希望增進大家對藝術創作的認知，了解其可貴之處。 \n\n作品媒體：金屬線飾品\n展覽地點：突破中心地下走廊\n\n\nWinnie Tam\n修畢大學建築設計碩士課程，曾於建築師樓工作；在建築設計的路上邂逅金屬線，剛柔並重的它讓她着迷，從此結下不解之緣，去年全職以品牌「Winnie the Wire Artist」謀生。崇尚極簡主義的Winnie，心思細膩、手藝精湛，將金屬線纏繞成主角，流露一絲建築美學；今年並創立「WJewellery.co」銀線首飾系列。 \n\n  \n心 • 心\n			\n			\n	\n\n這兩年，在社會運動及疫情下渡過，人與人之間的距離愈來愈遠，而且大家在大環境下家庭、工作壓力也不少，也有一些家庭決定離開生長的地方，到異鄉生活。希望大家能透過和諧粉彩，釋放心中壓力，享受metime，聽聽自己內心聲音，亦能分享愛，並宣揚和諧粉彩的分享精神，希望把人與人連結在一起。 \n是次展覽將收集在世界各地（香港、澳門、 台灣、星加坡、日本、加拿大、美國與英國），也因疫情困在家中或壓力增大的朋友的畫作，把愛心合併成大心，讓大眾知道其實世界雖然在很難過的時候，但也很有愛。 \n畫作展覽時會收集公眾的資料，在展覽後會寄出作品，希望以原畫的溫度分享愛。 \n\n作品媒體：和諧粉彩\n展覽地點：突破書廊\n\n\nAmanda Chan\n全職JPHAA和諧粉彩正指導師。大學畢業後曾到美國主題公園實習一年，回港後因適應城市步伐而感到困擾，於是成立品牌「Metime」，希望藉和諧粉彩及其他工藝教學，讓香港人能抽空享受減壓的metime。 \n\n  \n把練習成為習慣\n			\n			\n	\n\n把練習重複66次，習慣便開始形成了。 \n為了能在繪畫的路上有所進步，想訂立了一個練習的計劃。每一天畫一張畫。 由基本開始，畫畫喜歡的模特兒，純粹的練習，一直堅持至今，已經66天。 希望透過練習計劃成果的展示，把這練習的計劃最真實的過程，提醒自己創作過程，有時比作品本身更重要。而在練習過程中總會錯手畫錯了，卻能發掘到喜歡的風格、留意到心情影響畫風等，才有堅持下去的想法。 能夠把66天的練習成為習慣，也許只需要一個小念頭。您也有想練習的事情嗎？ \n\n作品媒體：水彩人像畫作\n展覽地點：突破書廊\n\n\nSuet\n書法及插畫家，以品牌「Just to say_____. 」，望能用文字與水彩畫把理念「愛很美好 說出來才知道」更簡單直接地說出來。主要以水彩和書法作為媒界，把客人的文字製作成各種給他／她的禮物。 \n\n《Today is Friday》繪本創作展\n			\n			\n	\n\n「媽媽，我何時能再見到你？」\n這是一位穿梭兩個家庭的三歲女孩的提問，媽媽的內心正下著細雨。\n一《Today is Friday》 \n《Today is Friday》是第一本由離異家庭親歷者與共親職團隊共創企劃的繪本。 \n展覽期間除了有《Today is Friday》繪本原畫、《雙棲-單親孩子雙親愛》、還有正在台灣嘖嘖募資教育計劃「每贊助一本，再送一本」。當你翻開手中的《Today is Friday》繪本，再為您送出另外一本給有需要的家庭。 \n獻給也曾面對生命風暴，依然堅持的你\n☆ 離異家庭親歷者真實故事\n☆ 華語地區少有的「兒童為本 共享親職」教學資源\n☆ 繪本的溫柔陪伴，把書帶到社區和學校 \n\n作品媒體：繪本\n展覽地點：突破書廊\n\n\n雙棲創作團隊\n雙棲創作團隊創辦人熊子傑，香港註冊社工，畢業後一直從事兒童及青少年工作，以性別平等及生涯規劃教育為主。2018年他與兩位關注性別及家庭議題的伙伴，創立雙棲創作團隊，策劃及製作《雙棲－單親孩子雙親愛》的書本和舞台劇，是華語地區第一部述說離異父母，共享親職(co-parenting)親身經歷為題的作品。團隊致力以藝術結連社會的形式，向社會大眾推廣「兒童為本 共享親職」的理念。 \n\n\nTrial and Error Lab (1/F)（需要預約）\n大山與我 Lantau and I\n			\n			\n	\n\n大嶼山位處香港西南面，被稱作離島的她一直從遠處觀看香港的變化。明日的大山，在預計中將可能變得面目全非，我們又是否在意？ \n策展人在十多年前搬入大嶼山的新市鎮，並不屬於那兒的原居民。大山一直陪伴策展人成長，而她卻從沒為意在這裡經歷的一切。現在後知後覺，想盡力把看過的、聽過的，觸過的都記錄下來，期盼以後仍能尋回。 \n這是策展人自我回顧和反思的過程，回看成長中的一場場歷險，探索自己與自然的關係。她在大山中的經歷，也許能夠連結你的某段記憶碎片。 \n\n作品媒體：刺繡\n展覽地點：Trial and Error Lab（突破中心1樓）\n\n\nRyann Tam\n「一籃野Basket of stuff.」是成立於2019年的手工刺繡及鉤織品牌。一個籃子可以裝載毛線和布料，也可以盛載歡樂，溫暖和無限的可能。透過手工刺繡和鉤織，創作者Ryann希望將野生動物和大自然有趣和美麗的一面帶給大家，希望讓城市人與自然重新建立關係。2020年初開展「香港野鳥類鄰居」系列，透過刺繡介紹本地常見野鳥，嘗試向公眾介紹「野生鳥類是我們的鄰居」的概念，並希望培養出大眾對這些小鄰居的尊敬愛護之心。 \n  \n\n阿強在散步\n			\n			\n	\n\n過去一年，策展人的創作帶有濃厚的目的性，亦多與社會與政治掛勾。策展人希望利用今次的展覽機會，創作和繪畫一些自己想畫的東西，單純享受繪畫帶來的快樂。 \n\n作品媒體：電腦畫作\n展覽地點：Trial and Error Lab（突破中心1樓）\n\n\n阿強\n日常中的小事和常規是生活中最吸引阿強的課題，所以阿強喜歡畫畫和寫生，用筆墨代替言語，並創立品牌「Error 404」及「Error 505」。阿強希望畫作能定格生活中的瞬間，亦能承載著當下的回憶和感受，更希望能引起共嗚。 \n\n  \n毋忘。啟程\n			\n			\n	\n\n對於很多「九十後」而言，因為雙職父母的關係，都是由祖父母「湊大」的，彼此的關係非常緊密。隨著年紀的增長，祖父母亦邁入人生的最後階段，我們不免要開始學習面對摯愛的離去。透過整理他們的生平，我們或許能從中抽離悲傷的情緒，得著重新出發的動力。 \n\n作品媒體：圖文集及動畫圖片\n展覽地點：Trial and Error Lab（突破中心1樓）\n\n\nVanessa & Mia\n由攝影師Vanessa與文字人Mia組成的「毋忘」，矢志整理和記錄生命的人提供一對一攝影和寫作服務，包括圖文自傳、小記等等。在節奏急速的大都會生活，人們忙於為生存打拼，沒時間和空間感受周遭人、事、物的變化。「毋忘」相信，曾經歷過的歲月都是生命饋贈的禮物，只是被人們遺忘在名為「回憶」的抽屜裏，靜靜地等待人們拆開。我們希望籍着文字和鏡頭，重新打開抽屜，記錄和傳承生命的美好，藉此向生命獻上最誠摯的敬禮。 \n\n  \n憂鬱森林之初\n			\n			\n	\n\n展覽將介紹憂鬱森林的創作理念，初期創作的想法（例如一開始以為休息一段時間自然會好），到後期明白到有些傷口不會那麼容易好起來的時候，就漸漸學會檢視內心世界，以及接受每個人也有情緒。 \n\n作品媒體：水彩及木顏色畫作\n展覽地點：Trial and Error Lab（突破中心1樓）\n\n\n水水\n曾長年受情緒困擾，於2017年開始創作「水水」這個角色，以此代表自己，訴說一些難以抒解的故事。望能透過「水水」的故事來治癒人心，表達或抒發大家心中的鬱悶。她同時創立插畫品牌「動力神社」，產品以插畫為主，多以水彩及木顏色筆作畫，主要色調為水藍色和湖水綠，畫面平靜潔淨，治癒人心。 \n\n  \nLet there be Light 灰。飾\n			\n			\n	\n\n灰色讓人感到暗淡無光？！ 於一片灰色乾燥花之下是否一點色彩都沒有？於這兩年身邊又開始聽到「移民」這個詞語，選擇移民到新地方的人越來越多。\n離開香港這個家……前面只有灰色嗎？！還是只要抬起頭，不同的顏色從來都在你身旁，視乎你是否選擇去欣賞？不管你如何選擇……祝願花開，心無罣礙。 \n\n作品媒體：壓花飾品\n展覽地點：Trial and Error Lab（突破中心1樓）\n\n\nPauline Lee\n任職玩具工程師，從小對不同工藝充滿興趣。直至遇上兩位恩師，決定全程投入乾燥花、押花和保鮮花工藝，創立品牌「Pozzimade」，期望讓花飾伴隨生活，充滿色彩自信地迎接每個女生的生活日常。 \n\n  \n我的快樂時代\n			\n			\n	\n\n除了經濟，社會結構的轉型，香港還有一個被人忽略的公共設施，它們一直在暗暗改變，就是遊樂設施。現在的遊樂設施因所謂的安全問題，不斷將趣味降低和重覆製作。作者希望透過用紙膠帶創作的繪本，喚起我們成年人的快樂時代和重新關注遊樂設施，令下一代不要只活在電子化的螢幕。另一方面，作者也想推廣用紙膠帶拼貼的工藝。 \n\n作品媒體：紙膠帶\n展覽地點：Trial and Error Lab（突破中心1樓）\n\n\nTerrence Chan\n透過創作紙膠帶及創辦品牌「香港紙膠帶 HKMT」，用紙膠帶記錄香港周邊慢慢失去的獨有文化，包括獨有的交通工具、交通標誌、語言、字句等，他亦以此創作繪本。客人購買以後，可貼在不同的物品作裝飾，用作手帳記錄，甚至拼貼成畫作。 \n  \n\nWW友情合作\n			\n			\n	\n\n水水與Winnie因Trial and Error Lab而結緣，成為伙伴兼好友。數個月前水水在設計自家品牌Logo時以「一線過」方式設計，想起Winnie的Wire Art，因而促成是次合作。憑二人對美學的執念，聯手設計出銅線水滴書籤。剛柔並重的玫瑰金線，象徵她們的剛強意志以及溫暖友情。除了作品以外，透過展出她們合作動機、創作意念及過程，記念彼此之間的緣份。 \n\n作品媒體：銅線玫瑰金線飾品 & 水彩畫\n展覽地點：Trial and Error Lab（突破中心1樓）\n\n\nWinnie Tam\n修畢大學建築設計碩士課程，曾於建築師樓工作；在建築設計的路上邂逅金屬線，剛柔並重的它讓她着迷，從此結下不解之緣，去年全職以品牌「Winnie the Wire Artist」謀生。崇尚極簡主義的Winnie，心思細膩、手藝精湛，將金屬線纏繞成主角，流露一絲建築美學；今年並創立「W Jewellery by Winnie」細緻首飾系列。 \n水水\n曾長年受情緒困擾，於2017年開始創作「水水」這個角色，以此代表自己，訴說一些難以抒解的故事。望能透過「水水」的故事來治癒人心，表達或抒發大家心中的鬱悶。她同時創立插畫品牌「動力神社」，產品以插畫為主，多以水彩及木顏色筆作畫，主要色調為水藍色和湖水綠，畫面平靜潔淨，治癒人心。 \n\n\n\n關於 Trial and Error Fest 2021\nTrial and Error Lab每年招募有志投身文創產業的青年（稱為實驗室伙伴或Lab Fellow！），透過提供共享工作空間、培訓，以及創意企劃，讓他們實踐職志。每年舉辦大型活動Trial and Error Fest，讓公眾認識青年的試錯成果，同時藉此推動勇於嘗試、敢於撞板的社會氣氛。今年首次舉辦主題展覽「每個人的心裡都有狒狒」，藉著50多個故事，表達緊張與恐懼乃人之常情；你與我在困難中並不孤單。
URL:https://trialanderror.hk/single-event/fest2021-exh-fellow/
LOCATION:匠舍 Artisan Essence\, 1/F\, Breakthrough Centre\, 191 - 197 Woo Sung Street\, Jordan\, Kowloon
CATEGORIES:Trial and Error Fest 2021
ATTACH;FMTTYPE=image/png:https://trialanderror.hk/wp-content/uploads/2021/07/KV_fellowexh_logo-2.png
END:VEVENT
BEGIN:VEVENT
DTSTART;VALUE=DATE:20210816
DTEND;VALUE=DATE:20210913
DTSTAMP:20260425T113636
CREATED:20210715T083118Z
LAST-MODIFIED:20210727T073004Z
UID:68845-1629072000-1631491199@trialanderror.hk
SUMMARY:主題展覽：《每個人的心裡都有狒狒》
DESCRIPTION:原來人人都驚，咁仲駛乜驚？\nTrial and Error Lab共同創辧人之一王育娟（阿絹），內心是一個動物園，其中「狒狒」代表她緊張的情緒。自從2016年10月起，Trial and Error Lab開辦的那一天開始，直至今年7月，她心中的「狒狒」跑了出來57個月，再也沒有回到動物園的山窿裡。 \n世上是不是只有自己才有「狒狒」呢？其實人人都有緊張的一刻，尤其在嘗試新事物 （trial），或犯錯撞板 （error）的時候，內心總會緊張不已，即使是大家眼中的強人，他們的心裡也有「狒狒」，只是不告訴你而已。 \n因此，阿絹與定居台灣的香港插畫師「tui franc 頹飯」合作，以互動形式展出57個「狒狒」的故事，包括：總幹事、策展人、區議員、創作人、資深傳媒人、總編輯等等57個「狒狒」的故事，揭示強人內心的惶恐，分擔緊張，分享勇氣。歡迎你來一一窺探他們的內心世界。 \n也許，最後你會發現：原來人人都會驚，咁仲駛乜驚？不如走出山窿，放膽去試吧！ \n展覽開放時間\n\n\n\n\n	日期2021年8月16日至9月12日\n\n\n	時間11am-8pm\n\n\n	地點佐敦吳松街191號突破中心地下走廊\n\n\n	費用 免費參觀\n\n\n\n\n\n關於 Trial and Error Fest 2021\nTrial and Error Lab每年招募有志投身文創產業的青年（稱為實驗室伙伴或Lab Fellow！），透過提供共享工作空間、培訓，以及創意企劃，讓他們實踐職志。每年舉辦大型活動Trial and Error Fest，讓公眾認識青年的試錯成果，同時藉此推動勇於嘗試、敢於撞板的社會氣氛。今年首次舉辦主題展覽「每個人的心裡都有狒狒」，藉著50多個故事，表達緊張與恐懼乃人之常情；你與我在困難中並不孤單。
URL:https://trialanderror.hk/single-event/fest2021-exh-baboon/
LOCATION:匠舍 Artisan Essence\, 1/F\, Breakthrough Centre\, 191 - 197 Woo Sung Street\, Jordan\, Kowloon
CATEGORIES:Trial and Error Fest 2021
ATTACH;FMTTYPE=image/png:https://trialanderror.hk/wp-content/uploads/2021/07/狒狒.png
END:VEVENT
BEGIN:VEVENT
DTSTART;VALUE=DATE:20210816
DTEND;VALUE=DATE:20210913
DTSTAMP:20260425T113636
CREATED:20210721T095319Z
LAST-MODIFIED:20210727T072923Z
UID:69047-1629072000-1631491199@trialanderror.hk
SUMMARY:繪本創成展 2021
DESCRIPTION:由著名繪本畫家袁明珊（貓珊）任教的「嘗試學院 Trial Academy」之「繪本創作研習班」來到第二屆。本屆學員創作繪本的年資尚淺，卻能用童趣又圓熟的文字與圖畫，表達對成長、親情、愛情、動物以至價值觀的獨特想法。多本青澀、純真而寓意深遠的繪本，值得你細心閱讀。 \n導師：貓珊 （袁明珊）︳繪本作家、畫家\n出版著作包括《夏慤佔領圖》、《最後的告別》、《小虎妹形象工作室》、《Deserve》、《心急狸與慢子狸》及《獅子山下的黃大獅》等。 \n（9月11日下午老師與同學亦將於「繪本讀書會——如果繪本能成為每個人的樹洞？」分享繪本創作心得，歡迎報名） \n展覽開放時間\n\n\n\n\n	日期2021年8月16日至9月12日\n\n\n	地點突破書廊（佐敦吳松街191號突破中心地下）\n\n\n	開放時間星期一、三至六：11am - 8pm\n星期二：12:30pm - 8pm\n星期日及公眾假期：12:30pm 6:30pm*\n\n*書廊如有活動會提早關門，記得參觀前查一查啊！詳情請參閱突破書廊網頁：facebook.com/btgallery\n\n\n	費用 免費參觀\n\n\n\n\n\n\n關於 Trial and Error Fest 2021\nTrial and Error Lab每年招募有志投身文創產業的青年（稱為實驗室伙伴或Lab Fellow！），透過提供共享工作空間、培訓，以及創意企劃，讓他們實踐職志。每年舉辦大型活動Trial and Error Fest，讓公眾認識青年的試錯成果，同時藉此推動勇於嘗試、敢於撞板的社會氣氛。今年首次舉辦主題展覽「每個人的心裡都有狒狒」，藉著50多個故事，表達緊張與恐懼乃人之常情；你與我在困難中並不孤單。
URL:https://trialanderror.hk/single-event/fest2021-exh-picbk/
LOCATION:匠舍 Artisan Essence\, 1/F\, Breakthrough Centre\, 191 - 197 Woo Sung Street\, Jordan\, Kowloon
CATEGORIES:Trial and Error Fest 2021
ATTACH;FMTTYPE=image/png:https://trialanderror.hk/wp-content/uploads/2021/07/繪本展1.png
END:VEVENT
BEGIN:VEVENT
DTSTART;TZID=Asia/Hong_Kong:20210911T150000
DTEND;TZID=Asia/Hong_Kong:20210911T180000
DTSTAMP:20260425T113636
CREATED:20210715T083741Z
LAST-MODIFIED:20210819T092337Z
UID:68853-1631372400-1631383200@trialanderror.hk
SUMMARY:繪本讀書會——如果繪本能成為每個人的樹洞？
DESCRIPTION:由著名繪本畫家袁明珊（貓珊）任教的「嘗試學院 Trial Academy」之「繪本創作研習班」來到第二屆，在8月16至9月12日的「繪本創成展」，將於突破書廊展出十多本畢業作品。許多人都沒有創作經驗，卻又想把心中的意念化成繪本或圖文集，該如何踏出第一步？又如何用繪本表達對心底最深的想法，傾吐有關成長、親情、愛情、動物以至價值觀的獨特想法？更重要的是，繪本往往不只抒發個人情感，青澀、純真的故事，如何能成為別人的樹洞，帶來療癒？ \n不如這個下午，就來聽聽這群年輕作者分享，也來分享你心中有關繪本的想法。 \n詳情\n\n\n\n\n	日期2021年9月11日（六）\n\n\n	時間3pm-6pm\n\n\n	地點Trial and Error Lab（佐敦吳松街191號突破中心1樓）\n\n\n	對象對繪本創作感興趣；\n喜歡對繪本及童書閱讀；\n想知道自己能否創作繪本；\n想貪心地一次過讀十多本繪本的你\n\n\n	費用免費\n\n\n	截止報名日期2021年9月6日（一）\n\n\n\n\n活動報名\nhttps://bit.ly/fest2021-applynow \n\n關於 Trial and Error Fest 2021\nTrial and Error Lab每年招募有志投身文創產業的青年（稱為實驗室伙伴或Lab Fellow！），透過提供共享工作空間、培訓，以及創意企劃，讓他們實踐職志。每年舉辦大型活動Trial and Error Fest，讓公眾認識青年的試錯成果，同時藉此推動勇於嘗試、敢於撞板的社會氣氛。今年首次舉辦主題展覽「每個人的心裡都有狒狒」，藉著50多個故事，表達緊張與恐懼乃人之常情；你與我在困難中並不孤單。
URL:https://trialanderror.hk/single-event/fest2021-talk-picbk/
LOCATION:匠舍 Artisan Essence\, 1/F\, Breakthrough Centre\, 191 - 197 Woo Sung Street\, Jordan\, Kowloon
CATEGORIES:Event,Trial and Error Fest 2021
ATTACH;FMTTYPE=image/png:https://trialanderror.hk/wp-content/uploads/2021/07/繪本讀書會.png
END:VEVENT
END:VCALENDAR