BEGIN:VCALENDAR
VERSION:2.0
PRODID:-//Trial and Error Lab - ECPv6.1.3//NONSGML v1.0//EN
CALSCALE:GREGORIAN
METHOD:PUBLISH
X-WR-CALNAME:Trial and Error Lab
X-ORIGINAL-URL:https://trialanderror.hk
X-WR-CALDESC:Events for Trial and Error Lab
REFRESH-INTERVAL;VALUE=DURATION:PT1H
X-Robots-Tag:noindex
X-PUBLISHED-TTL:PT1H
BEGIN:VTIMEZONE
TZID:Asia/Hong_Kong
BEGIN:STANDARD
TZOFFSETFROM:+0800
TZOFFSETTO:+0800
TZNAME:HKT
DTSTART:20210101T000000
END:STANDARD
END:VTIMEZONE
BEGIN:VEVENT
DTSTART;TZID=Asia/Hong_Kong:20211203T193000
DTEND;TZID=Asia/Hong_Kong:20211203T213000
DTSTAMP:20260425T070111
CREATED:20210809T081818Z
LAST-MODIFIED:20210812T022753Z
UID:69526-1638559800-1638567000@trialanderror.hk
SUMMARY:實驗課程：做好品牌形象！字型運用及排版設計班 （基礎）
DESCRIPTION:課程簡介\n相信大家都見過不少字體亂飛、配色奇怪、重點模糊，讓人眼花撩亂亦捉錯用神的設計。事實上，要讓人對你的品牌產生連繫，繼而引發購買產品的意慾，不論是宣傳或包裝的排版美學，都是絕不能忽視的元素。本課程主要教授實用的排版原則與技巧，務求讓學員掌握設計、字型排版與品牌形象的關係，導師更會為學員的品牌形象設計即場進行問診！ \n課程內容\n基礎概念、個案分析、經驗分享、應用練習 \n課程重點\n\n認識設計、字型排版與品牌形象的關係\n排版設計的基本原則：美觀及實用性\n文字排版（typography）教學\n➤ 賞析和討論字型\n➤ 提升文字編排技巧\n導師為學員的品牌形象進行問診\n\n\n課程對象\n有意了解或提升排版設計技巧的手作工藝師/品牌創辦人（主要針對小型商品以及市集常見文創產品） \n其他事項\n學員可帶同自家品牌卡片或宣傳印刷品，與導師進行交流問診。 \n課程資料\n\n\n\n\n	上課日期2021年12月3日（五）\n\n\n	上課時間7:30pm-9:30pm\n\n\n	堂數1\n\n\n	地點Trial and Error Lab （佐敦吳松街191號突破中心1樓）\n\n\n	費用 $300\n\n註：同時報讀「做好品牌形象！字型運用及排版設計班 （實戰）」可享組合優惠$480（原價$600）\n\n\n	截止報名日期2021年11月26日（五）\n\n\n\n\n報名連結\nhttps://bit.ly/3xxOhwh \n\n導師簡介\n水水（@動力神社）畢業於HKBU視覺藝術院，動力神社插畫品牌的創作人。對插畫、平面設計及手造書工藝有濃厚興趣。曾於2016年獲得靳劉高設計獎，得獎作品為個人設計詩集《字裏駐足》，其作品結合了平面設計、文學與造書工藝。而插畫品牌動力神社則以情緒共生為主要題材，希望透過插畫傳遞情緒健康的信息。
URL:https://trialanderror.hk/single-event/ta2022s1_typography_1/
LOCATION:匠舍 Artisan Essence\, 1/F\, Breakthrough Centre\, 191 - 197 Woo Sung Street\, Jordan\, Kowloon
CATEGORIES:Event,Trial Academy,Highlight Courses
ATTACH;FMTTYPE=image/jpeg:https://trialanderror.hk/wp-content/uploads/2021/08/ta_wc_04.jpg
END:VEVENT
BEGIN:VEVENT
DTSTART;TZID=Asia/Hong_Kong:20211203T193000
DTEND;TZID=Asia/Hong_Kong:20211203T213000
DTSTAMP:20260425T070111
CREATED:20211105T042453Z
LAST-MODIFIED:20211110T104127Z
UID:69857-1638559800-1638567000@trialanderror.hk
SUMMARY:錯誤星期五 Error Friday：香港搞市集係咪註定Error？以為搞市集好易，但點知好多伏關注組
DESCRIPTION:疫情放緩後，香港的手作市集終於如常；今年秋冬更愈燒愈猛，每個周末都有幾個市集，這孰好孰壞？對消費者來說，或許多了購買年輕工藝創作人的消費機會，但對商界、社企、社福、大專、教會以及支持本地文創產品的人而言，更是一個好的機會，透過舉辦市集，來發掘商機，又或提供平台予年輕人展現工藝。 \n但，搞市集，是利多於弊，還是弊多於利？ \n#市集經驗搞手的Trial and Error\n11月的Error Friday，我們將請來手作市集搞手加行 @ nomad nomad分享。她是香港較早期的創意市集策劃團隊，亦身兼藍曬工藝師。nomad nomad的團隊搞市集的開初，遇過幾多error與難阻？搞一個理想的市集，要什麼條件？要花多少力氣？香港人能以市集搞手所賺的金錢維生嗎？而她如何梳理本地手作市集的發展？當香港的手作市集如雨後春筍，是否代表市集與手作品牌的水準相應提高？ \n#當我又是市集搞手，又是檔主\n而另一位嘉賓Dewil @ A.N.D是一名大學生，同時是插畫師，去年更成為新晉市集搞手。因參加過不少水準參差的市集，令她想舉辦心中理想的市集。當她既是檔主又是搞手，有時更是客人，她是如何從錯誤中，學習平衡三者的需要？ \n這晚就請來兩位市集搞手兼藝術人，分享對香港手作市集的種種error，也收集大家對市集的慘痛或快樂經驗，成為她們日後舉辦市集的養份！不論你是市集愛好者、手作工藝品牌初哥、市集檔主，甚或是準備投身市集搞手行列的人，這晚一起來吐嘈 / 集氣，一起讓香港文創產業的土壤，變得更肥沃吧！ \n嘉賓\n\n加行 @ Nomad Nomad\n2014夏天跟同學成立文化藝術實驗工作室nomad nomad。2014年開始透過實踐心中的市集文化，為香港人找尋更多不同的生活方式，至今已舉辦過十多次市集，最為人熟悉是多年來於九龍城書節舉辦地攤市集。近年nomad nomad轉型藝術實驗，如舉辦展覽及工作坊等，卻仍不放棄市集，為什麼？\nDewil @ A.N.D\n2020年3月因與拍檔參加市集搞手比賽，成立「A.N.D」市集團隊，同時擁有多年的市集擺檔經驗。醉心籌劃市集的她，在檔主與搞手的身分之間，她嘗試兩者兼擅，自言愈來愈享受其中，是什麼原因？\n\n主持\n\n王育娟（絹）\n市集愛好者。現任職 Trial and Error Lab 管理員，曾以個人身分參與於九龍城書節舉辦的創意市集，並常於辦公單位籌劃二手衣物地攤，近年亦有份策劃 Trial and Error Lab 的手作市集，因深信市集是提供另類消費、令手作品牌更被看見的平台。\n\n分享內容\n\n香港的市集，最error的地方是什麼？\n為何一個城市需要有創意手作市集？\n由90年代山頂、赤柱的地區市集，到2011年賽馬會創意藝術中心（JCCAC）至2014年的兆基創意書院的nomad nomad市集；其後出現工廈市集、大學校園市集至商場市集等，誰都可以擔當市集發起人角色嗎？他們需要什麼入行條件及質素？\n當手作市集遍地開花，是否代表城市變得更有創意、消費更多選擇、手作人更被重視？\n當香港人受台灣、日本手作市集風氣感染，舉辦更多元化的市集時，但香港市集仍不時被批評不如外地，在場地、氣氛、品牌及客人水平上仍與外地市集有一大距離，為何本地市集搞手仍堅持要做？\n疫情之後，實體市集與網上選物平台，能否互補？\n\n如果你⋯⋯\n\n想了解如何策劃手作市集\n想知道為何有人會熱血不懈地籌劃市集及支持本地創作\n克服在冷門行業追求理想的孤單\n\n來參加Error Friday吧！ \nError Friday 詳情\n\n\n\n\n	日期2021年12月3日（五）\n\n\n	時間7:30-9:30pm\n\n\n	地點Trial and Error Lab（佐敦吳松街191號突破中心1樓）\n\n\n	費用$130/位\n\n\n	截止報名日期2021年12月1日（三）\n\n\n\n\n活動報名\nhttps://bit.ly/21ef4_applynow
URL:https://trialanderror.hk/single-event/21errorfriday4/
LOCATION:匠舍 Artisan Essence\, 1/F\, Breakthrough Centre\, 191 - 197 Woo Sung Street\, Jordan\, Kowloon
CATEGORIES:Event,Error Friday
ATTACH;FMTTYPE=image/png:https://trialanderror.hk/wp-content/uploads/2021/11/KV_Nov21EF.png
END:VEVENT
END:VCALENDAR