BEGIN:VCALENDAR
VERSION:2.0
PRODID:-//Trial and Error Lab - ECPv6.1.3//NONSGML v1.0//EN
CALSCALE:GREGORIAN
METHOD:PUBLISH
X-ORIGINAL-URL:https://trialanderror.hk
X-WR-CALDESC:Events for Trial and Error Lab
REFRESH-INTERVAL;VALUE=DURATION:PT1H
X-Robots-Tag:noindex
X-PUBLISHED-TTL:PT1H
BEGIN:VTIMEZONE
TZID:Asia/Hong_Kong
BEGIN:STANDARD
TZOFFSETFROM:+0800
TZOFFSETTO:+0800
TZNAME:HKT
DTSTART:20220101T000000
END:STANDARD
END:VTIMEZONE
BEGIN:VEVENT
DTSTART;VALUE=DATE:20220109
DTEND;VALUE=DATE:20220110
DTSTAMP:20260425T051812
CREATED:20211209T100156Z
LAST-MODIFIED:20211214T070519Z
UID:69968-1641686400-1641772799@trialanderror.hk
SUMMARY:【早鳥優惠】2022年第二季（1至4月）課程已接受報名！
DESCRIPTION:嘗試學院 Trial Academy 是專門讓渴望投身文化創意產業的朋友，接受相關裝備與培訓的學習平台！我們每一季都會推出重點課程，等你可以靈活安排，發展個人事業與創意工作，並結識伙伴。全部課程小班教學，學位有限，報名趁早！雖然時代變化太快，但我們相信持續學習和嘗試，會為你帶來出路！ \n  \n優惠詳情\n凡於2022年1月9日前報讀下列指定課程，可享85折早鳥優惠（適用於正價課程） \n報名連結：https://bit.ly/3pU4ERY < 立即報名！ \n  \n1至4月課程簡介\n探索系列 Explorer Series: \n適合想擴闊視野、有意從事文創行業的朋友！ \n繪本創作研習班 < 按此了解詳情！ \n\n繪本創作研習班載譽歸來！你也想製作一本感動自己與每一個人的繪本嗎？不需精於繪畫及寫作，只要很想創作，不怕畫畫交流，不斷嘗試，就能有自己的繪本。研習班請來繪本作家貓珊教授。她曾跟日本繪本大師田島征三學藝，並到劍橋大學修讀兒童文學，著有個人繪本及地圖畫集；擅長以畫作及詩作，把時代、動物及生命作記錄。\n\n行業分享會：【經營小型品牌：賣嘢Dos and Don’ts】< 按此了解詳情！ \n\n\n近年愈來愈多人嘗試創立手作品牌，更選擇在IG宣傳產品、進駐商舖做零售、拓展寄賣點，甚至加入網上選物平台。不過賣嘢的渠道多，要留神的地方亦多：大至市場的定位、品牌的宣傳、產品的獨特性，小至寄賣文件的準備、靚相一張⋯⋯此分享會將透過經驗交流，與參加者解構經營小型品牌的賣嘢Dos and Don’ts，讓大家留心每個可能的「中伏位」！ \n\n\n  \n實驗課程 Walker Course:\n課程為期1-3堂，以幫助創業新手打穩品牌基礎為主！ \n微型生意：實用財務管理1.0 < 按此了解詳情！ \n\n\n對於小品牌經營者來說，要處理數字或許比創作困難幾百倍！本課程希望幫助小品牌經營者應付日常的經營需要，而學員將會透過互動培訓方式，學習基本會計原理及實務、日常經營交易記賬方式，以及計算生意成本及利潤的方法。 \n\n\n不再錯印！經營品牌必學印刷知識 < 按此了解詳情！ \n\n\n印刷無難度！課堂邀請到專業的印刷業者 Ink’chacha 教授實用印刷知識與設計思維，讓你認識不同的印刷術，不再浪費時間於單調的印刷品上！ \n\n\n提升銷售的陳列竅門 < 按此了解詳情！ \n\n貨品陳列方式直接影響銷售，同時能夠提升品牌形象。不同品牌、不同銷售點、不同空間和環境，是不是也用同一種陳列方式？課程請來擁有超過15年的品牌包裝（Brand Building）、視覺營銷（Visual Merchandising）和設計經驗的「簡梘」創辦人，教授小品牌於市集、寄賣點等等的陳列技巧！\n*同時報讀「提升銷售的陳列竅門」及「品牌包裝設計入門」，可享組合價$$600（原價$760）。\n\n品牌包裝設計入門 < 按此了解詳情！ \n\n包裝設計是品牌的第一印象，更像一個無形的公關；包裝設計亦是吸引顧客的重要一環，能有效提升銷售表現。課程請來已成立七年的「簡梘」創辦人，教導學員分辨和挑選合適自己品牌的包裝設計，好好表達產品的重點和特色！\n*同時報讀「提升銷售的陳列竅門」及「品牌包裝設計入門」，可享組合價$600（原價$760）。\n\n  \n「我適合什麼課程？」按此了解我們的課程如何分類吧！ \n「我想了解全部課程！」歡迎你按此瀏覽所有課程！ \n「嘩，好吸引！如何報名？」報名傳送門在此！ \n  \n\n疫情下的特別安排：\n\n所有學員必需妥善配戴口罩以及讓工作人員量度體溫後方可上課；如不遵守此規則，Trial Academy 有權要求參加者離開課室並不獲退款。\n活動如有任何突發變動，將於7日前以電郵通知延期安排，如學員未能於延後的日子上課，將安排退款（不適用於實戰課程）。\n若感到身體不適，或與任何確診或疑似患者有過緊密接觸，請留在家中休息，避免外出。\n\n\n 
URL:https://trialanderror.hk/single-event/ta2022s2/
LOCATION:匠舍 Artisan Essence\, 1/F\, Breakthrough Centre\, 191 - 197 Woo Sung Street\, Jordan\, Kowloon
CATEGORIES:Trial Academy
ATTACH;FMTTYPE=image/jpeg:https://trialanderror.hk/wp-content/uploads/2021/12/ta2122_cover_B.jpeg
END:VEVENT
END:VCALENDAR