BEGIN:VCALENDAR
VERSION:2.0
PRODID:-//Trial and Error Lab - ECPv6.1.3//NONSGML v1.0//EN
CALSCALE:GREGORIAN
METHOD:PUBLISH
X-ORIGINAL-URL:https://trialanderror.hk
X-WR-CALDESC:Events for Trial and Error Lab
REFRESH-INTERVAL;VALUE=DURATION:PT1H
X-Robots-Tag:noindex
X-PUBLISHED-TTL:PT1H
BEGIN:VTIMEZONE
TZID:Asia/Hong_Kong
BEGIN:STANDARD
TZOFFSETFROM:+0800
TZOFFSETTO:+0800
TZNAME:HKT
DTSTART:20220101T000000
END:STANDARD
END:VTIMEZONE
BEGIN:VEVENT
DTSTART;TZID=Asia/Hong_Kong:20220114T193000
DTEND;TZID=Asia/Hong_Kong:20220114T213000
DTSTAMP:20260425T052256
CREATED:20211217T050204Z
LAST-MODIFIED:20211217T050204Z
UID:70038-1642188600-1642195800@trialanderror.hk
SUMMARY:錯誤星期五 Error Friday：創作行業做到爆肝是Error嗎？
DESCRIPTION:龐一鳴 x Trial and Error Lab 拯救創作人肝臟圍爐會\n你是創意工作人士嗎？過去有感到被阿客日chur夜chur幾近爆肝，腦袋乾塘無橋，job少收入見底，痛苦與疲倦卻不被明白嗎？ \n2022年Error Friday的頭炮，將移師到「一拳書館」，請來店長龐一鳴，帶領專門為創作行業人士而設計的創意對話遊戲，為你梳理內心疲憊與不被明白之感，更能透過有趣的分享，感受自己並非白做，其實對別人帶來真實的影響力。話唔埋經過呢一晚圍爐共聚，大家可以重新上電、靈感大爆發～（頭盔mode：如果當日無，第時可能會有！） \n2022年，不如就來跟龐一鳴圍爐取暖，補一補肝啦！ \nError Friday 活動資料\n\n\n\n\n	日期2022年1月14日（五）\n\n\n	時間7:30-9:30pm\n\n\n	地點深水埗區（成功報名後將通知活動地點）\n\n\n	費用$130/位\n\n\n	截止報名日期2022年1月11日（二）\n\n\n\n\n活動報名\nhttps://bit.ly/3E1Dqhk \n\n主持\n龐一鳴 \n現為「一拳書館」店長，曾創立多個關懷社會的團體，包括：推動平等教育單位「香港真人圖書舘」、食農教育組織「港嘢」、實踐海外藝術交流機構「一打人去賣藝」等等；過去二十多年運用遊戲服侍不同群體，其中包括復元人士、少數族裔、退休長者、戒毒青年、新來港兒童。
URL:https://trialanderror.hk/single-event/22ef1/
LOCATION:匠舍 Artisan Essence\, 1/F\, Breakthrough Centre\, 191 - 197 Woo Sung Street\, Jordan\, Kowloon
CATEGORIES:Event,Error Friday
ATTACH;FMTTYPE=image/png:https://trialanderror.hk/wp-content/uploads/2021/12/EF_pym_KV.png
END:VEVENT
END:VCALENDAR