BEGIN:VCALENDAR
VERSION:2.0
PRODID:-//Trial and Error Lab - ECPv6.1.3//NONSGML v1.0//EN
CALSCALE:GREGORIAN
METHOD:PUBLISH
X-WR-CALNAME:Trial and Error Lab
X-ORIGINAL-URL:https://trialanderror.hk
X-WR-CALDESC:Events for Trial and Error Lab
REFRESH-INTERVAL;VALUE=DURATION:PT1H
X-Robots-Tag:noindex
X-PUBLISHED-TTL:PT1H
BEGIN:VTIMEZONE
TZID:Asia/Hong_Kong
BEGIN:STANDARD
TZOFFSETFROM:+0800
TZOFFSETTO:+0800
TZNAME:HKT
DTSTART:20220101T000000
END:STANDARD
END:VTIMEZONE
BEGIN:VEVENT
DTSTART;TZID=Asia/Hong_Kong:20220122T140000
DTEND;TZID=Asia/Hong_Kong:20220122T163000
DTSTAMP:20260425T051818
CREATED:20211209T094928Z
LAST-MODIFIED:20220106T093059Z
UID:69956-1642860000-1642869000@trialanderror.hk
SUMMARY:繪本讀書會 @ 七分一書店@東南樓
DESCRIPTION:【Trial and Error Lab嘗試學院 「繪本創作研習班2021」導師貓珊與畢業同學分享】 \n繪本不止是兒童讀物！它們能以童語童畫，把每個人內心深處未被污染的價值觀綻放，從而治癒人心。台灣、日本以至歐美，皆盛產著名的繪本作者；那麼香港優秀的本土繪本作者，我們又認識嗎？畫家、作家才能創作屬於香港人的繪本嗎？或許有一班人能給你答案。 \n繪本作家及插畫家貓珊（袁明珊）已多次在 Trial and Error Lab嘗試學院開辦「繪本創作研習班」教授繪本創作。在剛過去的九月，第三季研習班的同學畢業了！同學未自不同背景，帶着不同的故事，課程完結時更成功誕生十一本悠悠說出生命故事的繪本。貓珊與同學們，將於「七分一書店@東南樓」舉辦讀書會，分享創作繪本的樂趣和竅門，讓人感受「當繪本替你說出生命故事」的magical moment。不要錯過這天的分享啊！ \n分享內容\n\n繪本基本解構\n怎樣才算一本好繪本\n給想嘗試創作繪本者的建議\n透過繪本，怎樣用另一個視點看世界\n現場繪本閱讀體驗，由畢業同學親自朗讀創作的繪本\n\n溫馨提示：讀書會將不會具體教授製作繪本的技巧，如你有興趣學習，歡迎報讀新一期「繪本創作研習班」 \n讀書會詳情\n\n\n\n\n	上課日期2022年1月22日（六）\n\n\n	上課時間2:00pm-4:30pm\n\n\n	地點七份一書店@東南樓\n（油麻地砵蘭街68號東南樓藝術酒店22樓）\n\n\n	費用 $80* （包括東南樓七份一書店$50現金券）\n*不設早鳥優惠\n\n\n	截止報名日期2022年1月14日（五）\n\n\n\n\n報名連結\nhttps://bit.ly/3pU4ERY \n\n分享嘉賓\n貓珊（袁明珊 ）｜繪本作家、畫家\n於英國劍橋大學取得碩士學位，主修兒童文學。現為全職繪本作家及畫家，經常繪製大型社區地圖。於2014年創辦樹木保育專頁「親愛的樹」；出版著作包括《獅子山下的黃大獅》、《最後的告別》、《iDiscover Hong Kong Guide》、《Deserve》及《小虎妹形象工作室》（日）等。曾多次於香港及海外參與展覽，2019年並於日本越後妻有大地藝術祭中的田島征三繪本美術館進行個人展覽。 \n「繪本創作研習班2020」部分畢業同學\n《Hea-做-all-ogy》Steph\n《Playing Games Under the Sea》小魚兒\n《The Miracle Stars》Corde\n《Water Town》Mandy Chan\n《再見再見》呀愛\n《沒有名字的雞》夏競業\n《你家也有OO嗎？》圓圈\n《我這麼可愛，不要嗎？》Mr. Mochi Daily\n《念》阿屎\n《尋找新家園》於琳\n《電視仔係我》阿強 \n\n「繪本創成展」 @ 七分一書店@東南樓 詳情*\n日期：8/1/2022 至 28/1/2022\n正常營業時間*：一至日 12nn-8pm#\n地址：油麻地砵蘭街68號東南樓藝術酒店22樓\n*註：「繪本創成展」只是書店內銷售作品的主題式陳列，並非一個獨立展覽\n#書店營業時間或有變動，最新消息請留意書店專頁
URL:https://trialanderror.hk/single-event/ta2022s2_picturebooktalk/
LOCATION:匠舍 Artisan Essence\, 1/F\, Breakthrough Centre\, 191 - 197 Woo Sung Street\, Jordan\, Kowloon
CATEGORIES:Event
ATTACH;FMTTYPE=image/png:https://trialanderror.hk/wp-content/uploads/2021/12/picbk-sharing_21Dec.png
END:VEVENT
END:VCALENDAR