BEGIN:VCALENDAR
VERSION:2.0
PRODID:-//Trial and Error Lab - ECPv6.1.3//NONSGML v1.0//EN
CALSCALE:GREGORIAN
METHOD:PUBLISH
X-ORIGINAL-URL:https://trialanderror.hk
X-WR-CALDESC:Events for Trial and Error Lab
REFRESH-INTERVAL;VALUE=DURATION:PT1H
X-Robots-Tag:noindex
X-PUBLISHED-TTL:PT1H
BEGIN:VTIMEZONE
TZID:Asia/Hong_Kong
BEGIN:STANDARD
TZOFFSETFROM:+0800
TZOFFSETTO:+0800
TZNAME:HKT
DTSTART:20220101T000000
END:STANDARD
END:VTIMEZONE
BEGIN:VEVENT
DTSTART;TZID=Asia/Hong_Kong:20220429T193000
DTEND;TZID=Asia/Hong_Kong:20220429T213000
DTSTAMP:20260424T232402
CREATED:20220308T033340Z
LAST-MODIFIED:20220308T085509Z
UID:70213-1651260600-1651267800@trialanderror.hk
SUMMARY:實驗課程【手作人知識產權淺談】
DESCRIPTION:課程簡介\n手作人最有可能「火山爆發」的一個moment，是你發現「疑似」自己的作品，竟然出現在另一個品牌的貨架上！ROAR！ \n設計創作最大的價值就是獨特性，如果自己嘔心瀝血的作品被人抄襲，簡直是踐踏手作人的底線。當你懷疑被人侵犯版權時，不應只停留在「谷氣」的階段，必要時需要採取法律行動！ \nTrial Academy今次請來一位經驗豐富的事務律師，與大家分享手作人怎樣保障自己的版權，還會解釋如何辨別何謂「參考」和「抄考」，以及如果真的被人「抄考」了，可以採取哪些法律行動。 \n從事創作的你，這次講座對你來說100%重要，千萬不要錯過！ \n課程重點\n\n甚麼是「知識產權」？\n參考 vs 抄考：怎樣才算是被侵犯版權？\n如何保障自己的版權？\n不同地區保障版權的處理方法\n如果發現被侵犯版權，可以採取哪些法律行動？\n個案分析和討論\n\n課程資料*\n\n\n\n\n	上課日期2022年4月29日（五）\n\n\n	上課時間7:30pm-9:30pm\n\n\n	地點網上授課\n\n\n	費用 $100\n\n\n	截止報名日期2022年4月22日（五）\n\n\n\n\n*Trial Academy 將持續觀察疫情，課堂可能因應疫情的狀況以及政策而有所更改。如有改動，Trial Academy會於開課前7日透過電郵發出通知，敬請留意。 \n報名連結\nhttps://bit.ly/3hHUzUz \n\n導師簡介\nKaren Law | 事務律師 \nKaren現職私人企業資深法務及合規顧問，擁有香港大學的法律系碩士及學士學位。她在知識產權領域擁有超過20年經驗，包括法律，合規及商業營運的範疇。2014年，她榮獲亞洲商務法律女性大獎頒授最佳知識產權管理獎。2014及2015年，她的團隊曾獲得國際著名知識產權媒體World Trademark Review《世界商標評論》，頒授中國最佳知識產權業界大獎和亞太區最佳知識產權團隊大獎。
URL:https://trialanderror.hk/single-event/ta2022s2_patentrights/
LOCATION:匠舍 Artisan Essence\, 1/F\, Breakthrough Centre\, 191 - 197 Woo Sung Street\, Jordan\, Kowloon
CATEGORIES:Trial Academy,Highlight Courses,重點推介
ATTACH;FMTTYPE=image/jpeg:https://trialanderror.hk/wp-content/uploads/2022/03/274172359_1075836469642761_8730613592080154088_n-scaled.jpeg
END:VEVENT
END:VCALENDAR