BEGIN:VCALENDAR
VERSION:2.0
PRODID:-//Trial and Error Lab - ECPv6.1.3//NONSGML v1.0//EN
CALSCALE:GREGORIAN
METHOD:PUBLISH
X-ORIGINAL-URL:https://trialanderror.hk
X-WR-CALDESC:Events for Trial and Error Lab
REFRESH-INTERVAL;VALUE=DURATION:PT1H
X-Robots-Tag:noindex
X-PUBLISHED-TTL:PT1H
BEGIN:VTIMEZONE
TZID:Asia/Hong_Kong
BEGIN:STANDARD
TZOFFSETFROM:+0800
TZOFFSETTO:+0800
TZNAME:HKT
DTSTART:20230101T000000
END:STANDARD
END:VTIMEZONE
BEGIN:VEVENT
DTSTART;VALUE=DATE:20230118
DTEND;VALUE=DATE:20230330
DTSTAMP:20260424T010018
CREATED:20221124T041146Z
LAST-MODIFIED:20230117T043730Z
UID:71429-1674000000-1680134399@trialanderror.hk
SUMMARY:【從興趣到專業：開創打動人心的插畫品牌】
DESCRIPTION:課程簡介\n品牌名？諗好，logo都畫好！\n插書技巧？成熟，已練習了三年又三年！\n產品？有，畫了一堆postcards和tote bags，仲做了最近流行的陶泥公仔！\n宣傳方法？開了IG，還報名參加市集等派卡片！\n一切準備就緒，插畫品牌可以見人了！ \n創立插畫品牌，就這樣簡單？近年，越來越多插畫品牌冒起，要作品不沉沒於百花齊放的市場中，要用心預備的事可不少。 \n今季Trial Academy嘗試學院再次請來擁有超過20年專業插畫經驗的導師，從插畫技巧、風格建立、到品牌營運、行銷推廣，一步步指導同學開創自己的插畫品牌。最後，你的品牌作品還可以展示於人眼！ \n興趣能夠變成專業，是幸福的事。想畫畫升呢，作品更多人認識，就來報名吧！ \n課程目標\n學習基本創作及插畫理論，練習不同插畫技巧，以及了解開創插畫品版的各個步驟與思考點。導師會以小組交流形式，指導每位學員起步開創具個人特色的插畫品牌。 \n課程內容\n\n課堂授課——插畫創作及品牌建立理論分享\n技巧分享——同學即場練習各種插畫技巧，在指導下建立自己的風格\n品牌實戰——從品牌形象、市場定位、產品創作，到品牌推廣，由導師指導大家逐步開創自己的插畫品牌\n小組研習——互相評賞作品，互相觀摩，刺激學習\n經驗交流——導師將過去豐富的創作經驗一一分享\n\n課程對象\n已有基本插畫基礎的朋友。有意創立個人插畫品牌，或已擁有插畫品牌並希望提升品牌成熟度的朋友（最重要你願意用三個月與我們同行學習及進步！） \n課程資料\n\n\n\n\n	上課日期2023年1月18日、2月1日、2月15日、3月1日、3月15日、3月29日（三）\n\n\n	上課時間7:30pm-9:30pm\n\n\n	地點Trial and Error Lab*\n\n\n	費用 $1800 （於12月16日或以前報名，可享有85折早鳥優惠，以$1530報讀課程）\n\n\n	截止報名日期2023年1月11日（三）\n\n\n\n\n*Trial Academy 將持續觀察疫情，課堂將因應疫情的狀況以及政府分佈的限聚令安排，有機會改為網上授課。如有改動，Trial Academy會於開課前7日透過電郵發出通知，敬請留意。 \n其他事項\n參加者需自備畫具、iPad或手提電腦作課堂插畫實習之用。 \n報名連結\nhttps://bit.ly/3VaKpOI \n\n導師簡介\n伍尚豪（Peter Ng）｜拍拍手創作室創意總監｜插畫 x 人物設計 x 動畫創作人 \nPeter是插畫動畫創作狂熱分子，亦是香港插畫師協會前任會長及現任會員。於1997年憑《三文魚先生》的第三屆香港獨立短片及影像比賽（ ifva ）動畫組金獎， 2001年再憑《蒲公英》奪得IFVA動畫組銀獎。2004年於香港匯豐銀行和香港文化博物館合辦的「我的香港鈔票」設計比賽中榮獲冠軍。2005年獲香港藝術中心邀請，聯同其他8個動畫單位為「i-city Festival」製作動畫電影，其創作之短片為〈我的燕子〉。 \nPeter最為人樂道的，是參與《芝SEE菇BI FAMILY》「苦榮」和「小苦妹」的人物設計及漫畫創作。之後亦為香港社會福利處、LEVI’S及NOKIA等作動畫或角色設計。現為香港社會福利署「凝聚家庭、齊抗暴力」宣傳運動人物設計及動畫創作「火爆家族」原創者。
URL:https://trialanderror.hk/single-event/ta2022s3_illustration_advance-2/
LOCATION:匠舍 Artisan Essence\, 1/F\, Breakthrough Centre\, 191 - 197 Woo Sung Street\, Jordan\, Kowloon
ATTACH;FMTTYPE=image/png:https://trialanderror.hk/wp-content/uploads/2022/11/內容行銷實戰_visual.png
END:VEVENT
END:VCALENDAR