BEGIN:VCALENDAR
VERSION:2.0
PRODID:-//Trial and Error Lab - ECPv6.1.3//NONSGML v1.0//EN
CALSCALE:GREGORIAN
METHOD:PUBLISH
X-WR-CALNAME:Trial and Error Lab
X-ORIGINAL-URL:https://trialanderror.hk
X-WR-CALDESC:Events for Trial and Error Lab
REFRESH-INTERVAL;VALUE=DURATION:PT1H
X-Robots-Tag:noindex
X-PUBLISHED-TTL:PT1H
BEGIN:VTIMEZONE
TZID:Asia/Hong_Kong
BEGIN:STANDARD
TZOFFSETFROM:+0800
TZOFFSETTO:+0800
TZNAME:HKT
DTSTART:20230101T000000
END:STANDARD
END:VTIMEZONE
BEGIN:VEVENT
DTSTART;TZID=Asia/Hong_Kong:20230828T110000
DTEND;TZID=Asia/Hong_Kong:20230910T200000
DTSTAMP:20260421T124824
CREATED:20230804T103711Z
LAST-MODIFIED:20230909T050547Z
UID:71933-1693220400-1694376000@trialanderror.hk
SUMMARY:繪本及立體書創成展【展期結束】
DESCRIPTION:今年年頭，繪本研習班和立體書研習班的同學都畢業了！同學來自不同背景，帶着不同的故事，課程完結時成功創作出八本悠悠說出生命故事的繪本及五本充滿動感驚喜的立體書。 \n要了解到大家不同的故事，就要來繪本及立體書創成展！免費入場！ \n展覽開放時間\n\n\n\n\n	活動日期8月28日- 9月10日（一至日）\n\n\n	活動時間11:00 - 20:00\n\n\n	地點Trial and Error Lab （佐敦吳松街191號突破中心1樓）\n\n\n	費用 免費\n\n\n\n\n繪本展作品簡介\n\n《小螞蟻與風信子》\n圖文：彭樂謙 \n透過小螞蟻的視角，讓我們共同感受生命所帶來的豐盈，也學習面對老去、疾病和死亡時無奈的心情。藉由小螞蟻與風信子的生命旅程，使我們體會生命的脈動，反思生命的意義，感受其中的溫暖和啟示。 \n\n《交換禮物》\n圖文：Mormor Chan \n一年一度的聖誕派對又到了， 小動物們今年決定搞搞新意思，交換特別的禮物。 到底會發生什麼事呢？ \n\n《沒關係》\n圖文：Ling \n有些時刻會陷入自我懷疑…焦慮…疑惑， 這個時候， 請試著對自己說一句「沒關係」 。 \n\n《MEow TIME – Ball the Cat》\n圖文：Elmo the Hooooman \n一隻住係工作室嘅橘貓嘅一日。 \n\n《籠中鳥》\n圖文：Becky \n一隻生活在田野自由飛翔的小鳥，意外被關在籠內。 一隻生活在籠子被供養的小鳥，意外脫籠而出。 究竟誰的生活最美好，誰的選擇最正確，只有活在其中才能明白。 表達自由的重要，自由是要付出勇氣，勇於嘗試，堅持到底。 \n\n《不笑的貓》\n圖文：林之 \n一頭貓，從來不會笑。 牠遇上一個人，也從來不會笑。 相似的際遇，讓他們相遇再流離失所。 交疊的命運，叫他們重逢再相濡以沫。 貓，從此會笑嗎？ \n\n《你看見嗎？》\n圖文：徐痴筋 \n「兒子，你快來看！」 「爸爸，走慢點吧！我褲子快掉下了。」 離開香港前，爸爸帶兒子回到小時候居住的社區。 回憶，遊賞，道別。 一急一慢，一個回味過去，一個幻想未來。 至於眼前擦身的互動，微妙的差異，你又看見嗎？ \n\n《Deserve》\n圖文：貓珊 \n因為邪惡的人類，來自繁殖場的貴婦狗Rosie，與及從船塢救回來的薑黃色唐狗德仔，一同失去自由。 亦因為善良的人類，Rosie與德仔最終嘗到被愛的快樂。 他們的經歷代表了香港千千萬萬隻貓仔和狗仔的故事，亦代表千千萬萬個期待被拯救的心聲。 \n立體書展作品簡介\n\n \n《環抱》\n圖文：羅永芳 (Winnie Law)\n這本隧道書是為我的媽媽而創作的。 在媽媽患病後，有一晚我們在床上徹夜傾談心事，那是我第一次聆聽她的一生。年少時的我不成熟，不解媽媽的苦心，現在才明白是她用愛環抱著這個家，為我們付出犧牲了很多，期望日後由我們環抱著媽媽，讓妳感受滿足的愛，天天都幸福！ \n《ꌗꀎꂵ꒒ꀎꂵ ꀎꂵ꒒ꂦꈤ ꓄ꀎꈤꁅꂵꍏꀤ ꀸꍏꌩ꓄ꂦ》\n圖文：Jason \n以奇幻森林探險為主題的立體書，當中每頁的裝置獨特，帶你體驗燃煮野外美食的樂趣，感受森林的寧靜和生命力。然而，這裡也充滿未知的危險，奇異生物和陷阱無處不在。此書不僅是閱讀的饗宴，更是一場視覺與心靈的冒險。期望你成為森林的探險者，與我們一起走進這片未知而奇幻的森林。 \n\n《一齊學索米語》\n圖文：青瓜 \n索米語是宣教士妮高 服待的地方所用的語言。 索米語即是阿拉伯文， 它有趣的地方是由右往左書寫閱讀。 \n \n《共生》\n圖文：Mandy Chan \n人與動物，可以共同存在於同一個空間嗎？已經發生的憾事又能否逆轉？ 這是一本能順向和逆向的小書，來翻開看看吧。 \n\n《下一站屋企》\n圖文：天藍 \n魚仔是個熱愛交通工具的小朋友，這天他用手工材料製作了一輛地鐵，列車居然飛了起來，魚仔乘坐著它展開有趣的冒險。途中他偶遇了不少迷路的小動物，作為一個小車長，他決定協助不同的動物回家，下一站又是誰的屋企呢？ \n\n關於 Trial and Error Fest 2023\nTrial and Error Lab每年招募有志投身文創產業的青年（稱為實驗室伙伴），透過提供共享工作空間、培訓，以及創意企劃，讓他們實踐職志。每年舉辦大型活動Trial and Error Fest，讓公眾認識青年的試錯成果，同時藉此推動勇於嘗試、敢於撞板的社會氣氛。今年的主題為「嘗試直至我們找到出路」，也是Trial and Error Lab的格言。作為Trial and Error Lab轉型前最後一次的Fest，今年不但有手作工藝師的展覽，也有「嘗試學院」的學員分享他們的繪本及立體書作品，以及在課程後繼續研發的桌遊和工作坊，更有舊Lab Fellow和現居英國的工藝師分享在海外的所見所聞。以上的種種均見証我們過去7年與手作工藝師同行的成果，也鼓勵我們勇敢嘗試，繼續走下一里路。
URL:https://trialanderror.hk/single-event/%e5%a0%85%e6%8c%81%e5%a0%85%e6%8c%81%e5%a0%85%e6%8c%81%ef%bc%81%ef%bc%88%e4%bd%86%e4%b8%8d%e6%98%af%e8%90%8c%e5%a1%9e%ef%bc%81%ef%bc%89%ef%bd%9c%e7%b9%aa%e6%9c%ac%e5%8f%8a%e7%ab%8b%e9%ab%94%e6%9b%b8/
LOCATION:匠舍 Artisan Essence\, 1/F\, Breakthrough Centre\, 191 - 197 Woo Sung Street\, Jordan\, Kowloon
ATTACH;FMTTYPE=image/png:https://trialanderror.hk/wp-content/uploads/2023/08/7.png
END:VEVENT
BEGIN:VEVENT
DTSTART;TZID=Asia/Hong_Kong:20230828T110000
DTEND;TZID=Asia/Hong_Kong:20230910T200000
DTSTAMP:20260421T124824
CREATED:20230804T105942Z
LAST-MODIFIED:20230817T035733Z
UID:71941-1693220400-1694376000@trialanderror.hk
SUMMARY:365日嘗試成果展覽│#唔試唔知做得到
DESCRIPTION:Trial and Error Fest 是一個每年的公眾活動，也是一個平台讓 Trial and Error Lab 計劃參加者（稱「實驗室伙伴」）展示其試錯成果。今年將有12個「實驗室伙伴」單位以展覽的形式呈現過去一年的成長與創作。在不斷嘗試、失敗、再嘗試的歷程中，「完美」或許遙不可及，然而創作時所經歷的自由與快樂，卻是可觸及的出路。 \n展覽開放時間\n\n\n\n\n	日期2023年8月28日至9月10日（一至日）\n\n\n	時間11am-8pm\n\n\n	地點佐敦吳松街191號突破中心1樓及地下走廊\n\n\n	費用\n免費參觀\n\n\n\n\n展覽介紹\n\n獨。Doku @Trial and Error Lab\n \n這次展覽將以印章加上拼圖的形式表達面對孤獨的方程式。希望看展覽的人也可以分享自己面對孤獨的方法，反思：「孤獨是一種毒嗎？」 \n這一年我經歷了親人離世和友情巨變，加上身邊的朋友或認識的人都決定移民到其他地方展開新生活，因而令我得到很多獨處的時間。而這一年我的駐場工作枱也剛好位於實驗室中最遠離人群的角落，不知不覺間，我用了一年時間沈澱「何為孤獨？孤獨有毒嗎？」 是故展覽以「獨。Doku」為題。日文的「獨」跟「毒」讀音也可以是どく(Doku)。很多時候，大家也覺得孤獨是一種毒，於是決定使用這語帶相關的讀音。 展覽將會以印章加上拼圖的形式，集結出九種我孤獨時會做的事情，提醒自己孤獨的「毒性」最終是取決於自己內心。同場設有互動區域，讓大家分享自己面對孤獨的方法。 \n\nIris Ip\nA Little Message是一個手作印章品牌。當初為了給朋友製作心意卡而開始接觸及自學刻章。及後發現刻章能帶給自己一個逃離世界的空間，於是開始鑽研刻章。在建立品牌時，想起「原本為了向朋友表達小小心意而接觸刻章」的初心，結合「認為每顆小小的印章都是訊息的載體」的理念，決定把品牌命名為A Little Message，以創作的主角「花生熊」與「阿刺」的印章，誘發每個人的童心，忘卻現實，自由自在地在創作世界裡飛翔。 \n\n\n延 @Trial and Error Lab\n\n \n上年的成果展概念進程，由香港開始，慢慢聚焦到朋友、家人，從大聚焦最後到自己。 今年的成果展將會延續自己的部份，不論新舊記憶，人生歷史會長留心中，沒有人能上訴且強行刪除記憶，沒有人能刪除歷史成就的「我」。 \n\nJamar Lam\n曾為平面設計師，於2014年12月開始皮革創作並成立了名為「小皮気」的獨立品牌。有別於一般以功能作主打的皮革創作，「小皮気」一直挑戰皮革的可能性，並以拼貼及立體皮革處理作為創作主題，革新了大家對皮革創作的想像。創立品牌後，參與過無數本地及海外的大型市集活動，通過跟參與者和客人的對話，再把其故事加入創作之中，從而進一步發掘皮革更多的可塑性。期望將來能繼續鑽研皮革工藝並以傳承此文化作為長遠目標。 \n\nThe path to Love @Trial and Error Lab\n\n  \n「The path to Paradise begins in Hell」 （往天堂的路由地獄開始） 以但丁《神曲》地獄、煉獄與天堂三部曲為題材，從中探索創作新方向。 \n《神曲》是一本驚世巨著，在閱讀當中可以重新審視道德及價值觀。而創作上亦嘗試把三部曲的故事放入人生不同階段及處境，以「經歷、放下、愛與快樂」為創作元素，創作出不同的角色及立體作品。 上年《begins in Hell》作品展，先從地獄出發，用十多件立體創作帶大家遊覽地獄。今年加入全新的煉獄及天堂篇作品，三部曲一併展出作為兩年的回顧。 \n\nKinka Yau\nKinka Yau 熱愛立體雕塑及玩具創作。於2020年成立品牌「KINKA Studio」。主要作品為「吶喊南瓜—Kabo」，概念講述一個失意人，因為透過接觸藝術，模仿藝術作品，從而找到人生樂趣。另一重要作品「角島—Matata」，概念源於犀牛不斷被殺害，驚動了沉睡多年的角——Matata；Matata決定前往各地拯救犀牛族群，為犀牛族群帶來一塊樂土。KINKA Studio希望用玩具作品，帶給人快樂以及傳遞正面訊息。 \n\n  \n從目 @Trial and Error Lab\n \n \n木船漂泊，\n坐客悵惘，\n人與船同樣迷失。\n穿越非人類空間，\n固有虹膜被入侵，\n易轉視角，\n森林，\n海洋，\n生物的眼睛，\n順從眼睛所見之景，\n會是何樣。 \n在我們的空間，\n每日都有物種滅絕，\n當物種只能用自己的身軀去証實存在於世上，\n或許可以用其他方法，\n去記錄生物的軌跡，\n以此做藍圖，\n再以自身所想像的故事創作描述，\n用這種敍述方式証明它們在世上活過。 \n\nMaggie Wong\nMaggie Wong（黃皓怡）於香港成長，修讀平面設計與藝術課程，現為全職插畫師，曾為不同品牌繪畫即時人像畫和小說創作插圖。數年前於愛爾蘭和日本兩個文化迥異的國度生活，回港後專注創作，在多種文化衝擊下，希望用繪畫來表達內心一種難以言喻的心情與不安的感覺於畫紙上，透過畫作抒發自身在思想上的糾結。Maggie的作品曾於加拿大、日本等地展出，作品更獲選「第一屆香港國際水彩雙年展《愛在一起》」的入圍名單與日本IJA Illustrators’s Association所舉辦的「JIA Illustration Award 2016」的提名名單。她喜歡以水彩的多層重疊法和偏向淡然的色彩來繪畫，令作品有種靜謐感覺。除了水彩運用，也會使用水粉彩、乾粉彩、木炭、鉛筆、墨水等進行不同創作。 \n  \n\n陽光散落的日子 @Trial and Error Lab\n \n最念掛的事情，往往要事過境遷才懂。 我32歲的時候，我家的外傭在我家工作32年。同年深秋，因為嫲嫲過身，她要到新雇主家工作了。外傭有個外字，但她不是外人，又不是家人，是親密的陌生人？是永遠有距離的屋企人？ 在她離開前，我陪她度過了尋常片刻，摘了一片陽光散落。 \n\nTill We Meet Production\n“Till we meet Production”是一家立足香港的影像製作公司，由資深媒體人成立。 \n我們相信所有影像及製作工作都是一次難得的相遇。與人相見，與經歷交集，與美麗美好的事物相逢並共同奮鬥，這是我們開始創作的初衷。在離散的時代，不論是個人或時勢所促成，我們不得不說再見，只是我一直堅信，所有的分離，皆是為了未來更美好的重聚。 \nTill we meet，在下次相遇之前，希望我們都有成為一個更好的人。 \n\n  \n花植年記：一年感動與體悟 @Trial and Error Lab\n \n \n以代表著各fellow和管理員的植物而生的花園圖案，記錄這一年在Lab與各人相處及工作時的心情和當中所帶來的啟發。 \n進駐一年間，在Lab工作時大家常常寧靜地在座位上工作，我們彷彿各自發光發熱，但卻互相取暖推動。作品透過花代表各fellow，而Lab這個空間就變成花園，喻意fellow的16種植物在花園中一起成長綻放。我們如花卉般獨特綻放，亦如花朵般有各自的開花時節。我們人亦一樣，擁有自己人生的時間表，只要大家跟著自己的步伐前進就好。 \n圖案中，16種花的位置跟據平常在Lab大家在我身邊的方位而分布。花類選擇方面，會根據自己跟fellow的互動經歷或是fellow給我的感覺而選擇代表他/她的植物。觀者可以同時欣賞整個花園圖案，也可以聚焦於各個獨立的花卉圖案。 \n展覽記錄了成為fellow的回憶，希望我們各人即使離開了Lab，仍能把這一年的時光成為日後創作的養分。 \n\nWing\nPattern可以解做圖案，亦可以解作模式，Wing希望可以「用圖案陪伴大家搵到喜歡嘅模式」。Patterntone由2018年開始營運，用不同種類的Pattern推出手縫筆記簿、貼紙同紙膠帶等等嘅產品。香港社會著重每個人要一樣，只要自己的模式（Pattern）與人不同就會感到惶恐，但最後發現人人都可以有唔同，活出自己！ \n\n  \n家 __ @Trial and Error Lab\n \n \n透過「家」的創作，找尋心中最重要的「家__」 \n如若你想起「家」，你認爲最重要的是甚麽？ 經歷過親人離世、獨自生活，生活必須忙到連療傷的片刻都沒有，心裏才能恍如平靜。 \n但卻發現沒有了生活的本質，重新審視家中，才發現原來三人座的沙發廣闊得可怕，仿佛身邊總是欠缺了甚麽。這份欠缺可能是説不出的感覺、難以描述的人。 若是你，會用哪一種方法來填補那一些空虛？ 你找到了在家中對你來說最重要的東西嗎？ \n\nSky\n在各地遊歷時，littleskyhandcraft 品牌創辦人Sky偶爾認識到曼達拉繞線編織工藝，多番嘗試之後，愛上了此工藝。因為在遇到困難與挫折的時候，發現透過繞線編織的過程，運用配色組合及線條交織來表達當下的心境及想法，創作出能療癒自己的作品。亦希望加以創作發掘此傳統工藝更多的可能性，融入大 家的日常生活中，如:吊墜、時鐘等，讓生活充滿療癒與藝術的色彩。 \n\n\n繋ぐ （Tsu na gu） @Trial and Error Lab\n \n \n展出製作皮革的過程，帶出製作一個好的皮革作品，每個步驟都環環相扣，互相影響。 \n繋ぐ是連接的意思，由最一開始紙樣設計到製作皮革作品的步驟（例如，裁皮、削薄、縫線等），作品的展出除了希望更多人了解製作皮革所需的步驟，亦想帶出每個步驟如何環環相扣，影響最後的成品。 \n\nJeff\nAoi Leathercraft—— Aoi的日文是「青い」，藍色的意思，品牌的目的是希望以各種藍色的皮料配搭找出屬於你個性的皮革製品。製作植鞣皮革製品，皮料會採用意大利、英國等頂級的植鞣皮革，每款皮革都有其獨特之處，再配以細緻的手工，希望能以高品質的皮革和手工帶給同樣喜歡藍色的你。 \n  \n\n從維多利亞時期借來的一年 A Year Borrowed from the Victorian Era @Trial and Error Lab\n \n \n以維多利亞時期歐洲流行的梭織工藝，結合現代蕾絲設計，升級再造家中甚少穿而狀態仍良好的衣物。 \n維多利亞女皇時期正值工業革命的高峰，家用衣車的發明，更令許多女性可自行將衣服改得合身合時。\n同一時間歐洲不同國家流行起以梭織將線編成蕾絲裝飾衣領或手帕圍邊，這是一個相當花時間的工藝，至今亦只能人手製作，不能以機器複製。 \n我們從維多利亞時期借來了一年，這一年，以梭織編成蕾絲，活化家中三件衣物。嘗試以不同風格製作，有日常的也有較正式的，僅僅編織的部份花上了數百小時。這段時間沈澱自己的心態和想法，明白衣服本來就是要花時間心力製作，不論是因潮流過了或質素差而穿幾次就丟掉是件很浪費的事，所以才要選擇經得起時間考驗的衣服。 \n\nCleo & Sincere\nCleotatra的創辦人Cleo和Sincere，分別因為想分享梭織作品，以及想嘗試經營品牌，而走在一起。 \nCleotatra主打原創梭織喱士飾物，Cleo主力設計與製作，Sincere則主要負責影相與打理Instagram帳戶。Cleo和Sincere用上埃及妖后Cleopatra的名字，作為品牌名稱，希望自家設計的梭織飾物，能令配戴飾物的人，不用局限於任何刻板印象，如她一樣，活出自己，發光發亮。 \n  \n\n枝態 Fermata: Stillness in Transition @Trial and Error Lab\n\n \n生命有序，花開有時。 \n作品借花在生命週期中呈現的各樣姿態 —— 幼苗、萌芽、盛放、凋零、結果，來比擬我們生命的高低起伏。而在生命輪子中經歷的變化，正在為即將來臨的時刻累積養分。 \n邀請你細心察看花叢裏野花野草的形態 ——\n你第一眼看到的是甚麼…\n它的形態怎樣…\n你們的狀態相似嗎…… \n期望讓你知道處於當下的自己，或好或壞，都值得温柔以待；\n目前的經歷正在引領你通往下個階段，請駐足停留，慢慢細味吧 —— \nEverything happens for a reason. \nSprouts undergo harsh sunlight and heavy rain to grow stronger;\nFlowers wither and give rise to fruits;\nFruits fall off so that lives go on. \nLife begins again\, and so do we. \nEvery encounter leads us to another stage.\nLet us pause\, observe and embrace the particular moment we live in.\nAllow in the flourish they bring. \n\nAmanda Tang \n於2022年成立的da HERS 是一個以花為創作主軸的紙品品牌，集中以插畫、多元的手工藝方式製作成「花材」，將花不同形態保存起來，希望打破呢種固有嘅送禮文化！送禮唔需要特別日子，平日亦都可以以花作為買小禮物給自己或朋友作為獎勵，作為日常生活的獎例。 \n\n  \n軌跡 @Trial and Error Lab \n \n \n人生漫漫長路，每個人選擇的職業或想過的人生都不一樣，有人《順風》順水可以做到理想的工作，\n走著《點對點》的道路；有人跌跌碰碰都仍然在尋找到自己，中途經歷過很多《交叉點》；\n亦有人向現實低頭，被社會變得麻木，漸漸忘記自己留下過的《痕迹》。 \n到底做環保是一條順風還是逆風的路？\n你又會怎麼看待做環保產品和行業的有心人呢？\n希望你們可以在展覽中尋找到自己的答案。\n \n\nCharlotte Wong \nWind.n.sand主打環保咖啡粉囊手作飾物，推廣”upcycling”的concept，所有款式設計都由店主自己創作，由洗粉囊到成品包裝，由廢物變到又靚又有用又keep得很久的飾物。同時，亦會配合鐵線創作，即使款式一樣，咖啡粉囊的顏色變化，也可以使成品有耳目一新的感覺，令大家每日都戴著一個意義係身上——了解到 ”Waste is never a waste until you waste it” ，每個人都有能力去賦予物件意義！ \n  \n\n也許我們真的消失在人海了。 @突破中心地下 \n\n\n\n展覽「也許我們真的消失在人海了。」將會展示我對於人海的概念。 \n大部分畫作以圓形畫框呈現，如同在船裏底層的窗口，從窗口望出去的海底， \n浮沉着被消失在人海的各種片段和記憶。 \n願我們在這一趟船程經過人海，隨人浪向前翻，都能乘風破浪，到達對岸。 \n\nDaniel Cheung \nDaniel.C 是一個插畫品牌。主要繪畫圍繞水的故事，由一位藍髮男孩帶領大家探索這個世界。插畫以藍綠色調為主，想跟大家分享這種舒適而寧靜的色調，通過水呈現一些不同的話題，故事和被忽略的東西等 \n\n\n\n\n有關 Trial and Error Fest 2023\nTrial and Error Lab每年招募有志投身文創產業的青年（稱為實驗室伙伴），透過提供共享工作空間、培訓，以及創意企劃，讓他們實踐職志。每年舉辦大型活動Trial and Error Fest，讓公眾認識青年的試錯成果，同時藉此推動勇於嘗試、敢於撞板的社會氣氛。今年的主題為「嘗試直至我們找到出路」，也是Trial and Error Lab的格言。作為Trial and Error Lab轉型前最後一次的Fest，今年不但有手作工藝師的展覽，也有「嘗試學院」的學員分享他們的繪本及立體書作品，以及在課程後繼續研發的桌遊和工作坊，更有舊Lab Fellow和現居英國的工藝師分享在海外的所見所聞。以上的種種均見証我們過去7年與手作工藝師同行的成果，也鼓勵我們勇敢嘗試，繼續走下一里路。
URL:https://trialanderror.hk/single-event/%e5%94%94%e8%a9%a6%e5%94%94%e7%9f%a5%e5%81%9a%e5%be%97%e5%88%b0%ef%bd%9c365%e6%97%a5%e5%98%97%e8%a9%a6%e6%88%90%e6%9e%9c%e5%b1%95%e8%a6%bd/
LOCATION:匠舍 Artisan Essence\, 1/F\, Breakthrough Centre\, 191 - 197 Woo Sung Street\, Jordan\, Kowloon
ATTACH;FMTTYPE=image/jpeg:https://trialanderror.hk/wp-content/uploads/2023/08/1.jpg
END:VEVENT
BEGIN:VEVENT
DTSTART;TZID=Asia/Hong_Kong:20230903T110000
DTEND;TZID=Asia/Hong_Kong:20230903T130000
DTSTAMP:20260421T124824
CREATED:20230804T105917Z
LAST-MODIFIED:20230808T090528Z
UID:71936-1693738800-1693746000@trialanderror.hk
SUMMARY:紙膠帶拼貼畫工作坊│#諗多兩吓，條條大路通羅馬
DESCRIPTION:#千變萬化的道路\n紙膠帶一向深受「文具控」的收藏及愛戴，近年不少海外地方開始利用紙膠帶拼貼成畫作，實現出千變萬化的色彩。而香港亦有創作者以這一種媒體進行創作！ 話說Trial and Error Lab的前Lab Fellow Terrence 成立品牌香港紙膠帶，透過紙膠帶，記錄香港周邊慢慢失去的獨有文化，包括獨有的交通工具、交通標誌、語言、字句等。後來Terrence唔單單設計紙膠帶，更加利用紙膠帶痴出一本又一本繪本！令到繪本由2D的書搖身一變成為有質感有靈魂的繪本！ \n#創作者的Trial and Error\n品牌創立後，當然不會是「一帆風順」，看似成功的背後，亦有跌跌撞撞的時候。 這一次的工作坊，Terrence除咗會教導參與者創作畫作以外，更會分享創作品牌過程中的辛酸，以及他如何經歷無數的調節，找到品牌獨一無二的出路。 \n分享內容\n– 認識Terrence的創作以及他以拼貼畫突破創作樽頸的經歷\n– 學習紙膠帶拼貼的工具和技巧，並拼貼自己熟悉的旅行風景畫\n– 認識閱讀繪本的樂趣 \n對象\n– 好奇文創品牌，由零開始創立的細節\n– 想了解如何面對手作人樽頸的人\n– 喜歡繪本創作的人 \n導師介紹\nTerrence Chan\n經營品牌「香港紙膠帶 HKMT」，希望透過紙膠帶設計，記錄周邊慢慢失去的獨有文化，包括香港獨有的景物、交通工具、語言及字句等。曾以紙膠帶創作繪本《行山看風景》、《我間屋唔夠住》、《 我的快樂時代》及《在葵涌散一次步》。 \n品牌介紹：https://trialanderror.hk/fellows/hkmt \n活動詳情\n\n\n\n\n	日期2023年9月3日（日）\n\n\n	時間11:00 - 13:00\n\n\n\n	地點佐敦吳松街191號突破中心1樓\n\n\n	人數15人\n\n\n	費用$200/人\n\n\n	截止報名日期2023年8月30日\n\n\n\n\n活動報名：\nhttps://shorturl.at/chiA5\n \n\n關於 Trial and Error Fest 2023\nTrial and Error Lab每年招募有志投身文創產業的青年（稱為實驗室伙伴），透過提供共享工作空間、培訓，以及創意企劃，讓他們實踐職志。每年舉辦大型活動Trial and Error Fest，讓公眾認識青年的試錯成果，同時藉此推動勇於嘗試、敢於撞板的社會氣氛。今年的主題為「嘗試直至我們找到出路」，也是Trial and Error Lab的格言。作為Trial and Error Lab轉型前最後一次的Fest，今年不但有手作工藝師的展覽，也有「嘗試學院」的學員分享他們的繪本及立體書作品，以及在課程後繼續研發的桌遊和工作坊，更有舊Lab Fellow和現居英國的工藝師分享在海外的所見所聞。以上的種種均見証我們過去7年與手作工藝師同行的成果，也鼓勵我們勇敢嘗試，繼續走下一里路。
URL:https://trialanderror.hk/single-event/%e8%ab%97%e5%a4%9a%e5%85%a9%e5%90%93%ef%bc%8c%e6%a2%9d%e6%a2%9d%e5%a4%a7%e8%b7%af%e9%80%9a%e7%be%85%e9%a6%ac%ef%bd%9c%e7%b4%99%e8%86%a0%e5%b8%b6%e6%8b%bc%e8%b2%bc%e7%95%ab%e5%b7%a5%e4%bd%9c%e5%9d%8a/
LOCATION:匠舍 Artisan Essence\, 1/F\, Breakthrough Centre\, 191 - 197 Woo Sung Street\, Jordan\, Kowloon
ATTACH;FMTTYPE=image/jpeg:https://trialanderror.hk/wp-content/uploads/2023/08/CK班-1.jpg
END:VEVENT
BEGIN:VEVENT
DTSTART;TZID=Asia/Hong_Kong:20230909T150000
DTEND;TZID=Asia/Hong_Kong:20230909T170000
DTSTAMP:20260421T124824
CREATED:20230804T105410Z
LAST-MODIFIED:20230808T090432Z
UID:71932-1694271600-1694278800@trialanderror.hk
SUMMARY:文創手作海外取經會│#記住你的初衷
DESCRIPTION:#走出香港\n文創界一直在世界各地有不同的發展，趁「後疫情年代」各國各地開關復常，香港有不少手作人將目光放到海外的市場，特意飛到海外，參與文創市集/ 展會，希望可以突破手作品牌的瓶頸，或是認識海外文創手作市場的機會。 \n當然，參與海外的展會或市集，不只是一個旅行，更是講求手作人的臨場發揮及經驗。所以，當中有不少需要考慮的因素。這一次的海外取經會，邀請兩位文創手作人分享在外地參與市集及展會需要留意的事情，讓我們看見文創的世界何其大，經營方法何其多。 \n無論我們的市場在本地又好，在海外也好，願我們有膽量行出去，有胸襟睇遠啲，最重要勿忘做手作工藝的初衷！ \n分享內容\n– 簡介海外手作市集和展會，要注意的事項和活動特色\n– 海外文創市集/ 展會 的情況，以及當地人對文創作品的小觀察\n– 海外的文創市場值得本地學習的地方，給想到海外參與的朋友的實用建議！ \n對象\n – 有意參與海外市集或展會的人士\n– 品牌遇上瓶頸的手作人\n– 有興趣了解海外文創世界的人 \n嘉賓\nMandy\n她是香港西洋書法及畫家，同時亦是西洋書法及插畫品牌Mstandforc的主理人。曾在2019年及2020年受邀於香港三聯書店與誠品書店分別展出《微縮世界》及《3cm的微縮世界》個人水彩風景畫作品展，以微型畫記錄旅遊故事。 \n另外亦曾在 2020年展出以全球暖化為主題的《末頂》水彩畫展，並於2021年在中環迷你酒店舉行《微縮世界博物館》個展及在2023年首次於台灣舉辦首個海外個人水彩畫展《微縮世界—旅行的悸動》。其作品亦曾在台灣、日本、韓國及上海等地展出。 \n品牌介紹：https://www.facebook.com/mstandforc\nInstagram：https://instagram.com/thetinymc \nChloe\n土生土長香港插畫家。從事市場推廣多達十年，2014年接觸城市速寫，2016年赴德國工作假期，透過城市速寫認識到不同文化及生活態度，回港後開始參與插畫項目。 2021年移居英國，去年開始參加市集擺攤，一年間曾參與5個不同的市集。 \n品牌介紹：https://www.instagram.com/october.fourteenth \n活動詳情\n\n\n\n\n	日期2023年9月9日（六）\n\n\n	時間15:00 - 17:00\n\n\n	地點Trial and Error Lab （佐敦吳松街191號突破中心1樓）\n\n\n	費用 $130/ 人\n\n\n	人數30人 \n\n\n	截止報名日期2023年8月30日\n\n\n\n\n活動報名：\nhttps://shorturl.at/chiA5\n \n\n關於 Trial and Error Fest 2023\nTrial and Error Lab每年招募有志投身文創產業的青年（稱為實驗室伙伴），透過提供共享工作空間、培訓，以及創意企劃，讓他們實踐職志。每年舉辦大型活動Trial and Error Fest，讓公眾認識青年的試錯成果，同時藉此推動勇於嘗試、敢於撞板的社會氣氛。今年的主題為「嘗試直至我們找到出路」，也是Trial and Error Lab的格言。作為Trial and Error Lab轉型前最後一次的Fest，今年不但有手作工藝師的展覽，也有「嘗試學院」的學員分享他們的繪本及立體書作品，以及在課程後繼續研發的桌遊和工作坊，更有舊Lab Fellow和現居英國的工藝師分享在海外的所見所聞。以上的種種均見証我們過去7年與手作工藝師同行的成果，也鼓勵我們勇敢嘗試，繼續走下一里路。
URL:https://trialanderror.hk/single-event/%e8%a1%8c%e5%87%ba%e5%8e%bb%ef%bc%8c%e7%9d%87%e9%81%a0%e5%95%b2%ef%bd%9c%e6%96%87%e5%89%b5%e6%89%8b%e4%bd%9c%e6%b5%b7%e5%a4%96%e5%8f%96%e7%b6%93%e6%9c%83/
LOCATION:匠舍 Artisan Essence\, 1/F\, Breakthrough Centre\, 191 - 197 Woo Sung Street\, Jordan\, Kowloon
ATTACH;FMTTYPE=image/jpeg:https://trialanderror.hk/wp-content/uploads/2023/08/海外取經會.jpg
END:VEVENT
BEGIN:VEVENT
DTSTART;TZID=Asia/Hong_Kong:20230910T150000
DTEND;TZID=Asia/Hong_Kong:20230910T163000
DTSTAMP:20260421T124824
CREATED:20230804T110013Z
LAST-MODIFIED:20230810T094801Z
UID:71934-1694358000-1694363400@trialanderror.hk
SUMMARY:7年Trial & Error結集成書分享會│#係好係醜，唔好呃自己接受
DESCRIPTION:Trial and Error Lab自2016年成立，最初開展計劃時，只是抱著實驗心態，帶著一個問題開始：「如果有地方讓年輕人做嘗試，到底會有甚麼事情發生呢？」 \n計劃發展至今，已經走過7年的日子。我們這場實驗認識了不少青年文創工藝師，與他們同行、成長，甚至扭鬥（！），我們有很多的學習，也被他們勇於追尋職志的熱誠打動。我們把這些trial and error的故事，以及推動人做新嘗試的小觀察，都一一記錄成書。 \n今次的分享會將由Trial and Error Lab的Co-Founder 王育娟（即管理員阿絹）分享Lab這場實驗的起始，另外，亦都邀請 @grew_from_hands 創辦人，前Lab Fellow阿富，分享在Lab生活點滴及試錯故事。\n \n分享內容\n– Trial and Error Lab的前世今生\n– 3個鼓勵人敢於嘗試的3個元素\n– 進駐的Lab Fellow如何尋找多元出路 \n對象\n– 有意推動創新意念的公眾人士\n– 對多元職志有興趣的人士\n– 擁抱試錯精神的人 \n嘉賓\n\n阿絹\nTrial and Error Lab 管理員\n \n阿富\n@Grew from hands \n經營皮革手作品牌「@grew_from_hands」，產品一般覆蓋日常用品如銀包，書套等，設計則以簡約為主。 \n期望不是只顧銷售皮革產品，而是把皮革和手作工藝推廣。因此，除自家製產品外，亦與其他社會服務機構合辦皮革班；期望藉此建立一個互相交流及互助的平台，並透過參加市集或墟市等活動，讓同學融入社會。 \n活動詳情 \n\n\n\n\n	活動日期2023年9月10日 （日)\n\n\n	活動時間15:00 - 16:30\n\n\n	地點九龍佐敦吳松街191號突破中心地下突破書廊 \n\n\n	人數25人\n\n\n	截止報名日期2023年9月6日\n\n\n\n\n活動報名\nhttps://shorturl.at/chiA5\n \n\n關於 Trial and Error Fest 2023\nTrial and Error Lab每年招募有志投身文創產業的青年（稱為實驗室伙伴），透過提供共享工作空間、培訓，以及創意企劃，讓他們實踐職志。每年舉辦大型活動Trial and Error Fest，讓公眾認識青年的試錯成果，同時藉此推動勇於嘗試、敢於撞板的社會氣氛。今年的主題為「嘗試直至我們找到出路」，也是Trial and Error Lab的格言。作為Trial and Error Lab轉型前最後一次的Fest，今年不但有手作工藝師的展覽，也有「嘗試學院」的學員分享他們的繪本及立體書作品，以及在課程後繼續研發的桌遊和工作坊，更有舊Lab Fellow和現居英國的工藝師分享在海外的所見所聞。以上的種種均見証我們過去7年與手作工藝師同行的成果，也鼓勵我們勇敢嘗試，繼續走下一里路。
URL:https://trialanderror.hk/single-event/%e4%bf%82%e5%a5%bd%e4%bf%82%e9%86%9c%ef%bc%8c%e5%94%94%e5%a5%bd%e5%91%83%e8%87%aa%e5%b7%b1%e6%8e%a5%e5%8f%97-7%e5%b9%b4error%e7%b5%90%e9%9b%86%e6%88%90%e6%9b%b8%e5%88%86%e4%ba%ab%e6%9c%83/
LOCATION:匠舍 Artisan Essence\, 1/F\, Breakthrough Centre\, 191 - 197 Woo Sung Street\, Jordan\, Kowloon
ATTACH;FMTTYPE=image/jpeg:https://trialanderror.hk/wp-content/uploads/2023/08/TnE-Fest-Website-Media.jpg
END:VEVENT
BEGIN:VEVENT
DTSTART;TZID=Asia/Hong_Kong:20230917T110000
DTEND;TZID=Asia/Hong_Kong:20230917T130000
DTSTAMP:20260421T124824
CREATED:20230804T105851Z
LAST-MODIFIED:20230912T052105Z
UID:71935-1694948400-1694955600@trialanderror.hk
SUMMARY:桌遊試玩分享會│#有意見要聽，有意見要講
DESCRIPTION:#桌遊不只是遊戲\n說到桌遊，總會讓人聯想到與三五知己，聚首一堂遊玩的時刻。 喜歡桌遊的朋友，都希望創作專屬你的桌上遊戲！原創作品可以包含豐富多變的機制與遊戲性，同時可以融入獨特的教育元素，達至「桌遊不只是遊戲」。 \n#試完之後做得到\nTrial and Error Lab曾於舉辦2019年「桌遊設計研習班」，教授桌遊設計的思考點。其中一位學員Anthony受到課程的啟發，之後他以著名桌遊「瘟疫危機（Pandemic） 」為藍本， 經過調整桌遊設計和內容，研發出一套促進工廠管理層與工人溝通的桌遊。 \n透過好玩及自然的方式，讓工廠的管理人員和工人可以一起參與、一起投入，認識工作環境中的安全健康風險、分享大家的經歷與觀點，以及了解到維持一個安全及健康的工作還境，需要管理人員同工人保持良好對話和合作，才能做得到。目前這套桌遊已有不同語言的版本，也可以按不同工廠類型而修訂內容。 \n#試玩又分享\n今次的活動將會試玩由Anthony研發的桌遊，從中認識工廠環境中的潛在風險，以及不同持分者的角色。在桌遊中學習彼此合作和溝通，化解一個又一個的危機。同時，Anthony也會分享他在「桌遊設計研習班」的學習，以及研發桌遊過程中的種種trial and error。 \n分享內容\n– 嘉賓研發的桌遊試玩\n– 認識如何以桌遊引發勞工議題討論\n– 初步了解桌遊設計的要點 \n對象\n– 喜歡玩桌遊的人士\n– 有意運用桌遊推廣議題的人\n– 對勞工議題有興趣的人 \n嘉賓介紹 \n Anthony\n現職自由工作者，主要工作是在全球供應鏈中，提倡透過勞資溝通對話，改善工人的工作環境及權利。2019年參與「Trial and Error Lab」舉辦的桌遊設計研習班，學到不少桌遊設計的程序、策略及思考方向。 \n他在課程的啓發下設計了第一款桌遊，並應用在工作中，協助工人在好玩的桌遊過程中，學習工業安全知識、提高保護自己的意識，以及促進勞資雙方在職業安全規定和實踐上，加強溝通與對話。 \n活動詳情 \n\n\n\n\n	日期2023年9月9日（星期六）\n\n\n	時間15:00 - 17:00\n\n\n	地點Trial and Error Lab（佐敦吳松街191號突破中心1樓）\n\n\n	人數4-7人\n\n\n	費用 免費\n\n\n	截止報名日期2023年9月8日\n\n\n\n\n活動報名\nhttps://shorturl.at/jkFOT\n \n\n關於 Trial and Error Fest 2023\nTrial and Error Lab每年招募有志投身文創產業的青年（稱為實驗室伙伴），透過提供共享工作空間、培訓，以及創意企劃，讓他們實踐職志。每年舉辦大型活動Trial and Error Fest，讓公眾認識青年的試錯成果，同時藉此推動勇於嘗試、敢於撞板的社會氣氛。今年的主題為「嘗試直至我們找到出路」，也是Trial and Error Lab的格言。作為Trial and Error Lab轉型前最後一次的Fest，今年不但有手作工藝師的展覽，也有「嘗試學院」的學員分享他們的繪本及立體書作品，以及在課程後繼續研發的桌遊和工作坊，更有舊Lab Fellow和現居英國的工藝師分享在海外的所見所聞。以上的種種均見証我們過去7年與手作工藝師同行的成果，也鼓勵我們勇敢嘗試，繼續走下一里路。
URL:https://trialanderror.hk/single-event/%e6%9c%89%e6%84%8f%e8%a6%8b%e8%a6%81%e8%81%bd%ef%bc%8c%e6%9c%89%e6%84%8f%e8%a6%8b%e8%a6%81%e8%ac%9b%ef%bd%9c%e6%a1%8c%e9%81%8a%e8%a9%a6%e7%8e%a9%e5%88%86%e4%ba%ab%e6%9c%83/
LOCATION:匠舍 Artisan Essence\, 1/F\, Breakthrough Centre\, 191 - 197 Woo Sung Street\, Jordan\, Kowloon
ATTACH;FMTTYPE=image/jpeg:https://trialanderror.hk/wp-content/uploads/2023/08/桌遊試玩分享會-1拷貝.jpg
END:VEVENT
BEGIN:VEVENT
DTSTART;TZID=Asia/Hong_Kong:20240323T140000
DTEND;TZID=Asia/Hong_Kong:20240323T160000
DTSTAMP:20260421T124824
CREATED:20240306T065822Z
LAST-MODIFIED:20240313T040722Z
UID:72437-1711202400-1711209600@trialanderror.hk
SUMMARY:【匠舍工作坊參觀】
DESCRIPTION:活動簡介\nTrial and Error Club 會員活動第2彈嚟啦！ \n 上次年初九與一班的 Trial and Error Club 新舊 Fellow 見面傾計同玩遊戲真的好開心呀！Trial and Error Club已經迅速為大家安排第二次活動啦！  \n3月23日下午，我們將會到匠舍工作坊參觀，負責人 Ryan 從事教育及入校課程多年，十分掌握學校及商界的運作模式，曾經協助不少教育工作者將特色課程推展到學校與企業之中。到時嘅分享會有一啲接觸學校或者企業技巧、課程設計與宣傳的小貼士等等。 各位試過但不成功，或未試過又想了解的Fellow，今次真的不能錯過！ \n‧　 \n  \n有關匠舍\n一個讓創意藝術工作者們相互文流、學習和靈感啟發的文創共享空間。我們尊重及推崇匠人的藝術創作精神，希望透過匠舍這個的自由創作平台，凝聚來自一群不同領域的匠人，共同推動本地手作文化產業，塑造一個熱愛手作的藝文空間。IG: https://www.instagram.com/artisan.essence \n分享嘉賓\nRyan Tong 從事教育行業超過15年，現任多間教育機構行政總監及董事，旗下機構主要為中小學、幼稚園、社區中心、慈善機構及私人企業提供多元化的興趣課程、親子課程、專題工作坊及企業培訓等。現時機構開辦課程數目達100多項，服務單位達480多間。Ryan從事教育及入校課程多年，掌握學校及商界的運作模式，曾協助不少教育工作者把特色課程推展到學校及企業內 \n參加資格\nTrial and Error Club 的 Fellow。 （是次活動的資加資格為Trial and Error Club 的 Fellow，立即登記： https://trialanderror.hk/join-the-club） \n活動資料\n\n\n\n\n	分享會日期2024年3月23日（六）\n\n\n	時間2:00pm-4:00pm\n\n\n	地點匠舍 Artisan Essence @觀塘\n\n\n	費用免費\n\n\n	名額20人\n\n\n	截止報名日期2024年3月17日（日）\n\n\n\n\n  \n按此報名\n\n 
URL:https://trialanderror.hk/single-event/artisanessence/
CATEGORIES:Highlight Courses,Event
ATTACH;FMTTYPE=image/jpeg:https://trialanderror.hk/wp-content/uploads/2024/03/20240323.jpg
END:VEVENT
END:VCALENDAR