BEGIN:VCALENDAR
VERSION:2.0
PRODID:-//Trial and Error Lab - ECPv6.1.3//NONSGML v1.0//EN
CALSCALE:GREGORIAN
METHOD:PUBLISH
X-WR-CALNAME:Trial and Error Lab
X-ORIGINAL-URL:https://trialanderror.hk
X-WR-CALDESC:Events for Trial and Error Lab
REFRESH-INTERVAL;VALUE=DURATION:PT1H
X-Robots-Tag:noindex
X-PUBLISHED-TTL:PT1H
BEGIN:VTIMEZONE
TZID:Asia/Shanghai
BEGIN:STANDARD
TZOFFSETFROM:+0800
TZOFFSETTO:+0800
TZNAME:CST
DTSTART:20160101T000000
END:STANDARD
END:VTIMEZONE
BEGIN:VEVENT
DTSTART;TZID=Asia/Shanghai:20161230T193000
DTEND;TZID=Asia/Shanghai:20161230T213000
DTSTAMP:20260426T000218
CREATED:20170802T204518Z
LAST-MODIFIED:20200813T091435Z
UID:59041-1483126200-1483133400@trialanderror.hk
SUMMARY:【12月Error Friday】認真執嘢Swapping小派對
DESCRIPTION:JupYeah 執嘢\n[[認真執嘢Swapping 小派對]] \n日期：30/12（五）\n時間：7:30pm – 9:30pm\n地點：佐敦吳松街191號1樓A室Trial and Error Lab\n費用：$80/位\n搞錯嘉賓：JupYeah 執嘢\n搞錯廚房：廚。思@KUC\nEvent page: https://www.facebook.com/events/214384882350919\n報名連結：https://www.breakthrough.org.hk/breakgather/form/errorfriday（注意：Click “Going”不代表已參加，要填報名表作實啊！）\n（報名表或未能在智能電話、平板電腦上使用，請於電腦使用 Firefox 或Google Chrome開啟） \n內容：\n1) 認認真真換物小派對：帶你的Error Shopping item，是跟其他參加者一起swap。 \n甚麼是Error Shopping item？\n例如：明知唔啱著、唔襯自己，但夾硬買的衫，或以前好鍾意、但不再適合現在風格的東西，也可能買錯款、買錯色、買錯size的衣服等等。 \n2) JupYeah (執嘢) 二手換物活動Error故事分享\n3) 熱辣辣湯水試飲會（每人至少有一碗足料靚湯） \n注意事項：\n1) 每位參加者請帶不多於十件東西參與swapping，例：衣服、飾物、袋、圍巾、帽等等。如最後無swap到出去，請自行取回。\n2) 請調整心態，當作跟認識的朋友分享，帶狀態較為良好的東西。\n3) 基於衛生問題，請勿帶太貼身的東西，例：鞋、內衣褲、leggings等等。\n4) 另，「街坊湯水」鼓勵大家多帶一個飯盒來盛載湯水，跟你的鄰舍分享，例：看更、長者、無家者等等。\n－－－－－－－－－－－－－－－－ \n【12月Error Friday】與JupYeah一起執好自己的消費習慣！ \n年尾時節，大大小小的時裝店也在做Year-end Sale，不斷催侷、催促大家去消費。 \n香港人有一段很長的時間，都習慣用消費、購物作為慶祝的方式。 \n但我們在慶祝，地球卻在流淚。 \n「香港人有購買的能力，但無購買的智力。」二手易物組織JupYeah的 負責人Ren說，一針見血。 \n這幾年，二手易物組織興起，由Oh Yes it’s Free!開始，到Facebook大大小小的二手賣物Group，不定期發生的Swapping party，到專賣二手女裝的Green Ladies。JupYeah也是其中重要一員，他們自2011年開始辦二手換物活動，見盡不同的換物者姿態。二手換物，原是為了讓大家更惜物，但卻有人會唔理好醜，咩都先攞走；亦有人把從未開封的新物拿出來丟。 \n到底，二手換物是不是真的可以讓大家提高環保意識呢？還是那只是讓大家更放心去處理不要的舊物，或者加強了大家去擁有更多物質的場景？ \n12月普天同慶的日子，我們找來JupYeah做「搞錯嘉賓」，跟Trial and Error Lab辦一場認認真真的Swapping Event，再檢討一下我們的消費error。他們亦會分享搞二手換物活動的Do’s and Don’ts，希望我們可以更有智慧、更愛地球地迎接新一年。 \n同場的「搞錯廚房」請來「廚。思@KUC」，也會貫徹不浪費精神，特別去超市和街市找賣相不佳的蔬菜炮製湯水，再到社區不同角落送湯。這次特別請我們試飲，讓他們的成員有更多的實習機會。 \n名額有限，請大家多多支持啊！
URL:https://trialanderror.hk/single-event/%e3%80%9012%e6%9c%88error-friday%e3%80%91%e8%aa%8d%e7%9c%9f%e5%9f%b7%e5%98%a2swapping%e5%b0%8f%e6%b4%be%e5%b0%8d/
CATEGORIES:Event,試做營銷老手
ATTACH;FMTTYPE=image/jpeg:https://trialanderror.hk/wp-content/uploads/2017/08/59041_image_15493737_349660258730891_5947481892906638562_o.jpg
END:VEVENT
BEGIN:VEVENT
DTSTART;TZID=Asia/Shanghai:20161216T193000
DTEND;TZID=Asia/Shanghai:20161216T213000
DTSTAMP:20260426T000218
CREATED:20170802T204522Z
LAST-MODIFIED:20170802T204655Z
UID:59046-1481916600-1481923800@trialanderror.hk
SUMMARY:工業設計器材示範及分享會
DESCRIPTION:以下這些情況會不會是你？\n—沒有靈巧的雙手，即使想嘗試做工藝創作，但不知道如何開始。\n—心中有一些設計或想法，但欠缺工業生產的機器，未能具體製作出來。\n—想少少地生產幾件作品，但無工廠肯接你訂單。就算肯做，成本都好高。\n—不想一開始就找工廠生產，想先做好prototype，看看作品是否可行，才大量生產。 \n今次邀請有專業工業設計和生產技術的Amazing Crew Store「神奇工作室」介紹各類工業設計的器材，分享如何配合工業生產工具，提昇手作工藝的層次，以及探索設計與創作的新可能。活動當日會用laser cut機做示範，讓大家體驗工業生產的製作過程。 \n歡迎大家帶外賣上來吃，不用餓住個肚聽分享！Laser cut機有外蓋蓋住，可以放心吃啊～ \n——————————— \n分享日詳情：\n日期：16/12 (五)\n時間：7:30pm — 9:30pm\n地點：Trial and Error Lab（佐敦吳松街191號1樓A室）\n費用：全免（名額有限，先到先得）\n報名連結：https://goo.gl/mO5seI \n內容： \n1. 80年代起與21世紀的設計方向發展 \n2. 工業性設計如何配合傳統設計\n例：紙品藝術及生産工藝可利用Laser Cut Machine作繪圖，甚至多産量生産。 \n3. 工業性設計的機器設備簡介\n~搖臂式油壓裁斷啤機\n~日本NIPPY皮革鏟皮機\n~高頭皮革工業衣車\n~CNC木工及金工數控雕刻機\n~輕巧office雷射雕刻機 \n4. 個別針對性解決傳統設計生產上的問題\n例：木工手藝創作以前多用手磨，尤其是仔細位置，不過需時較長，而且效果會有偏差。現在可利用”CNC木工及金工數控雕刻機”，將設計圖樣輸入電腦程序，立即雕刻出來。 \n5. 解讀Laser Cut Machine如何成為工藝設計界的未來先鋒
URL:https://trialanderror.hk/single-event/%e5%b7%a5%e6%a5%ad%e8%a8%ad%e8%a8%88%e5%99%a8%e6%9d%90%e7%a4%ba%e7%af%84%e5%8f%8a%e5%88%86%e4%ba%ab%e6%9c%83/
CATEGORIES:Event
ATTACH;FMTTYPE=image/jpeg:https://trialanderror.hk/wp-content/uploads/2017/08/59046_image_15235840_341310762899174_1120267942799918770_o.jpg
END:VEVENT
BEGIN:VEVENT
DTSTART;TZID=Asia/Shanghai:20161125T193000
DTEND;TZID=Asia/Shanghai:20161125T213000
DTSTAMP:20260426T000218
CREATED:20170802T204525Z
LAST-MODIFIED:20170802T204656Z
UID:59048-1480102200-1480109400@trialanderror.hk
SUMMARY:【11月Error Friday】巨人染 紮染體驗及搞錯故事分享
DESCRIPTION:巨人染\n紮染體驗及搞錯故事分享 \n日期：25/11 (五)\n時間：7:30 – 9:30PM\n搞錯嘉賓：巨人染\n搞錯廚房：小休曲奇\n費用：$250\n內容：搞錯蛋糕一件、40 cm x 40cm小手帕紮染體驗、搞錯故事分享\n報名連結：https://goo.gl/s283Rk\n（注意：Click “Going”不代表已參加，要填報名表作實啊！）\n＿＿＿＿＿＿＿＿＿＿＿＿＿＿＿＿ \n用想像和顏料，不斷做實驗，直至形成腦海裏的那幅圖畫－－這是紮染，這也就是Trial and Error。 \n「巨人染」的紮染技師Josh 和Siu認為，在紮染裏面沒有所謂的錯誤，只有無盡的驚喜和經驗學習。一步一步，放開雙手，相信自己，就能創作出自由和快樂的故事。 \n他們兩人會在11月的「搞錯星期五」，一邊帶領大家做簡單的手帕紮染，一邊分享自己的「搞錯故事」：由紐西蘭Working Holiday相遇，到決定一起去台灣開豆腐店、踩高蹺，最後遇上紮染工藝，從此投入其中。 \nTrial and Error 聽起來好似是科學實驗的做法，但其實不段嘗試和實驗的過程，也可以像顏料落入水中，化開、漂流、變化，慢慢了解自己的特性，優雅地演練出來的過程。 \n同場的「搞錯廚房」，找來小休曲奇，為大家泡製一款與本地茶餐廳文化相關的有趣蛋糕。（我們已經率先試食過，好美味好特別啊！） \n名額有限，請大家多多支持啊！\n報名：https://goo.gl/s283Rk
URL:https://trialanderror.hk/single-event/%e3%80%9011%e6%9c%88error-friday%e3%80%91%e5%b7%a8%e4%ba%ba%e6%9f%93-%e7%b4%ae%e6%9f%93%e9%ab%94%e9%a9%97%e5%8f%8a%e6%90%9e%e9%8c%af%e6%95%85%e4%ba%8b%e5%88%86%e4%ba%ab/
CATEGORIES:Event
ATTACH;FMTTYPE=image/jpeg:https://trialanderror.hk/wp-content/uploads/2017/08/59048_image_15025175_332800757083508_849296495850485014_o.jpg
END:VEVENT
BEGIN:VEVENT
DTSTART;TZID=Asia/Shanghai:20161013T160000
DTEND;TZID=Asia/Shanghai:20161016T220000
DTSTAMP:20260426T000218
CREATED:20170802T204528Z
LAST-MODIFIED:20170802T204656Z
UID:59050-1476374400-1476655200@trialanderror.hk
SUMMARY:Trial and Error Lab開幕週
DESCRIPTION:【Trial and Error Lab 開幕日 暨 開放週】\n我們開幕喇！在13/10 （星期四）啊！心水清的你，可能會想：「為何選擇這個人人第二日仲要返工的日子開幕呢？」 \n因為這天是芬蘭的一個節日，叫”International Day for Failure”，一個鼓勵大家嘗試失敗的日子。而我們想鼓勵人嘗試犯錯，所以就硬改這一天為”Day for Error” （嘗試犯錯日）！ \n開幕日由4pm開始，我們會開放實驗室這個一直未見到真身的空間，讓你認識參與計劃的Lab Fellows，了解他們打算用150日嘗試做什麼（日後記住幫忙監督他們有沒有偷懶）。 \n嘗試和犯錯，不只是Lab Fellows要學習的事，而是大家的事。到時我們會準備一些承諾卡，讓每一位來參觀的朋友，寫下想要用150日完成的目標，再用火漆蠟封印，由我們暫存。150日後，在閉幕日的時候，再一齊開啟，看看大家完成了目標沒有（想到這一點就感到非常刺激～） \n同日7pm，有一個半私人小派對，所有Lab Fellows都會出席，還有參與這個計劃的嘉賓和友好們，歡迎大家參與，結識結識新朋友～希望你會來啊！ \nTrial and Error Lab開幕日：\n日期：13/10 (四)\n時間：4:00pm開始 （7:00-9:30pm有半私人小派對）\n地點：九龍吳松街191號突破中心一樓（佐敦港鐵站C2或柯士甸港鐵站F出口）\n地圖：https://goo.gl/AoeIej\n內容：Lab Fellows作品展示，填寫承諾卡加火漆印，飲飲食食，瘋狂影相，結識新朋友……\n查詢電話：5261 6129\n____________________________________________ \n另外，14/10 (五) — 16/10 (日)，我們會開放實驗室，歡迎大家來參觀。我們會準備了一些承諾卡，讓你寫下想要用150日完成的目標，用火漆蠟封印，由我們暫存。在12/3/2017 (日) 閉幕日，再回到實驗室一齊開封，看看大家完成了多少（即使你沒有來取回承諾卡，我們都會寄回給你，別以為可以逃避！） \n到時我們還會送你一張行事曆，讓你記下每天的進度，時刻提醒自己要努力完成目標（係就係有D壓力，但無壓力又點會有動力？）希望到時見到你啦～最好帶一點手信給我們啊！ \nTrial and Error Lab 開放週：\n日期：14/10 (五) — 16/10 (日)\n時間：10:00am–10:00pm\n地點：九龍吳松街191號突破中心一樓（佐敦港鐵站C2或柯士甸港鐵站F出口）\n地圖：https://goo.gl/AoeIej\n內容：(跟開幕日差不多) Lab Fellows作品展示，填寫承諾卡加火漆印，瘋狂影相，結識新朋友……
URL:https://trialanderror.hk/single-event/trial-and-error-lab%e9%96%8b%e5%b9%95%e9%80%b1/
CATEGORIES:Event
ATTACH;FMTTYPE=image/jpeg:https://trialanderror.hk/wp-content/uploads/2017/08/59050_image_14435223_309028306127420_5954519431291689260_o.jpg
END:VEVENT
BEGIN:VEVENT
DTSTART;TZID=Asia/Shanghai:20160813T150000
DTEND;TZID=Asia/Shanghai:20160813T170000
DTSTAMP:20260426T000218
CREATED:20170802T204531Z
LAST-MODIFIED:20170802T204656Z
UID:59055-1471100400-1471107600@trialanderror.hk
SUMMARY:「Trial & Error 實驗室」說明會
DESCRIPTION://嘗試，直至我們找到出路// \n一張枱，一張櫈，150天；\n一班無懼錯誤的同伴，\n一齊瞓身做一件想做的事！ \n嘗試──錯誤──再嘗試，是進步的不二法門，也是生活本來的節奏。只可惜， 「錯誤」在香港有太大的機會成本，行錯一步，就好像會永不超生；我們有新主意，卻沒辦法Trial and Error。 \n如果，我們可以有150日，讓你可以用一個低成本，去嘗試、去錯、去修正，無論你想專心磨鍊一種手工技藝，或完成一個為社會帶來改變的計劃，你願意一同來嗎？ \nTrial and Error Lab是一個在佐敦突破中心的工作空間，我們希望用這個地方，去凝聚一班全身投入的「實驗伙伴」（Lab Fellows），為自己的前路，為城市的將來尋找新路。 \n我們正在物色具冒險精神的本地創作人、手作人、藝術工作者、媒體製作人和社會發明家，與我們共用這個工作空間150天，為我們的城市做一場實驗，鼓勵更多人坐言起行，踏出一小步。\n\n想知道這個計劃的詳情嗎？還有一大堆問題想問嗎？在這天來找我們吧！ \n——————————————————\n（請留意，click “going”不代表參與，要填報名表：bit.ly/labbriefing） \n日期：13/8/2016 (六) \n時間：15:00 – 17:00 \n地點：突破中心14樓1404室（佐敦吳松街191號，港鐵佐敦站 C2 出口或柯士甸站 F 出口） \n地圖：https://goo.gl/maps/voq5dp4e3Cu \n出席說明會報名表：bit.ly/labbriefing（名額有限） \n查詢：2632 0163 (李小姐) 或 trial_and_error@breakthrough.org.hk \n「Trial & Error 實驗室」伙伴招募：https://bit.ly/trialanderrorlab
URL:https://trialanderror.hk/single-event/%e3%80%8ctrial-error-%e5%af%a6%e9%a9%97%e5%ae%a4%e3%80%8d%e8%aa%aa%e6%98%8e%e6%9c%83/
CATEGORIES:Event
ATTACH;FMTTYPE=image/jpeg:https://trialanderror.hk/wp-content/uploads/2017/08/59055_image_13872858_280064355690482_626724775569000133_n.jpg
END:VEVENT
END:VCALENDAR