BEGIN:VCALENDAR
VERSION:2.0
PRODID:-//Trial and Error Lab - ECPv6.1.3//NONSGML v1.0//EN
CALSCALE:GREGORIAN
METHOD:PUBLISH
X-WR-CALNAME:Trial and Error Lab
X-ORIGINAL-URL:https://trialanderror.hk
X-WR-CALDESC:Events for Trial and Error Lab
REFRESH-INTERVAL;VALUE=DURATION:PT1H
X-Robots-Tag:noindex
X-PUBLISHED-TTL:PT1H
BEGIN:VTIMEZONE
TZID:Asia/Shanghai
BEGIN:STANDARD
TZOFFSETFROM:+0800
TZOFFSETTO:+0800
TZNAME:CST
DTSTART:20160101T000000
END:STANDARD
END:VTIMEZONE
BEGIN:VEVENT
DTSTART;TZID=Asia/Shanghai:20170929T193000
DTEND;TZID=Asia/Shanghai:20170929T213000
DTSTAMP:20260424T064855
CREATED:20170914T025048Z
LAST-MODIFIED:20180615T125711Z
UID:60239-1506713400-1506720600@trialanderror.hk
SUMMARY:Trial Academy | 海報設計概念入門
DESCRIPTION:【Trial Workshop | 試做營銷老手】海報設計概念入門 \n手作人不時開辦工作坊，宣傳海報是吸引人的第一個渠道。 \n怎樣才可以吸引到人呢？海報要放幾多資訊？有產品造型照啦、工作坊的名稱啦、舉辦的日期/時間/收費啦……一大堆資料要怎樣排列在海報上，才有焦點有看頭？ \n這個課程不只是教你如何用AI或Photoshop製作海報（小畫家已退休），而是一起學習像設計師一樣思考，運用圖像、顏色和文字的律動，排列出突顯產品個性，又令人看得舒服的宣傳海報。 \n一起學習think like a designer啦！\n————————–\n海報設計概念入門//\n日期：29/9（五）\n時間：7:30pm–9:30pm\n地點：佐敦吳松街191號突破中心一樓Trial and Error Lab\n費用：$320/位\n名額：10-12人\n對象：手作品牌的經營者、有平面設計的基本概念為佳\n課程內容：\n1/ 海報種類介紹：不同功能的海報，有不同的設計考慮\n2/ 設計海報前的三個思考點\n3/ 海報設計的基本概念：\n– 文字閱讀方向\n– 文字與圖像的比例\n– 排列內容的先後次序與取捨\n– 版面設計與配置\n4/ 唔識AI點算：商用版與家用版製作海報的示範\n5/ 無圖、無字款點算：各類有用的資源大公開\n6/ 個案分析和討論 \n報名連結：https://goo.gl/Mo11yv \n講者簡介：Kai Tang | Freelance Graphic Designer\n曾為突破機構的平面設計師，亦是Trial and Error Lab其中一位海報設計師，設計出一系列別具個性的宣傳品。 \n有關【Trial Workshop | 試做營銷老手】：\n所謂「營銷老手」，講求的不是你有幾Talk得，或者有幾識包裝你的產品，而是你有幾了解你的創作和產品故事。要學識美圖、設計不難，要明白點樣運用這些工具和平台，讓你的故事、創作和理念，接觸到目標對象才是重點啊！跟我們一起討論，互相刺激，一齊整理你的品牌故事，再發揚光大啦！
URL:https://trialanderror.hk/single-event/%e3%80%90trial-workshop%e3%80%91%e6%b5%b7%e5%a0%b1%e8%a8%ad%e8%a8%88%e6%a6%82%e5%bf%b5%e5%85%a5%e9%96%80/
LOCATION:匠舍 Artisan Essence\, 1/F\, Breakthrough Centre\, 191 - 197 Woo Sung Street\, Jordan\, Kowloon
CATEGORIES:Event,試做營銷老手,已舉辦_Trial Academy
ATTACH;FMTTYPE=image/jpeg:https://trialanderror.hk/wp-content/uploads/2017/09/60239_image_21199476_479413165755599_7632890868966269916_o.jpg
END:VEVENT
BEGIN:VEVENT
DTSTART;TZID=Asia/Shanghai:20170915T193000
DTEND;TZID=Asia/Shanghai:20170915T213000
DTSTAMP:20260424T064855
CREATED:20170901T060919Z
LAST-MODIFIED:20180615T125729Z
UID:60022-1505503800-1505511000@trialanderror.hk
SUMMARY:Trial Academy | 手作產品攝影技巧入門
DESCRIPTION:【Trial Workshop | 試做營銷老手】手作產品攝影技巧入門 \n想吸引人留意自己的產品，拍一輯美美的造型是常識吧！美圖、tune色、調校燈光、加特效等等……令產品變得亮麗悅目。 \n美麗的照片固然可以吸引眼球，但如果想長久地得到客人的支持，就要學習怎樣用照片，把品牌的創作故事好好傳達出去。 \n今次的課堂我們將會學習的不只是研究怎樣美圖，而是怎樣使用適當的工具、光線、道具，跟你的產品結合，向人呈現你的品牌故事 ，認識你做創作時的想法，令人看到造型照時，可以想像到那件作品與自己的關係。在一買一賣之間，引起大家的共鳴。 \n上次錯過了的朋友，請把握今次的機會，一起學習用照片講故事吧！ \n——————————–\n手作產品攝影技巧入門//\n日期：15/9（五）\n時間：7:30pm–9:30pm\n地點：佐敦吳松街191號突破中心一樓Trial and Error Lab\n費用：$350/位\n名額：10人\n對象：手作品牌的經營者、有基本產品攝影概念為佳\n課程內容：\n1/ 產品排列的位置、角度教學\n2/ 選取拍攝背景、構圖及擺設道具\n3/ 運用燈光技巧突顯產品形象的技巧\n4/ 後期編輯和修飾產品的基本知識\n5/ 課堂實習：預留一半課堂時間為攝影實習，歡迎大家帶同你的作品做攝影道具，導師將與參加者有討論和交流。 \n器材要求：\n參加者需自備器材，可以是手機、單鏡反光相機或數碼相機、無反光鏡相機（所有器材必須可以調校光圈和快門） \n報名連結：https://goo.gl/G8ANJz \n導師簡介：黃國榮 | Andy Wong\n現為突破機構主責攝影師，負責 Breakazine! 突破書誌和網媒 Little Post 「一小步」等的攝影工作。畢業於理工大學設計系（美術及設計教育）。曾擔任《U-plus》雜誌（2001-2007）封面及專題攝影師，參與系列短片《趁還有墟 – 收集小店風情、留下人情回憶》製作，並於誠品書店（香港）展出其攝影作品。 \n有關【Trial Workshop | 試做營銷老手】：\n所謂「營銷老手」，講求的不是你有幾Talk得，或者有幾識包裝你的產品，而是你有幾了解你的創作和產品故事。要學識美圖、設計不難，要明白點樣運用這些工具和平台，讓你的故事、創作和理念，接觸到目標對象才是重點啊！跟我們一起討論，互相刺激，一齊整理你的品牌故事，再發揚光大啦！
URL:https://trialanderror.hk/single-event/%e3%80%90%e5%86%8d%e9%96%8b%e5%a4%9a%e7%8f%ad%e3%80%91%e6%89%8b%e4%bd%9c%e7%94%a2%e5%93%81%e6%94%9d%e5%bd%b1%e6%8a%80%e5%b7%a7%e5%85%a5%e9%96%80/
LOCATION:匠舍 Artisan Essence\, 1/F\, Breakthrough Centre\, 191 - 197 Woo Sung Street\, Jordan\, Kowloon
CATEGORIES:Event,試做營銷老手,已舉辦_Trial Academy
ATTACH;FMTTYPE=image/jpeg:https://trialanderror.hk/wp-content/uploads/2017/09/60022_image_21056157_476298299400419_3443569934914887403_o.jpg
END:VEVENT
BEGIN:VEVENT
DTSTART;TZID=Asia/Shanghai:20170901T193000
DTEND;TZID=Asia/Shanghai:20170901T210000
DTSTAMP:20260424T064855
CREATED:20170901T061100Z
LAST-MODIFIED:20180615T125748Z
UID:60028-1504294200-1504299600@trialanderror.hk
SUMMARY:Trial Academy | 開Hostel疑難排解分享會
DESCRIPTION:香港人最中意去旅行，你有沒有住過好舒服又好溫暖的Hostel？ \n「我們覺得去旅行，住，也是很重要的部分。」一間好的Hostel能幫助旅客認識香港文化，明白在地特色。Maggie 和 Spencer兩年前因為想讓旅客見到香港最真最可愛一面，毅然決定在佐敦開一間Youth Hostel！ \n本來從事NGO工作的兩個傻人，沒有任何開舖經驗，只有「誓要去、入刀山」的氣魄，由選址、攞牌、裝修、推廣一腳踢，當他們的 Hoho Hostel【好棧】真正開始做生意時，已經差不多筋疲力盡。在香港，我們真的可以透過Hostel、民宿推廣在地文化嗎？ \n如果你都對Hostel 行業有興趣，又或者想聽聽有勇有謀地做新嘗試的嘔血故事，就快快報名這次的「疑難排解分享會」啦！Maggie 和Spencer會分享開Hostel 的Trial and Error過程，大小注意事項，不為人知的旅遊業潛規則，以及好多又笑又喊的血淚故事！ \n?想知甚麼是Trial Workshop？請留意本文的最後一段?\n————————————— \n開Hostel疑難排解分享會//\n日期：1/9（五）\n時間：7:30pm–9:00pm\n地點：佐敦吳松街191號突破中心一樓Trial and Error Lab\n費用：$50（連果茶一杯）\n名額：15-20人（名額有限，先到先得）\n對象：有意開Hostel創業的人士、對嘗試做新事感興趣的人 \n分享內容：\n1/ 開舖大哉問：好揀唔揀，點解要揀開Hostel？\n2/ 我適合開Hostel嗎：想開舖，要具備哪些條件？\n3/ 選址、揀舖的兩難：舊區有特色 VS 新樓夠四正\n4/ 過五關斬六將：未開舖，先要申請N份牌照\n5/ 魔鬼在細節：裝修要細心，更要細眉細眼\n6/ 我做「媽屐亭」：訂房平台點揀好？\n7/ 突出重圍：吸引遊客入住的方法\n8/ 個案分析和討論 \n報名連結：https://goo.gl/etbdXY \n嘉賓簡介：\nMaggie & Spencer | Hoho Hostel【好棧】\n一對年青夫婦營運的Hostel，2015年在佐敦開業，希望讓旅客看見除了購物之外，香港還有人文、生態和地道探索的一面。\nhttps://www.facebook.com/hohoHOSTEL \n有關【Trial Workshop | 試做蚊型企業家】：\n成為「企業家」，唔係叫你賺到盡、擠壓其他人，而是要穩打穩紮，學好「睇住盤數」！只有勇敢面對創作成本、人工、營業額，計計數，先可以讓自己的品牌或創作持續發展。由簡單的市集擺檔行情，到小店開支管理，我們找來「過來人」一齊交流，分享撞板經驗，讓大家都能夠更有準備，嘗試第一步（雖然未必賺到第一金）！
URL:https://trialanderror.hk/single-event/%ef%bc%88%e6%bb%bf%e9%a1%8d%ef%bc%89%e3%80%90trial-workshop-%e8%a9%a6%e5%81%9a%e8%9a%8a%e5%9e%8b%e4%bc%81%e6%a5%ad%e5%ae%b6%e3%80%91%e9%96%8bhostel%e7%96%91%e9%9b%a3%e6%8e%92%e8%a7%a3%e5%88%86/
LOCATION:匠舍 Artisan Essence\, 1/F\, Breakthrough Centre\, 191 - 197 Woo Sung Street\, Jordan\, Kowloon
CATEGORIES:Event,試做蚊型企業家
ATTACH;FMTTYPE=image/jpeg:https://trialanderror.hk/wp-content/uploads/2017/09/60028_image_20819642_473944242969158_3265473851026026351_o.jpg
END:VEVENT
BEGIN:VEVENT
DTSTART;TZID=Asia/Shanghai:20170818T193000
DTEND;TZID=Asia/Shanghai:20170818T213000
DTSTAMP:20260424T064855
CREATED:20170802T204505Z
LAST-MODIFIED:20180613T092342Z
UID:59025-1503084600-1503091800@trialanderror.hk
SUMMARY:【已滿額】手作產品攝影技巧入門
DESCRIPTION:【Trial Workshop | 試做營銷老手】手作產品攝影技巧入門 \n想吸引人留意自己的產品，拍一輯美美的造型是常識吧！美圖、tune色、調校燈光、加特效等等……令產品變得亮麗悅目。\n美麗的照片固然可以吸引眼球，但如果想長久地得到客人的支持，就要學習怎樣用照片，把品牌的創作故事好好傳達出去。\n今次的課堂我們將會學習的不只是研究怎樣美圖，而是怎樣使用適當的工具、光線、道具，跟你的產品結合，向人呈現你的品牌故事 ，認識你做創作時的想法，令人看到造型照時，可以想像到那件作品與自己的關係。在一買一賣之間，引起大家的共鳴。\n你想學習用照片講故事嗎？快快來參加吧～\n——————————–\n手作產品攝影技巧入門//\n日期：18/8（五）\n時間：7:30pm–9:30pm\n地點：佐敦吳松街191號突破中心一樓Trial and Error Lab\n費用：$350/位\n名額：10人\n對象：手作品牌的經營者、有基本產品攝影概念為佳\n課程內容：\n1/ 產品排列的位置、角度教學\n2/ 選取拍攝背景、構圖及擺設道具\n3/ 運用燈光技巧突顯產品形象的技巧\n4/ 後期編輯和修飾產品的基本知識\n5/ 課堂實習：預留一半課堂時間為攝影實習，歡迎大家帶同你的作品做攝影道具，導師將與參加者有討論和交流。\n器材要求：\n參加者需自備器材，可以是手機、單鏡反光相機或數碼相機、無反光鏡相機（所有器材必須可以調校光圈和快門） \n報名連結：https://goo.gl/bgzjNE \n導師簡介：黃國榮 | Andy Wong\n現為突破機構主責攝影師，負責 Breakazine! 突破書誌和網媒 Little Post 「一小步」等的攝影工作。畢業於理工大學設計系（美術及設計教育）。曾擔任《U-plus》雜誌（2001-2007）封面及專題攝影師，參與系列短片《 趁還有墟 – 收集小店風情、留下人情回憶》製作，並於誠品書店（香港）展出其攝影作品。 \n有關【Trial Workshop | 試做營銷老手】：\n所謂「營銷老手」，講求的不是你有幾Talk得，或者有幾識包裝你的產品，而是你有幾了解你的創作和產品故事。要學識美圖、設計不難，要明白點樣運用這些工具和平台，讓你的故事、創作和理念，接觸到目標對象才是重點啊！跟我們一起討論，互相刺激，一齊整理你的品牌故事，再發揚光大啦！
URL:https://trialanderror.hk/single-event/%e6%89%8b%e4%bd%9c%e7%94%a2%e5%93%81%e6%94%9d%e5%bd%b1%e6%8a%80%e5%b7%a7%e5%85%a5%e9%96%80/
LOCATION:匠舍 Artisan Essence\, 1/F\, Breakthrough Centre\, 191 - 197 Woo Sung Street\, Jordan\, Kowloon
CATEGORIES:Event,試做營銷老手
ATTACH;FMTTYPE=image/jpeg:https://trialanderror.hk/wp-content/uploads/2017/08/59025_image_20507005_467753576921558_1181294415745961258_o.jpg
END:VEVENT
BEGIN:VEVENT
DTSTART;TZID=Asia/Shanghai:20170731T120000
DTEND;TZID=Asia/Shanghai:20170806T200000
DTSTAMP:20260424T064855
CREATED:20170731T092101Z
LAST-MODIFIED:20170802T210653Z
UID:58996-1501502400-1502049600@trialanderror.hk
SUMMARY:Trial and Error Lab又開放週
DESCRIPTION:【我們又回來，Trial and Error Lab將重新開張！】\n這次會以新面貌迎接大家——全新裝修、全新燈光、全新音樂、全新器材，還有一些全新的青年伙伴（Lab Fellows）進駐呢！ \n由7月31日(一)至8月6日 (日)，Trial and Error Lab將會開放，歡迎大家到來參觀、飲飲食食（誤），到我們新買的沙發坐吓（大誤），認識年輕lab fellows和他們的作品（至真！）。 \n週末有很多精彩活動，即將陸續登場，敬請密切期待！留意返，須預先報名喔～ \n8月5日（六）\n? 12nn-2pm：\n【藍曬體驗工作坊】 \n? 3pm-5pm：\n【手作人開舖攻略分享會】\n【一筆一花一彩虹：乾花 × 西洋書法工作坊】 \n? 6pm-8pm：\n【咖啡渣紮染 – 和式提袋工作坊】 \n8月6日（日）\n? 12nn-2pm：\n【橡皮印章入門工作坊】\n【重修舊簿工作坊】\n【鋁線鑲海玻璃頸飾工作坊】 \n? 3pm-5pm：\n【《原來我 Creativity is》放映會】\n【黏土唧花頸鏈工作坊】 \n********************************\nTrial and Error Lab又開放週詳情：\n日期：7月31日（一）至8月6日（日）\n時間：每天12nn-8pm\n地點：九龍吳松街191號突破中心一樓（佐敦港鐵站C2或柯士甸港鐵站F出口）\n地圖：https://goo.gl/AoeIej\n內容：Lab Fellows作品展示，飲飲食食，瘋狂影相，結識新朋友……\n報名連結：https://goo.gl/8gtTCp
URL:https://trialanderror.hk/single-event/trial-and-error-lab%e5%8f%88%e9%96%8b%e6%94%be%e9%80%b1/
CATEGORIES:Event,試做營銷老手,其他
ATTACH;FMTTYPE=image/jpeg:https://trialanderror.hk/wp-content/uploads/2017/07/58996_image_20121310_460141817682734_8109087054160181260_o.jpg
END:VEVENT
BEGIN:VEVENT
DTSTART;TZID=Asia/Shanghai:20170513T160000
DTEND;TZID=Asia/Shanghai:20170513T210000
DTSTAMP:20260424T064855
CREATED:20170801T041449Z
LAST-MODIFIED:20170802T204655Z
UID:59002-1494691200-1494709200@trialanderror.hk
SUMMARY:Lab Fellow招募說明會
DESCRIPTION://嘗試，直至我們找到出路// \n想試一條新橋？\n想做一件新事？\n想搵一條新路？\n來啦！加入我們這班無懼錯誤的同伴，\n集合力量，一同打破悶局！ \nTrial and Error Lab是一個在佐敦突破中心的工作空間，同時亦是一個鼓勵創新、嘗試、合作的實驗平台。 \n我們現正物色具冒險精神，渴望進步和樂意交流的本地創作人、手作人、藝術工作者或媒體製作人等等，成為2017-18年度的「實驗伙伴」（Lab Fellows）。在這個實驗室，你可以專心磨鍊手工技藝，認識志同道合的朋友，開拓更廣闊的網絡，甚至聚集力量策劃為社會帶來改變的計劃！ \n有沒有心郁郁？決定不到要申請成為哪種伙伴？還有一大堆問題想問嗎？這天來找我們吧！ \n【Lab Fellow招募說明會】\n日期：13/5/2016 (六)\n時間：15:00 – 17:00 / 19:00 – 21:00\n地點：突破中心14樓1404室\n報名表格：https://goo.gl/Zm6CZ6\n* 兩場說明會內容一樣。名額有限，先到先得。 \n【申請成為Lab Fellows (2017 – 18)】\n報名表格：https://goo.gl/xV37gr\n截止日期：6月16日（星期五） \n【Trial and Error實驗室說明書 (2017 – 18)】\n工作空間有多大？租金如何？成為Lab Fellows有什麼條件和福利？快看看吧～\nhttps://goo.gl/I2GZ1D \n【Trial and Error Lab懶人包】\n一切有關Trial and Error Lab的疑問，一次過答你！\nhttps://goo.gl/szY0dO
URL:https://trialanderror.hk/single-event/lab-fellow%e6%8b%9b%e5%8b%9f%e8%aa%aa%e6%98%8e%e6%9c%83/
CATEGORIES:Event
ATTACH;FMTTYPE=image/jpeg:https://trialanderror.hk/wp-content/uploads/2017/08/59002_image_18121655_420747451622171_1390260552781434056_o.jpg
END:VEVENT
BEGIN:VEVENT
DTSTART;TZID=Asia/Shanghai:20170302T160000
DTEND;TZID=Asia/Shanghai:20170312T200000
DTSTAMP:20260424T064855
CREATED:20170802T204508Z
LAST-MODIFIED:20170802T210100Z
UID:59029-1488470400-1489348800@trialanderror.hk
SUMMARY:【Trial and Error Lab 150日實驗成果展】
DESCRIPTION:150日實驗成果展 | 詳情：\n日期：1/3 (三) — 12/3 (日)\n時間：12:00pm–8:00pm (1/3–11/3)，12:00pm–6:00pm (12/3)\n地點：佐敦吳松街191號突破中心一樓（佐敦港鐵站C2或柯士甸港鐵站F出口）\n地圖：https://goo.gl/AoeIej\n內容：Trial and Error Lab開放參觀、Lab Fellows作品展示、取回承諾卡、一個馬路單車團、一個講座、一個兩日的市集、兩個工作坊、四個展覽、五個導賞團、結識新朋友、瘋狂影相、進食和傾偈……\nEvent Page：https://www.facebook.com/events/191614974658117\n報名連結： https://www.breakthrough.org.hk/breakgather/form/Graduation%20Ceremony \n1/3(三) — 12/3(日) | 常設活動：\n【Trial and Error Lab開放】\n【「一小誌」作品展】https://goo.gl/UE6KRd\n【香港屋邨風景作品展】https://goo.gl/3xpLgl\n【《他們的家庭相冊》小型相展】https://goo.gl/NfX4xK \n11/3 (六)—12/3(日） | 週末限定活動：\n【Trial and Error Market】https://goo.gl/ijQ0uE\n【導賞團及單車體驗團 】https://goo.gl/5mlhpd\n【小型工作坊】https://goo.gl/ych0gW\n【真實問題講座：環保產品，愈用愈環保？】https://goo.gl/rEQKbv \n*因為遲了開event，所以無法date back，別以為event的日期有錯啊\n-.-.-.-.-.-.-.-.-.-.-.-.-.-.-.-.-.- \n去年10月，Trial and Error Lab開幕了！轉眼間，150日的實驗來到第一階段的小總結啦！（別誤會，我們不是執笠，而是裝修重整。今年年中將會再開張，敬請期待啊～） \n過去這段日子，十多個單位的Lab Fellow和四個研習班的參加者，由開工作坊、市集擺檔、社區導賞、信仰實踐到出版獨立小刊物，都努力地做各種嘗試（當然也撞過不少板啦）。在實踐的過程中，大家嘗試摸索出路，有的試到一點眉目，有的仍需努力，不過至少知道該向哪個方向奮力進發，這正是Trial and Error的精神。 \n今次所有活動都是「畢業功課」，是每個參與這個計劃的參加者的學習成果，希望你會報名參與，見証他們的實踐歷程。 \n開幕當日，你可能寫了承諾卡，跟自己許下一個目標。150日過後，實踐了多少？你可以在實驗成果展期間到Trial and Error Lab取回，兼向我們分享你的實踐旅程。要是你當日未能親身領取，我們之後會寄回給你（別妄想可以逃避當天的承諾，嘿）。 \n每個活動均名額有限，請趁早報名啊！
URL:https://trialanderror.hk/single-event/%e3%80%90trial-and-error-lab-150%e6%97%a5%e5%af%a6%e9%a9%97%e6%88%90%e6%9e%9c%e5%b1%95%e3%80%91/
CATEGORIES:Event,伙伴工作坊
ATTACH;FMTTYPE=image/jpeg:https://trialanderror.hk/wp-content/uploads/2017/08/59029_image_17097620_388664854830431_3766370496630459896_o.jpg
END:VEVENT
BEGIN:VEVENT
DTSTART;TZID=Asia/Shanghai:20170120T193000
DTEND;TZID=Asia/Shanghai:20170120T213000
DTSTAMP:20260424T064855
CREATED:20170802T204511Z
LAST-MODIFIED:20200813T091405Z
UID:59034-1484940600-1484947800@trialanderror.hk
SUMMARY:滿額 |【1月Error Friday】彎路人生－尋找職志的奇幻旅程
DESCRIPTION:【1月Error Friday】彎路人生－尋找職志的奇幻旅程\n日期：20/1（五）\n時間：7:30pm – 9:30pm\n地點：佐敦吳松街191號1樓A室Trial and Error Lab\n費用：$80/位\n搞錯嘉賓：謝斐\n搞錯廚房：阿米 (炮製秘製台式胡椒餅)\nEvent page：https://www.facebook.com/events/388377214839295\n報名連結：https://www.breakthrough.org.hk/breakgather/form/errorfriday（注意：Click “Going”不代表已參加，要填報名表作實啊！）\n（報名表或未能在智能電話、平板電腦上使用，請於電腦使用 Firefox 或Google Chrome開啟） \n-.-.-.-.-.-.-.-.-.-.-.-.-.-.-.-.-.-.-.-.-.- \n由細到大，我們要走的路彷彿早已被規定：由小學到中學，然後讀大專或大學，繼而投身社會。我們選擇做哪種工作，多數因應我們修讀哪個學科，或哪個行業高薪厚職有出色。在這條畢直的擇業跑道上，我們忙於向前奔跑，卻鮮有機會回頭思考：我到底喜歡做甚麼工作？ \n我們不敢問這個問題，因為知道要實現這件事的代價太大。\n我們很少思考這個問題，因為社會很少鼓勵我們去思考。\n我們選擇遺忘這個問題，因為不相信我們可以做到喜歡的工作。 \n今次錯誤星期五Error Friday請來兩位素人，跟你分享他們在尋找職志的路上，所遇過或正在面對的高低起跌──千萬別以為他們已經「上咗岸」，其實他們跟你一樣，仍然嘗試尋找方向，只是比你多走一兩步而已！ \n「搞錯嘉賓」謝斐是一位年輕大男孩，他走過一條迂迴曲折的尋覓職志的旅程。他在大學時唸建築系，畢業後的一年，他由補習到地盤工都做過。然後他修讀藝術碩士，期間他到中學教書，完成教學合約就去學紮鐵，現在他在某大學任職校工！ \n為什麼會由建築系畢業生，轉職成為大學校工？他會分享自己每個選擇轉職或轉行的關節位，他到底在思考甚麼。讓我們也一起衝破一般「生涯規劃」的框框，嘗試問真正的自己到底想過一個怎樣的人生。（小小聲說：他或者會帶大家玩一個小活動，暫時保持神秘～） \n「搞錯廚房」今次請來的是一位年輕的女生阿米。她工餘熱愛煮食，夢想是開私房菜。雖然她可以輕易炮製十幾廿人的美味大餐，有豐富且熟練的入廚技巧，但她卻不敢靠近夢想。明明有能力一手抓住夢想，卻會感到猶疑。你會不會都有同感？大家可以一邊吃她親手炮製的秘製台式胡椒餅，一邊聽她分享，也許你會得到共鳴。 \n名額有限，請大家多多支持啊！ \nPhoto credit: Chloe Lai
URL:https://trialanderror.hk/single-event/%e6%bb%bf%e9%a1%8d-%e3%80%901%e6%9c%88error-friday%e3%80%91%e5%bd%8e%e8%b7%af%e4%ba%ba%e7%94%9f%ef%bc%8d%e5%b0%8b%e6%89%be%e8%81%b7%e5%bf%97%e7%9a%84%e5%a5%87%e5%b9%bb%e6%97%85%e7%a8%8b/
CATEGORIES:Event,伙伴工作坊,其他
ATTACH;FMTTYPE=image/jpeg:https://trialanderror.hk/wp-content/uploads/2017/08/59034_image_15895905_361020147594902_4154575824953974266_o.jpg
END:VEVENT
BEGIN:VEVENT
DTSTART;TZID=Asia/Shanghai:20170104T193000
DTEND;TZID=Asia/Shanghai:20170104T213000
DTSTAMP:20260424T064855
CREATED:20170802T204515Z
LAST-MODIFIED:20170802T211228Z
UID:59039-1483558200-1483565400@trialanderror.hk
SUMMARY:【取消】工業設計器材示範及分享會 (第二場)
DESCRIPTION:做手作工藝是不是不能用機器生產？今次的分享嘉賓Sam，他擁有專業工業設計和製作生產的技術與知識，他覺得：「我們是要學習如何選擇把某一些工序交給機器，某一些工序則用手作工藝，來讓製成品變得既有創意、有人味，同時也是精準和省卻不必要的工夫。」 \nSam將會介紹各類工業設計的器材，分享如何配合工業生產工具，提昇手作工藝的層次，以及探索設計與創作的新可能。 \n上一場示範活動，因意外（>_
URL:https://trialanderror.hk/single-event/%e3%80%90%e5%8f%96%e6%b6%88%e3%80%91%e5%b7%a5%e6%a5%ad%e8%a8%ad%e8%a8%88%e5%99%a8%e6%9d%90%e7%a4%ba%e7%af%84%e5%8f%8a%e5%88%86%e4%ba%ab%e6%9c%83-%e7%ac%ac%e4%ba%8c%e5%a0%b4/
CATEGORIES:Event,試做蚊型企業家,試做工藝職人
ATTACH;FMTTYPE=image/jpeg:https://trialanderror.hk/wp-content/uploads/2017/08/59039_image_15672613_353831764980407_4108405970554326966_n.jpg
END:VEVENT
BEGIN:VEVENT
DTSTART;TZID=Asia/Shanghai:20161230T193000
DTEND;TZID=Asia/Shanghai:20161230T213000
DTSTAMP:20260424T064855
CREATED:20170802T204518Z
LAST-MODIFIED:20200813T091435Z
UID:59041-1483126200-1483133400@trialanderror.hk
SUMMARY:【12月Error Friday】認真執嘢Swapping小派對
DESCRIPTION:JupYeah 執嘢\n[[認真執嘢Swapping 小派對]] \n日期：30/12（五）\n時間：7:30pm – 9:30pm\n地點：佐敦吳松街191號1樓A室Trial and Error Lab\n費用：$80/位\n搞錯嘉賓：JupYeah 執嘢\n搞錯廚房：廚。思@KUC\nEvent page: https://www.facebook.com/events/214384882350919\n報名連結：https://www.breakthrough.org.hk/breakgather/form/errorfriday（注意：Click “Going”不代表已參加，要填報名表作實啊！）\n（報名表或未能在智能電話、平板電腦上使用，請於電腦使用 Firefox 或Google Chrome開啟） \n內容：\n1) 認認真真換物小派對：帶你的Error Shopping item，是跟其他參加者一起swap。 \n甚麼是Error Shopping item？\n例如：明知唔啱著、唔襯自己，但夾硬買的衫，或以前好鍾意、但不再適合現在風格的東西，也可能買錯款、買錯色、買錯size的衣服等等。 \n2) JupYeah (執嘢) 二手換物活動Error故事分享\n3) 熱辣辣湯水試飲會（每人至少有一碗足料靚湯） \n注意事項：\n1) 每位參加者請帶不多於十件東西參與swapping，例：衣服、飾物、袋、圍巾、帽等等。如最後無swap到出去，請自行取回。\n2) 請調整心態，當作跟認識的朋友分享，帶狀態較為良好的東西。\n3) 基於衛生問題，請勿帶太貼身的東西，例：鞋、內衣褲、leggings等等。\n4) 另，「街坊湯水」鼓勵大家多帶一個飯盒來盛載湯水，跟你的鄰舍分享，例：看更、長者、無家者等等。\n－－－－－－－－－－－－－－－－ \n【12月Error Friday】與JupYeah一起執好自己的消費習慣！ \n年尾時節，大大小小的時裝店也在做Year-end Sale，不斷催侷、催促大家去消費。 \n香港人有一段很長的時間，都習慣用消費、購物作為慶祝的方式。 \n但我們在慶祝，地球卻在流淚。 \n「香港人有購買的能力，但無購買的智力。」二手易物組織JupYeah的 負責人Ren說，一針見血。 \n這幾年，二手易物組織興起，由Oh Yes it’s Free!開始，到Facebook大大小小的二手賣物Group，不定期發生的Swapping party，到專賣二手女裝的Green Ladies。JupYeah也是其中重要一員，他們自2011年開始辦二手換物活動，見盡不同的換物者姿態。二手換物，原是為了讓大家更惜物，但卻有人會唔理好醜，咩都先攞走；亦有人把從未開封的新物拿出來丟。 \n到底，二手換物是不是真的可以讓大家提高環保意識呢？還是那只是讓大家更放心去處理不要的舊物，或者加強了大家去擁有更多物質的場景？ \n12月普天同慶的日子，我們找來JupYeah做「搞錯嘉賓」，跟Trial and Error Lab辦一場認認真真的Swapping Event，再檢討一下我們的消費error。他們亦會分享搞二手換物活動的Do’s and Don’ts，希望我們可以更有智慧、更愛地球地迎接新一年。 \n同場的「搞錯廚房」請來「廚。思@KUC」，也會貫徹不浪費精神，特別去超市和街市找賣相不佳的蔬菜炮製湯水，再到社區不同角落送湯。這次特別請我們試飲，讓他們的成員有更多的實習機會。 \n名額有限，請大家多多支持啊！
URL:https://trialanderror.hk/single-event/%e3%80%9012%e6%9c%88error-friday%e3%80%91%e8%aa%8d%e7%9c%9f%e5%9f%b7%e5%98%a2swapping%e5%b0%8f%e6%b4%be%e5%b0%8d/
CATEGORIES:Event,試做營銷老手
ATTACH;FMTTYPE=image/jpeg:https://trialanderror.hk/wp-content/uploads/2017/08/59041_image_15493737_349660258730891_5947481892906638562_o.jpg
END:VEVENT
BEGIN:VEVENT
DTSTART;TZID=Asia/Shanghai:20161216T193000
DTEND;TZID=Asia/Shanghai:20161216T213000
DTSTAMP:20260424T064855
CREATED:20170802T204522Z
LAST-MODIFIED:20170802T204655Z
UID:59046-1481916600-1481923800@trialanderror.hk
SUMMARY:工業設計器材示範及分享會
DESCRIPTION:以下這些情況會不會是你？\n—沒有靈巧的雙手，即使想嘗試做工藝創作，但不知道如何開始。\n—心中有一些設計或想法，但欠缺工業生產的機器，未能具體製作出來。\n—想少少地生產幾件作品，但無工廠肯接你訂單。就算肯做，成本都好高。\n—不想一開始就找工廠生產，想先做好prototype，看看作品是否可行，才大量生產。 \n今次邀請有專業工業設計和生產技術的Amazing Crew Store「神奇工作室」介紹各類工業設計的器材，分享如何配合工業生產工具，提昇手作工藝的層次，以及探索設計與創作的新可能。活動當日會用laser cut機做示範，讓大家體驗工業生產的製作過程。 \n歡迎大家帶外賣上來吃，不用餓住個肚聽分享！Laser cut機有外蓋蓋住，可以放心吃啊～ \n——————————— \n分享日詳情：\n日期：16/12 (五)\n時間：7:30pm — 9:30pm\n地點：Trial and Error Lab（佐敦吳松街191號1樓A室）\n費用：全免（名額有限，先到先得）\n報名連結：https://goo.gl/mO5seI \n內容： \n1. 80年代起與21世紀的設計方向發展 \n2. 工業性設計如何配合傳統設計\n例：紙品藝術及生産工藝可利用Laser Cut Machine作繪圖，甚至多産量生産。 \n3. 工業性設計的機器設備簡介\n~搖臂式油壓裁斷啤機\n~日本NIPPY皮革鏟皮機\n~高頭皮革工業衣車\n~CNC木工及金工數控雕刻機\n~輕巧office雷射雕刻機 \n4. 個別針對性解決傳統設計生產上的問題\n例：木工手藝創作以前多用手磨，尤其是仔細位置，不過需時較長，而且效果會有偏差。現在可利用”CNC木工及金工數控雕刻機”，將設計圖樣輸入電腦程序，立即雕刻出來。 \n5. 解讀Laser Cut Machine如何成為工藝設計界的未來先鋒
URL:https://trialanderror.hk/single-event/%e5%b7%a5%e6%a5%ad%e8%a8%ad%e8%a8%88%e5%99%a8%e6%9d%90%e7%a4%ba%e7%af%84%e5%8f%8a%e5%88%86%e4%ba%ab%e6%9c%83/
CATEGORIES:Event
ATTACH;FMTTYPE=image/jpeg:https://trialanderror.hk/wp-content/uploads/2017/08/59046_image_15235840_341310762899174_1120267942799918770_o.jpg
END:VEVENT
BEGIN:VEVENT
DTSTART;TZID=Asia/Shanghai:20161125T193000
DTEND;TZID=Asia/Shanghai:20161125T213000
DTSTAMP:20260424T064855
CREATED:20170802T204525Z
LAST-MODIFIED:20170802T204656Z
UID:59048-1480102200-1480109400@trialanderror.hk
SUMMARY:【11月Error Friday】巨人染 紮染體驗及搞錯故事分享
DESCRIPTION:巨人染\n紮染體驗及搞錯故事分享 \n日期：25/11 (五)\n時間：7:30 – 9:30PM\n搞錯嘉賓：巨人染\n搞錯廚房：小休曲奇\n費用：$250\n內容：搞錯蛋糕一件、40 cm x 40cm小手帕紮染體驗、搞錯故事分享\n報名連結：https://goo.gl/s283Rk\n（注意：Click “Going”不代表已參加，要填報名表作實啊！）\n＿＿＿＿＿＿＿＿＿＿＿＿＿＿＿＿ \n用想像和顏料，不斷做實驗，直至形成腦海裏的那幅圖畫－－這是紮染，這也就是Trial and Error。 \n「巨人染」的紮染技師Josh 和Siu認為，在紮染裏面沒有所謂的錯誤，只有無盡的驚喜和經驗學習。一步一步，放開雙手，相信自己，就能創作出自由和快樂的故事。 \n他們兩人會在11月的「搞錯星期五」，一邊帶領大家做簡單的手帕紮染，一邊分享自己的「搞錯故事」：由紐西蘭Working Holiday相遇，到決定一起去台灣開豆腐店、踩高蹺，最後遇上紮染工藝，從此投入其中。 \nTrial and Error 聽起來好似是科學實驗的做法，但其實不段嘗試和實驗的過程，也可以像顏料落入水中，化開、漂流、變化，慢慢了解自己的特性，優雅地演練出來的過程。 \n同場的「搞錯廚房」，找來小休曲奇，為大家泡製一款與本地茶餐廳文化相關的有趣蛋糕。（我們已經率先試食過，好美味好特別啊！） \n名額有限，請大家多多支持啊！\n報名：https://goo.gl/s283Rk
URL:https://trialanderror.hk/single-event/%e3%80%9011%e6%9c%88error-friday%e3%80%91%e5%b7%a8%e4%ba%ba%e6%9f%93-%e7%b4%ae%e6%9f%93%e9%ab%94%e9%a9%97%e5%8f%8a%e6%90%9e%e9%8c%af%e6%95%85%e4%ba%8b%e5%88%86%e4%ba%ab/
CATEGORIES:Event
ATTACH;FMTTYPE=image/jpeg:https://trialanderror.hk/wp-content/uploads/2017/08/59048_image_15025175_332800757083508_849296495850485014_o.jpg
END:VEVENT
BEGIN:VEVENT
DTSTART;TZID=Asia/Shanghai:20161013T160000
DTEND;TZID=Asia/Shanghai:20161016T220000
DTSTAMP:20260424T064855
CREATED:20170802T204528Z
LAST-MODIFIED:20170802T204656Z
UID:59050-1476374400-1476655200@trialanderror.hk
SUMMARY:Trial and Error Lab開幕週
DESCRIPTION:【Trial and Error Lab 開幕日 暨 開放週】\n我們開幕喇！在13/10 （星期四）啊！心水清的你，可能會想：「為何選擇這個人人第二日仲要返工的日子開幕呢？」 \n因為這天是芬蘭的一個節日，叫”International Day for Failure”，一個鼓勵大家嘗試失敗的日子。而我們想鼓勵人嘗試犯錯，所以就硬改這一天為”Day for Error” （嘗試犯錯日）！ \n開幕日由4pm開始，我們會開放實驗室這個一直未見到真身的空間，讓你認識參與計劃的Lab Fellows，了解他們打算用150日嘗試做什麼（日後記住幫忙監督他們有沒有偷懶）。 \n嘗試和犯錯，不只是Lab Fellows要學習的事，而是大家的事。到時我們會準備一些承諾卡，讓每一位來參觀的朋友，寫下想要用150日完成的目標，再用火漆蠟封印，由我們暫存。150日後，在閉幕日的時候，再一齊開啟，看看大家完成了目標沒有（想到這一點就感到非常刺激～） \n同日7pm，有一個半私人小派對，所有Lab Fellows都會出席，還有參與這個計劃的嘉賓和友好們，歡迎大家參與，結識結識新朋友～希望你會來啊！ \nTrial and Error Lab開幕日：\n日期：13/10 (四)\n時間：4:00pm開始 （7:00-9:30pm有半私人小派對）\n地點：九龍吳松街191號突破中心一樓（佐敦港鐵站C2或柯士甸港鐵站F出口）\n地圖：https://goo.gl/AoeIej\n內容：Lab Fellows作品展示，填寫承諾卡加火漆印，飲飲食食，瘋狂影相，結識新朋友……\n查詢電話：5261 6129\n____________________________________________ \n另外，14/10 (五) — 16/10 (日)，我們會開放實驗室，歡迎大家來參觀。我們會準備了一些承諾卡，讓你寫下想要用150日完成的目標，用火漆蠟封印，由我們暫存。在12/3/2017 (日) 閉幕日，再回到實驗室一齊開封，看看大家完成了多少（即使你沒有來取回承諾卡，我們都會寄回給你，別以為可以逃避！） \n到時我們還會送你一張行事曆，讓你記下每天的進度，時刻提醒自己要努力完成目標（係就係有D壓力，但無壓力又點會有動力？）希望到時見到你啦～最好帶一點手信給我們啊！ \nTrial and Error Lab 開放週：\n日期：14/10 (五) — 16/10 (日)\n時間：10:00am–10:00pm\n地點：九龍吳松街191號突破中心一樓（佐敦港鐵站C2或柯士甸港鐵站F出口）\n地圖：https://goo.gl/AoeIej\n內容：(跟開幕日差不多) Lab Fellows作品展示，填寫承諾卡加火漆印，瘋狂影相，結識新朋友……
URL:https://trialanderror.hk/single-event/trial-and-error-lab%e9%96%8b%e5%b9%95%e9%80%b1/
CATEGORIES:Event
ATTACH;FMTTYPE=image/jpeg:https://trialanderror.hk/wp-content/uploads/2017/08/59050_image_14435223_309028306127420_5954519431291689260_o.jpg
END:VEVENT
BEGIN:VEVENT
DTSTART;TZID=Asia/Shanghai:20160813T150000
DTEND;TZID=Asia/Shanghai:20160813T170000
DTSTAMP:20260424T064855
CREATED:20170802T204531Z
LAST-MODIFIED:20170802T204656Z
UID:59055-1471100400-1471107600@trialanderror.hk
SUMMARY:「Trial & Error 實驗室」說明會
DESCRIPTION://嘗試，直至我們找到出路// \n一張枱，一張櫈，150天；\n一班無懼錯誤的同伴，\n一齊瞓身做一件想做的事！ \n嘗試──錯誤──再嘗試，是進步的不二法門，也是生活本來的節奏。只可惜， 「錯誤」在香港有太大的機會成本，行錯一步，就好像會永不超生；我們有新主意，卻沒辦法Trial and Error。 \n如果，我們可以有150日，讓你可以用一個低成本，去嘗試、去錯、去修正，無論你想專心磨鍊一種手工技藝，或完成一個為社會帶來改變的計劃，你願意一同來嗎？ \nTrial and Error Lab是一個在佐敦突破中心的工作空間，我們希望用這個地方，去凝聚一班全身投入的「實驗伙伴」（Lab Fellows），為自己的前路，為城市的將來尋找新路。 \n我們正在物色具冒險精神的本地創作人、手作人、藝術工作者、媒體製作人和社會發明家，與我們共用這個工作空間150天，為我們的城市做一場實驗，鼓勵更多人坐言起行，踏出一小步。\n\n想知道這個計劃的詳情嗎？還有一大堆問題想問嗎？在這天來找我們吧！ \n——————————————————\n（請留意，click “going”不代表參與，要填報名表：bit.ly/labbriefing） \n日期：13/8/2016 (六) \n時間：15:00 – 17:00 \n地點：突破中心14樓1404室（佐敦吳松街191號，港鐵佐敦站 C2 出口或柯士甸站 F 出口） \n地圖：https://goo.gl/maps/voq5dp4e3Cu \n出席說明會報名表：bit.ly/labbriefing（名額有限） \n查詢：2632 0163 (李小姐) 或 trial_and_error@breakthrough.org.hk \n「Trial & Error 實驗室」伙伴招募：https://bit.ly/trialanderrorlab
URL:https://trialanderror.hk/single-event/%e3%80%8ctrial-error-%e5%af%a6%e9%a9%97%e5%ae%a4%e3%80%8d%e8%aa%aa%e6%98%8e%e6%9c%83/
CATEGORIES:Event
ATTACH;FMTTYPE=image/jpeg:https://trialanderror.hk/wp-content/uploads/2017/08/59055_image_13872858_280064355690482_626724775569000133_n.jpg
END:VEVENT
END:VCALENDAR