BEGIN:VCALENDAR
VERSION:2.0
PRODID:-//Trial and Error Lab - ECPv6.1.3//NONSGML v1.0//EN
CALSCALE:GREGORIAN
METHOD:PUBLISH
X-WR-CALNAME:Trial and Error Lab
X-ORIGINAL-URL:https://trialanderror.hk
X-WR-CALDESC:Events for Trial and Error Lab
REFRESH-INTERVAL;VALUE=DURATION:PT1H
X-Robots-Tag:noindex
X-PUBLISHED-TTL:PT1H
BEGIN:VTIMEZONE
TZID:Asia/Hong_Kong
BEGIN:STANDARD
TZOFFSETFROM:+0800
TZOFFSETTO:+0800
TZNAME:HKT
DTSTART:20210101T000000
END:STANDARD
END:VTIMEZONE
BEGIN:VEVENT
DTSTART;TZID=Asia/Hong_Kong:20211021T193000
DTEND;TZID=Asia/Hong_Kong:20211021T210000
DTSTAMP:20260425T082654
CREATED:20210802T120110Z
LAST-MODIFIED:20211015T073714Z
UID:69438-1634844600-1634850000@trialanderror.hk
SUMMARY:行業分享會：Freelancer權益保障淺談
DESCRIPTION:Freelancer生活「Free」，是朝九晚五「打工仔」最羨慕的地方。但一不小心，辛辛苦苦做的工作隨時都「被Free」— 即。係。走。數！T__T \n不要誤會做Freelancer很「爽」，其實他們是自己的老闆，要負責找客戶、談細節、傾價錢，工作賺的一分一毫都有血有淚！如果遇上無良之徒，蓄意拖欠薪金或者獲不合理待遇，真的要「喊出嚟」！ \n今次 Trial Academy 嘗試學院請來前職工盟組織幹事Martin和香港自由工作者服務工會主席Junno，他們處理過很多僱傭關係甚至自由工作者的案件，將會分享Freelancer如何保障自己的權益。原來不想被拖數、走數，是有方法預防的！想知道怎樣捍衛自己的合理權益。快來一起學習吧！ \n分享會對象\n現職或有意成為Freelancer的人士，或有興趣認識Freelance行業的人士 \n分享會重點\n\n與客戶洽談合作時要注意的地方\n被拖糧，怎樣處理？\n白紙黑字的証據：Quotation\, Invoice與其他文件\n分享預防走數方法和追討方式\n個案討論和分析\n\n分享會資料\n\n\n\n\n	上課日期2021年10月21日（四）\n\n\n	上課時間7:30pm-9:30pm\n\n\n	堂數1\n\n\n	地點Trial and Error Lab （佐敦吳松街191號突破中心1樓）\n\n\n	費用 免費\n\n\n	截止報名日期2021年10月19日（二）\n\n\n\n\n報名連結\nhttps://bit.ly/3xxOhwh \n\n導師簡介\nMartin | @前職工盟(HKCTU) 組織幹事 \n專責處理僱傭關係案件，教人辨別真自僱假自僱，認識如何保障自己權益等等。\n網站：http://www.hkctu.org.hk \nJunno｜@香港自由工作者服務工會主席 \n早年負笈台灣，深受台灣地區文化影響，在台灣從事freelance工作多年，近年專責推動freelance模式工作權益保障。
URL:https://trialanderror.hk/single-event/ta2022s1_freelancerrights/
LOCATION:匠舍 Artisan Essence\, 1/F\, Breakthrough Centre\, 191 - 197 Woo Sung Street\, Jordan\, Kowloon
CATEGORIES:Highlight Courses,Event,Trial Academy
ATTACH;FMTTYPE=image/jpeg:https://trialanderror.hk/wp-content/uploads/2021/08/ta_xc_01.jpg
END:VEVENT
END:VCALENDAR