BEGIN:VCALENDAR
VERSION:2.0
PRODID:-//Trial and Error Lab - ECPv6.1.3//NONSGML v1.0//EN
CALSCALE:GREGORIAN
METHOD:PUBLISH
X-WR-CALNAME:Trial and Error Lab
X-ORIGINAL-URL:https://trialanderror.hk
X-WR-CALDESC:Events for Trial and Error Lab
REFRESH-INTERVAL;VALUE=DURATION:PT1H
X-Robots-Tag:noindex
X-PUBLISHED-TTL:PT1H
BEGIN:VTIMEZONE
TZID:Asia/Hong_Kong
BEGIN:STANDARD
TZOFFSETFROM:+0800
TZOFFSETTO:+0800
TZNAME:HKT
DTSTART:20220101T000000
END:STANDARD
END:VTIMEZONE
BEGIN:VEVENT
DTSTART;TZID=Asia/Hong_Kong:20220225T193000
DTEND;TZID=Asia/Hong_Kong:20220225T213000
DTSTAMP:20260425T022842
CREATED:20211209T094836Z
LAST-MODIFIED:20211214T071051Z
UID:69952-1645817400-1645824600@trialanderror.hk
SUMMARY:行業分享會【經營小型品牌：賣嘢Dos and Don’ts】
DESCRIPTION:分享會簡介\n賣嘢不懂規矩，小心「好嘢」變「伏嘢」! \n想像在不同平台賣嘢，賣來賣去都是同一類產品，沒有理會各個平台的獨特性，銷售反應當然一般；每次進駐寄賣店，不用心處理銷售文件，寄賣店負責人自然定意與你說再見；期望開展網上銷售平台，卻沒有好好撰寫品牌故事與預備IG-able相片，品牌很快就會淹沒於網絡大海。 \n近年愈來愈多人嘗試創立手作品牌，為讓更多人認識自己的產品，不少人會選擇在IG宣傳產品、進駐商舖做零售、拓展寄賣點，甚至加入網上選物平台。不過賣嘢的渠道多，要留神的地方亦多。當中大至市場的定位、品牌的宣傳、產品的獨特性，小至寄賣文件的準備、靚相一張、與合作夥伙禮貌的一句「唔該」，都要用心處理。此分享會將透過經驗交流，與參加者解構經營小型品牌的賣嘢Dos and Don’ts，讓大家留心每個可能的「中伏位」。 \n分享會內容\n經驗分享、個案分析 \n分享會重點\n\n賣嘢前，必先要認識自己的品牌\n如何選擇合適的銷售平台\n各類賣嘢的「升呢位」與「中伏位」\n賣手角度分析：經營網上選物平台「盒嘢」的經驗談\n個案討論與分享\n\n分享會對象\n有意投提升品牌「賣嘢」效率的手作工藝師和小型品牌創辦人 \n分享會資料\n\n\n\n\n	上課日期2022年2月25日（五）\n\n\n	上課時間7:30pm-9:30pm\n\n\n	地點網上平台 Zoom （相關Zoom連結將於分享會前7日透過電郵發出）\n\n\n	費用 免費\n\n\n	截止報名日期2022年2月23日（三）\n\n\n\n\n報名連結\nhttps://bit.ly/3pU4ERY \n\n分享嘉賓\n琬婷、Janet\n富有指導小型品牌營運經驗的Trial and Error Lab管理員、網上選物平台「盒嘢」的負責人
URL:https://trialanderror.hk/single-event/ta2022s2_consignment/
LOCATION:匠舍 Artisan Essence\, 1/F\, Breakthrough Centre\, 191 - 197 Woo Sung Street\, Jordan\, Kowloon
CATEGORIES:Trial Academy
ATTACH;FMTTYPE=image/jpeg:https://trialanderror.hk/wp-content/uploads/2021/12/ta_xc_01.jpg
END:VEVENT
END:VCALENDAR