BEGIN:VCALENDAR
VERSION:2.0
PRODID:-//Trial and Error Lab - ECPv6.1.3//NONSGML v1.0//EN
CALSCALE:GREGORIAN
METHOD:PUBLISH
X-WR-CALNAME:Trial and Error Lab
X-ORIGINAL-URL:https://trialanderror.hk
X-WR-CALDESC:Events for Trial and Error Lab
REFRESH-INTERVAL;VALUE=DURATION:PT1H
X-Robots-Tag:noindex
X-PUBLISHED-TTL:PT1H
BEGIN:VTIMEZONE
TZID:Asia/Hong_Kong
BEGIN:STANDARD
TZOFFSETFROM:+0800
TZOFFSETTO:+0800
TZNAME:HKT
DTSTART:20220101T000000
END:STANDARD
END:VTIMEZONE
BEGIN:VEVENT
DTSTART;VALUE=DATE:20220505
DTEND;VALUE=DATE:20220506
DTSTAMP:20260424T195224
CREATED:20220406T063736Z
LAST-MODIFIED:20220411T033717Z
UID:70320-1651708800-1651795199@trialanderror.hk
SUMMARY:【早鳥優惠】2022年第三季（5至8月）課程已接受報名！
DESCRIPTION:嘗試學院 Trial Academy 是專門讓渴望投身文化創意產業的朋友，接受相關裝備與培訓的學習平台！我們每一季都會推出重點課程，等你可以靈活安排，發展個人事業與創意工作，並結識伙伴。全部課程小班教學，學位有限，報名趁早！雖然時代變化太快，但我們相信持續學習和嘗試，會為你帶來出路！ \n  \n優惠詳情\n凡於2022年5月5日前報讀下列指定課程，可享85折早鳥優惠（適用於正價課程） \n報名連結：https://bit.ly/3xeET4f < 立即報名！ \n  \n5至8月課程簡介\n探索系列 Explorer Series: \n適合想擴闊視野、有意從事文創行業的朋友！ \n從興趣到專業：開創打動人心的插畫品牌（研習） < 按此了解詳情！ \n\n建立了插畫品牌後，總有N個問題：你有令人一眼記得的風格嗎？創作與商業，兩者要怎樣平衡？插畫品牌適合哪種宣傳方式？研習班請來擁有超過20年專業插畫經驗的導師，從插畫技巧、風格建立、到品牌營運、行銷推廣，一步步指導同學開創自己的插畫品牌。興趣能夠變成專業，是幸福的事。想畫畫升呢，作品更多人認識，就來報名吧！\n\n行業分享會【只係手作仔？NO！提升手作工藝鑑賞力講座】< 按此了解詳情！ \n\n\n為何差不多的手作產品，有人賣$39、有人卻賣$389？究竟如何分辨是否物有所值？Trial Academy將舉辦免費線上講座，讓大家安坐家中，也可學做個精明的手作消費者，不易「受騙」，買到心水產品！ \n\n\n  \n實驗課程 Walker Course:\n課程為期1-3堂，以幫助創業新手打穩品牌基礎為主！ \n成為最強小編：產品大賣的內容行銷法則 < 按此了解詳情！ \n\n\n手作人擁有巧手一雙，不難完成精緻作品，但最怕作品無人問津。本課程將請來資深廣告人教授內容行銷的要訣，分享多年來成功吸客的行銷密技。不論你是新生與否，必能成為最強小編，寫出令產品大賣的行銷內容！ \n\n\n從興趣到專業：開創打動人心的插畫品牌（體驗） < 按此了解詳情！ \n\n\n如何才能讓人認識我的插畫作品？創立插畫品牌的第一步應是甚麼？課程請來擁有超過20年專業插畫經驗的導師，為大家解答以上問題，分享開創插畫品牌的心得。 \n\n\n手作產品攝影技巧入門（基礎） < 按此了解詳情！ \n\n疫情下，許多實體生意都投身網上市場，不過人多自然競爭多，要如何在云云同類型產品中，成功吸睛？課程將以一般相機為工具，教授基本攝影技術，更透過構圖、燈光運用、產品角度及排列等等，拍出產品的內涵、信息、美感和故事。\n*同時報讀手作產品攝影技巧入門（進階），可享組合價$680（原價$850）\n\n手作產品攝影技巧入門（進階） < 按此了解詳情！ \n\n為已有攝影理論基礎的人而設，讓學員即時在課堂透過不同主題和要求作實戰練習，即場為產品拍攝專業的宣傳照。\n*同時報讀手作產品攝影技巧入門（基礎），可享組合價$680（原價$850）\n\n  \n「我適合什麼課程？」按此了解我們的課程如何分類吧！ \n「我想了解全部課程！」歡迎你按此瀏覽所有課程！ \n「嘩，好吸引！如何報名？」報名傳送門在此！ \n  \n\n疫情下的特別安排：\n\n所有學員必需妥善配戴口罩以及讓工作人員量度體溫後方可上課；如不遵守此規則，Trial Academy 有權要求參加者離開課室並不獲退款。\n活動如有任何突發變動，將於7日前以電郵通知延期安排，如學員未能於延後的日子上課，將安排退款（不適用於實戰課程）。\n若感到身體不適，或與任何確診或疑似患者有過緊密接觸，請留在家中休息，避免外出。\n\n\n 
URL:https://trialanderror.hk/single-event/ta2022s3/
LOCATION:匠舍 Artisan Essence\, 1/F\, Breakthrough Centre\, 191 - 197 Woo Sung Street\, Jordan\, Kowloon
CATEGORIES:Trial Academy
ATTACH;FMTTYPE=image/jpeg:https://trialanderror.hk/wp-content/uploads/2022/04/ta2122_cover.jpeg
END:VEVENT
BEGIN:VEVENT
DTSTART;TZID=Asia/Hong_Kong:20220506T193000
DTEND;TZID=Asia/Hong_Kong:20220506T220000
DTSTAMP:20260424T195224
CREATED:20211209T094850Z
LAST-MODIFIED:20220406T045351Z
UID:69953-1651865400-1651874400@trialanderror.hk
SUMMARY:實驗課程【提升銷售的陳列竅門】
DESCRIPTION:課程簡介\n貨品陳列方式直接影響銷售，同時能夠提升品牌形象。同一件貨品，絕對會因為陳列設計直接影響其吸引力。但不同品牌、不同銷售點、不同空間和環境，是不是也用同一種陳列方式？本課程將教授有關小品牌的陳列技巧，包括市集小檔設計、寄賣點以至網上銷售平台之建立等。 \n課程內容\n概念分享、個案分析、經驗分享、應用練習 \n課程重點\n\n陳列的吸引力法則\n陳列與銷售的關係\n產品設計與陳列的關係\n各類型的陳列元素和竅門\n市集桌上的黃金分割\n各種環境陳列注意事項\n\n課程對象\n有意提升市集擺檔或寄賣點的陳列技巧；希望了解陳列重要性的人士 \n課程資料*\n\n\n\n\n	上課日期2022年5月6日（五）\n\n\n	上課時間7:30pm-10pm\n\n\n	地點Trial and Error Lab （佐敦吳松街191號突破中心1樓）\n\n\n	費用 $380 \n同時報讀「品牌包裝設計入門」可享組合價$600（原價$760）\n\n\n	截止報名日期2022年4月29日 （五）\n\n\n\n\n*Trial Academy 將持續觀察疫情，課堂將因應疫情的狀況以及政府分佈的限聚令安排，有機會改為網上授課。如有改動，Trial Academy會於開課前7日透過電郵發出通知，敬請留意。 \n報名連結\nhttps://bit.ly/3pU4ERY \n\n導師簡介\nRonnie 和 Perine九年前創立品牌「簡梘」，推廣全天然香港手造沐浴產品，常見於大小市集，亦已獲得香港設計委員會的 D-Mark 認證。他們各自有超過 15年的品牌包裝（Brand and Product Design）、視覺營銷（Visual Merchandising）和設計經驗，對於如何建立手作品牌甚有心得。他們沒有一條必勝法則，但願意跟大家一起研究、嘗試、再學習，如何把你所看重的手作技巧，培養成為事業。 \n\n 
URL:https://trialanderror.hk/single-event/ta2022s2_display/
LOCATION:匠舍 Artisan Essence\, 1/F\, Breakthrough Centre\, 191 - 197 Woo Sung Street\, Jordan\, Kowloon
CATEGORIES:Trial Academy,Highlight Courses
ATTACH;FMTTYPE=image/jpeg:https://trialanderror.hk/wp-content/uploads/2021/12/ta_wc_03.jpg
END:VEVENT
BEGIN:VEVENT
DTSTART;TZID=Asia/Hong_Kong:20220510T193000
DTEND;TZID=Asia/Hong_Kong:20220517T213000
DTSTAMP:20260424T195224
CREATED:20220407T090652Z
LAST-MODIFIED:20220428T061520Z
UID:70327-1652211000-1652823000@trialanderror.hk
SUMMARY:（滿額）從興趣到專業：開創打動人心的插畫品牌（體驗）
DESCRIPTION:課程簡介\n喜歡畫畫的人一定會明白，最快樂的時候莫過於當你可以拿起畫筆，自由地用喜歡的顏色與線條，心中想甚麼而畫。若然畫完畫，還有人讚賞自己的作品，甚至願意出錢收歸己有，就更加是happy bonus！ \n不過要獲得happy bonus，大家可能會問：除了身邊朋友，如何才能讓人認識我的插畫作品？我的作品「夠靚」展示於人前？創立插畫品牌的第一步應是甚麼？要做插畫品牌，就一定要創作插畫角色？插畫市場興甚麼，我就要畫甚麼？單靠畫插畫，就能餵飽自己？ \n問題多多卻無人解答？這裡有人答到你！今季Trial Academy嘗試學院請來擁有超過20年專業插畫經驗的導師，為大家解答以上問題（除了最後一題，就要睇自己努力了！），分享開創插畫品牌的心得。 \n放心！同學不會齋坐聽書，導師更會邀請大家手執畫筆，跟隨他學習不同插畫要訣，邊畫邊嘗試找出自己的風格，邊畫邊構想自己的品牌雛型。喜歡畫畫的朋友，不要錯過這堂課啊！ \n註：眼利的你，可能會發現這個課程有「體驗班」與「研習班」之分。 \n如果你心大心細，未下定決心創立自己的插畫品牌，不妨先上體驗班，享受一大班人畫畫的樂趣，又聽聽導師分享做品牌的經驗。但如果你已決心滿滿，要擁有自己的插畫品牌，又願意花3個月時間努力做好它，就可直接上研習班。 \n當然你可上完體驗班，再決定報不報研習班  （戴頭盔：我們不能保證課程未滿額哦！） \n課程內容\n插畫技巧教學、實戰創作、品牌分析、經驗分享、小組討論 \n課程重點\n\n何謂好的插畫？\n插畫品牌種類\n創立插畫品牌的入門條件\n發掘自己的插畫風格\n互動工作坊：\n• 插畫基本功\n• 人物角色設計\n\n課程對象\n對插畫創作有興趣、有意創立個人插畫品牌、已擁有插畫品牌並希望提升品牌成熟度的朋友 \n課程資料*\n\n\n\n\n	上課日期2022年5月10日及17日（二）\n\n\n	上課時間7:30pm-9:30pm\n\n\n	地點Trial and Error Lab\n\n\n	費用 $450\n\n\n	截止報名日期2022年5月3日（二）\n\n\n\n\n*Trial Academy 將持續觀察疫情，課堂將因應疫情的狀況以及政府分佈的限聚令安排，有機會改為網上授課。如有改動，Trial Academy會於開課前7日透過電郵發出通知，敬請留意。 \n其他事項\n參加者需自備畫具、iPad或手提電腦作課堂插畫實習之用。 \n報名連結\n已經滿額，多謝支持！ \n\n導師簡介\n伍尚豪（Peter Ng）｜拍拍手創作室創意總監｜插畫 x 人物設計 x 動畫創作人 \nPeter是插畫動畫創作狂熱分子，亦是香港插畫師協會前任會長及現任會員。於1997年憑《三文魚先生》的第三屆香港獨立短片及影像比賽（ ifva ）動畫組金獎， 2001年再憑《蒲公英》奪得IFVA動畫組銀獎。2004年於香港匯豐銀行和香港文化博物館合辦的「我的香港鈔票」設計比賽中榮獲冠軍。2005年獲香港藝術中心邀請，聯同其他8個動畫單位為「i-city Festival」製作動畫電影，其創作之短片為〈我的燕子〉。 \nPeter最為人樂道的，是參與《芝SEE菇BI FAMILY》「苦榮」和「小苦妹」的人物設計及漫畫創作。之後亦為香港社會福利處、LEVI’S及NOKIA等作動畫或角色設計。現為香港社會福利署「凝聚家庭、齊抗暴力」宣傳運動人物設計及動畫創作「火爆家族」原創者。
URL:https://trialanderror.hk/single-event/ta2022s3_illustration/
LOCATION:匠舍 Artisan Essence\, 1/F\, Breakthrough Centre\, 191 - 197 Woo Sung Street\, Jordan\, Kowloon
CATEGORIES:Trial Academy,Highlight Courses
ATTACH;FMTTYPE=image/jpeg:https://trialanderror.hk/wp-content/uploads/2022/04/ta_wc_02-scaled.jpg
END:VEVENT
END:VCALENDAR