BEGIN:VCALENDAR
VERSION:2.0
PRODID:-//Trial and Error Lab - ECPv6.1.3//NONSGML v1.0//EN
CALSCALE:GREGORIAN
METHOD:PUBLISH
X-WR-CALNAME:Trial and Error Lab
X-ORIGINAL-URL:https://trialanderror.hk
X-WR-CALDESC:Events for Trial and Error Lab
REFRESH-INTERVAL;VALUE=DURATION:PT1H
X-Robots-Tag:noindex
X-PUBLISHED-TTL:PT1H
BEGIN:VTIMEZONE
TZID:Asia/Hong_Kong
BEGIN:STANDARD
TZOFFSETFROM:+0800
TZOFFSETTO:+0800
TZNAME:HKT
DTSTART:20220101T000000
END:STANDARD
END:VTIMEZONE
BEGIN:VEVENT
DTSTART;TZID=Asia/Hong_Kong:20220610T193000
DTEND;TZID=Asia/Hong_Kong:20220610T213000
DTSTAMP:20260424T151738
CREATED:20220408T085631Z
LAST-MODIFIED:20220606T075213Z
UID:70323-1654889400-1654896600@trialanderror.hk
SUMMARY:成為最強小編：產品大賣的內容行銷法則
DESCRIPTION:課程簡介\n手作人擁有巧手一雙，不難完成精緻作品，但最怕作品無人問津。好作品拍烏蠅，不一定與手作人的工藝有關，更大可能是你還未懂得吸客的行銷之道！ \n經營手作品牌的朋友，容易將焦點放在工藝的精緻度與產品的美感上，卻往往忽略內容行銷（Content Marketing）的重要性。 \n簡單來說，內容行銷就如同一塊能夠主動吸客的大磁石，透過傳達對客人有價值與實用的內容、精準地突出產品好處、刺激受眾的慾望與痛點，令客人對品牌產生關注與好感，甚至願意跟着品牌跑，往後推出作品就更能熱賣。 \n本課程將請來資深廣告人教授內容行銷的要訣，分享多年來成功吸客的行銷密技。不論你是新生與否，必能成為最強小編，寫出令產品大賣的行銷內容！ \n課程內容\n理論概念、個案分析、經驗分享、課堂練習、小組討論 \n課程重點\n\n何謂內容行銷？\n製訂有效的內容行銷： 品牌定位 vs 目標客群\n撰寫文案以及圖輯運用之技巧\n個案分享\n\n課程對象\n正在經營手作品牌，並有意提升品牌形象與行銷力的朋友 \n課程資料*\n\n\n\n\n	上課日期2022年6月10日（五）\n\n\n	上課時間7:30pm-9:30pm\n\n\n	地點Trial and Error Lab\n\n\n	費用 $200\n\n\n	截止報名日期2022年6月3日（五）\n\n\n\n\n*Trial Academy 將持續觀察疫情，課堂將因應疫情的狀況以及政府分佈的限聚令安排，有機會改為網上授課。如有改動，Trial Academy會於開課前7日透過電郵發出通知，敬請留意。 \n報名連結\n課程已截止報名，謝謝支持！ \n\n導師簡介\nJann Yu｜Gonguu聯合創辦人及總監 \nJann先後於香港城市大學及香港科技大學修讀媒體傳播學士及工商管理碩士，由任職文案開始，於多家國際4As及本地廣告公司任職逾12年，曾效力JWT、McCann、FCB、Havas、Publicis等。2022年初創立Gonguu創意事務所，繼續以創意助客戶建立品牌；相信「講故」— 好好為品牌說好故事，才是創意的根本。同期成立社交專頁，將多年來的創作經驗，轉化成人人易學易懂的社交媒體營銷心得。
URL:https://trialanderror.hk/single-event/ta2022s3_siupin/
LOCATION:匠舍 Artisan Essence\, 1/F\, Breakthrough Centre\, 191 - 197 Woo Sung Street\, Jordan\, Kowloon
CATEGORIES:Trial Academy,Highlight Courses
ATTACH;FMTTYPE=image/jpeg:https://trialanderror.hk/wp-content/uploads/2022/04/ta_wc_01-scaled.jpg
END:VEVENT
BEGIN:VEVENT
DTSTART;TZID=Asia/Hong_Kong:20220624T193000
DTEND;TZID=Asia/Hong_Kong:20220624T213000
DTSTAMP:20260424T151738
CREATED:20220523T074847Z
LAST-MODIFIED:20220602T112713Z
UID:70471-1656099000-1656106200@trialanderror.hk
SUMMARY:錯誤星期五 Error Friday：今時今日仲做有理想嘅社工，係咪好Error？
DESCRIPTION:你是否擁有以下條件？ \n✅有愛心 \n✅唔怕辛苦 \n✅好想幫人 \n✅夢想係造福人羣 \n✅又唔怕做行政文件 \n✅喜歡對住人嘅工作…… \n「你不如做社工啦？有愛人又想幫人！」是否已經有很多人這樣跟你說過？ \n#社工係咪真係做到嘢？\n當社會問題一籮籮，不論個人或家庭的求助個案大增，看來社工就像萬能俠，能以專業身份去解決服務對象問題，又能把資源放到有需要人士身上，更能倡議政策；實在滿足了想追夢的人！ \n#社工係咪真係幫到人？\n但進一步地想，假如真的想改變社會，是否做社工才能圓夢？在服務機構的固有架構、一筆過撥款政策等限制下；大部分社工不再高薪厚職，制度與資源更成為社工發展的窒礙；愈講理想的社工，是否愈痛苦？ \n你仍未被以上理由打沉？仍然擁抱初心，想改變世界，想為服務對象與弱勢群體帶來新點子，更希望在主流與制度下，用社工專業來實踐夢想？好，就請來與你一樣的註冊社工黎柏然，分享今時今日即使做社工有幾error——但社會仍需要造夢的人！ \n如果你是……就要嚟呀！\n☑新進社工，深感疲累想圍爐取暖 \n☑不論有否社福背景，都想探索轉行做社工的可能性 \n☑想知道為何有人會熱血不懈地堅持在主流框架下工作 \n☑克服追求理想的孤單 \n分享內容\n\n分享嘉賓黎柏然入入行初衷，原來並不是社工？\n黎柏然曾任駐校社工五年，主要工作有何error？\n做社工幫到人嗎？還是富有的人更有資源幫人、改變社會？\n想做一個有理想的社工，如何在制度與機構的框架盡做？\n在疫情前後，做社工最困難是什麼？如何克服？\n黎柏然與身邊同業，有覺得入錯行嗎？是什麼最令身為社工的他們，知道即使很ERROR 仍然不想轉行？\n給想入行社工的朋友的實用建議。\n\n活動資料\n\n\n\n\n	活動日期2022年6月24日（五）\n\n\n	活動時間7:30pm-9:30pm\n\n\n	地點Trial and Error Lab\n\n\n	費用 $130\n\n\n	截止報名日期2022年6月22日（三）\n\n\n\n\n活動報名\nhttps://bit.ly/2022ef2 \n\n嘉賓\n黎柏然先生｜循道衛理優質生命教育中心創意課程及活動發展主任\n註冊社工，任職駐校社工五年，為做好社工，連編上課時間表與做畢業禮表演都要做埋。工作中無數學生與家長的故事在其生命揮之不去，令他對「社工專業能否幫人」有深刻思考。工餘跟朋友創立防止青少年自殺組織，近年投身青少年生命教育。由此至終，他仍相信自己一日社工，終身社工。
URL:https://trialanderror.hk/single-event/2022ef2/
LOCATION:匠舍 Artisan Essence\, 1/F\, Breakthrough Centre\, 191 - 197 Woo Sung Street\, Jordan\, Kowloon
CATEGORIES:Event,Error Friday
ATTACH;FMTTYPE=image/png:https://trialanderror.hk/wp-content/uploads/2022/05/EF-peter_nico_EF-KV-01.png
END:VEVENT
END:VCALENDAR