BEGIN:VCALENDAR
VERSION:2.0
PRODID:-//Trial and Error Lab - ECPv6.1.3//NONSGML v1.0//EN
CALSCALE:GREGORIAN
METHOD:PUBLISH
X-ORIGINAL-URL:https://trialanderror.hk
X-WR-CALDESC:Events for Trial and Error Lab
REFRESH-INTERVAL;VALUE=DURATION:PT1H
X-Robots-Tag:noindex
X-PUBLISHED-TTL:PT1H
BEGIN:VTIMEZONE
TZID:Asia/Hong_Kong
BEGIN:STANDARD
TZOFFSETFROM:+0800
TZOFFSETTO:+0800
TZNAME:HKT
DTSTART:20230101T000000
END:STANDARD
END:VTIMEZONE
BEGIN:VEVENT
DTSTART;TZID=Asia/Hong_Kong:20230106T193000
DTEND;TZID=Asia/Hong_Kong:20230106T213000
DTSTAMP:20260424T010120
CREATED:20221208T045341Z
LAST-MODIFIED:20221228T091134Z
UID:71448-1673033400-1673040600@trialanderror.hk
SUMMARY:錯誤星期五 Error Friday ︳咁遲先去做Slasher，係人生最大嘅Error？
DESCRIPTION:體適能健身教練 X 寫作班導師 X 陶藝室打雜 羅維日 \n赤裸分享全職Slasher有幾多Error \n「做Slasher 後，我的時間運用充實多了！」大學時攻讀中文系及人類學系的羅維日（阿日），畢業時深信要學以致用，曾任職多份與文字有關的全職工作，包括雜誌編輯、書店售貨員、大學研究助理、電台PA、藝術行政等。後來醉心運動，他又以一身好體格考進消防；同時嘗試了臨時演員、補習老師、寫作班導師、體適能健身教練、文字創作……但當年朝九晚五、排得滿滿的工作，遠不如他今天每周有限工時的Slasher充實？ \n \n#不再虛耗在朝九晚五 \n阿日自言每份工作都竭盡所能，也有享受與得著；但打過多份長工後，因為一個契機，令他恍然大悟生命不再虛耗在朝九晚五（或朝十晚十）的超長工時與行政雜務上，決意考取不同證書，投身幾份性質風馬牛不相及的自僱工作，重新編寫自己的職志與生產力。 \n\n#視自己是一間公司營運 \n如今Slasher是世界潮流，予人印象是chill與快活；但對他而言，做Slasher不是為趕潮流，也非為迎合別人，而是學習好好經營自我：「要視自己為一間公司，建立獨特的品牌，有好的內涵、外表及營運方法。」擁抱過去全職工作trial  and error的經歷，培養良好紀律、理財能力、人脈之外，他認為要做好更重要的東西，才能享有財務穩健、善用時間的自由；那又是什麼呢？ \n或者這晚的命題，也可以是「如果一生都不做 / 做Slasher，是你人生最大的Error」吧！這次Error Friday將邀請阿日來詳盡分享；2023年第一個周五晚上，就來一起與阿日及眾多slasher圍爐與取經吧！報名請按：https://form.breakthrough.org.hk/form/EF2223_02（首15位參加者將獲贈價值$88的黃岳永著作《工作自主—組合你的Slash人生》乙本） \n \n（圖片提供：Phobe @ SportSoho） \n_____________ _____________ _____________ \n如果你係⋯⋯就要嚟呀！ \n☑想知道如何成為一個既有穩定收入又身心自由的Slasher \n☑想跟Slasher同行的NGO、社工、老師或傳道人等 \n☑想理解做Slasher的條件 \n☑想了解世界Slasher潮流 \n☑想知道為何有人熱血不懈地堅持非主流工作 \n☑希望克服追求理想的孤單 \n  \n分享內容 \n1 你決定做Slasher是跟潮流還是陰差陽錯？ \n2 Slasher與炒散有何分別？ \n3 明明做過人工高福利好的全職長工，為何甘心捨棄？ \n4 何時是成為Slasher的契機？要有何預備？ \n5 如何一個財務穩健與身心自由的Slasher？在學習紀律與理財之外，做Slasher的素質與條件是？ \n6 Slasher選擇工作時，要有什麼共通點？工作的同質性高，還是性質迴異較好？ \n7 當沒有老闆或上司，Slasher工作上遇上挑戰或失誤，要如何解決？ \n8 給準備做Slasher的朋友實際建議。 \n_____________ \nError Friday 活動資料\n\n\n\n\n	日期2023年1月6日\n\n\n	時間7:30pm-9:30pm\n\n\n	\n\n\n	地點九龍佐敦吳松街191號突破中心一樓Trial and Error Lab\n\n\n	費用 $130 （首15位參加者將獲贈價值$88的黃岳永著作《工作自主—組合你的Slash人生》乙本）\n\n\n	截止報名日期2023年1月3日（二）\n\n\n\n\n活動報名\nhttps://form.breakthrough.org.hk/form/EF2223_02 \n\n分享嘉賓\n羅維日｜體適能健身教練 X 寫作班導師 X 陶藝室打雜 Slasher （IG：https://www.instagram.com/ahyat.law/） \n私人體適能健身教練 / 貓奴，同時任教於運動文化空間Powwow及多個團體，並參與陶藝室及共享空間營運，並身兼多個文化項目。工作未夠十年，打過超過十份工作，見過人生百態，嗜好繁多，明白追求的不單是一份穩定工作，而是更多人生的可能性。
URL:https://trialanderror.hk/single-event/20230106/
LOCATION:匠舍 Artisan Essence\, 1/F\, Breakthrough Centre\, 191 - 197 Woo Sung Street\, Jordan\, Kowloon
CATEGORIES:Event,Error Friday
ATTACH;FMTTYPE=image/png:https://trialanderror.hk/wp-content/uploads/2022/12/errorfriday_fin2_KV1.png
END:VEVENT
BEGIN:VEVENT
DTSTART;VALUE=DATE:20230114
DTEND;VALUE=DATE:20230115
DTSTAMP:20260424T010120
CREATED:20221230T083047Z
LAST-MODIFIED:20230106T075138Z
UID:71513-1673654400-1673740799@trialanderror.hk
SUMMARY:繪本讀書會 @ Trial and Error Lab
DESCRIPTION:【Trial and Error Lab 嘗試學院 「2023繪本創作研習班」導師貓珊與畢業同學分享】 \n\n眨眼一年又過，這是最適合擰轉個頭，回望生活的時候。當中會有一些人、物、事令你掛念嗎？\n\n\n \n\n\n◢ 兒時的你有否與父母做運動的習慣？一起郁動，直到有年他們老了，不再好動。\n\n\n◢ 你有關係要好的兄弟姊妹？長大了關係融洽，卻會懷念小時候吵鬧的日子。\n\n\n◢ 你經歷過情緒低谷嗎？或許你未忘陰霾，但同時亦記得是甚麼帶你離開黑暗。\n\n\n◢ 曾經居住的社區仍在嗎？拆了或是未拆，最重要與你居住的人仍在。\n\n\n \n\n\n逝去的時光無形，人們偏偏最愛捕捉。\n\n\n \n\n\n沒有既定主題，有趣的是剛畢業的繪本班同學作品，大多取材自過去一段人生時光（不一定屬於自己，也是別人的人生時光。閱讀所有繪本後，你就會明白為何這裏要戴頭盔講清楚，哈）在1月14日，繪本作家貓珊老師將與一眾畢業同學於突破書廊舉辦讀書會，現場閱讀他們的繪本作品，分享他們用繪本記錄的人生時光。貓珊老師亦會同場分享製作繪本的樂趣。\n\n\n \n\n\n誠邀你到場，與貓珊、與同學們一同閱讀過去那些時光，或許你也會從中找到自己❤️\n\n分享內容\n\n繪本基本解構\n怎樣才算一本好繪本\n給想嘗試創作繪本者的建議\n透過繪本，怎樣用另一個視點看世界\n現場繪本閱讀體驗，由畢業同學親自朗讀創作的繪本\n\n溫馨提示：讀書會將不會具體教授製作繪本的技巧。 \n讀書會詳情\n\n\n\n\n	上課日期2023年1月14日（六）\n\n\n	上課時間2:30pm-4:30pm\n\n\n	地點突破中心一樓\n（九龍佐敦吳松街191號）\n\n\n	費用 $100 \n\n\n	截止報名日期2023年1月9日（一）\n\n\n\n\n報名連結\n\n分享嘉賓\n貓珊（袁明珊 ）｜繪本作家、畫家\n於英國劍橋大學取得碩士學位，主修兒童文學。現為全職繪本作家及畫家，經常繪製大型社區地圖。於2014年創辦樹木保育專頁「親愛的樹」；出版著作包括《獅子山下的黃大獅》、《最後的告別》、《iDiscover Hong Kong Guide》、《Deserve》及《小虎妹形象工作室》（日）等。曾多次於香港及海外參與展覽，2019年並於日本越後妻有大地藝術祭中的田島征三繪本美術館進行個人展覽。 \n\n「繪本創成展」 @ 突破書廊 詳情\n日期：5/1/2023 至 18/1/2023\n營業時間：\n星期一、三至六：11:00am – 8:00pm\n星期二：12:30pm – 8:00pm\n星期日及公眾假期：12:30pm – 6:30pm\n地址：突破書廊（九龍佐敦吳松街191號地下）
URL:https://trialanderror.hk/single-event/ta2022s2_picturebooktalk-2/
LOCATION:匠舍 Artisan Essence\, 1/F\, Breakthrough Centre\, 191 - 197 Woo Sung Street\, Jordan\, Kowloon
CATEGORIES:Event,Trial Academy,Highlight Courses,重點推介
ATTACH;FMTTYPE=image/png:https://trialanderror.hk/wp-content/uploads/2022/12/未命名的作品-2.png
END:VEVENT
BEGIN:VEVENT
DTSTART;VALUE=DATE:20230117
DTEND;VALUE=DATE:20230211
DTSTAMP:20260424T010120
CREATED:20230117T040008Z
LAST-MODIFIED:20230117T050536Z
UID:71555-1673913600-1676073599@trialanderror.hk
SUMMARY:【早鳥優惠】2022-2023年第二季（2月至7月）課程已接受報名！
DESCRIPTION:嘗試學院 Trial Academy 是專門讓渴望投身文化創意產業的朋友，接受相關裝備與培訓的學習平台！我們每一季都會推出重點課程，等你可以靈活安排，發展個人事業與創意工作，並結識伙伴。全部課程小班教學，學位有限，報名趁早！雖然時代變化太快，但我們相信持續學習和嘗試，會為你帶來出路！ \n  \n優惠詳情\n凡於2023年2月10日前報讀下列指定課程，可享85折早鳥優惠（適用於正價課程） \n< 立即報名！ \n  \n23年2月至7月課程簡介\n實戰課程 Runner Course:\n課程一般為期4-6個月，讓學員有充分的空間和時間重整品牌定位，修正以及重新嘗試！ \n從定位、美學到營銷：經營小型品牌101 < 按此了解詳情！ \n\n在今季，Trial Academy嘗試匯集多位資深導師，教授參與者經營手作品牌的各門技巧——由認識何謂紮實的品牌與銷售策略開始，再從產品和視覺營銷方向作深度探討，幫助大家提升視覺營銷的技巧，繼而傳授產品攝影的基本功，最後獲得行政金手指，令大家做生意不再甩轆！\n\n  \n實驗課程 Walker Course:\n課程為期1-3堂，以幫助創業新手打穩品牌基礎為主！ \n落廣告不再盲樁樁！行銷數據分析入門班 < 按此了解詳情！ \n\n明白有人見到數字就怕怕，但如果你跟它做到朋友，它就會搭膊頭告訴你很多有用情報，例如誰才是你應該對準的客群、他們的廣告行為，甚至誰是你的競爭者等等。快來學習不同的行銷數據分析方法，讓大家落廣告不再盲樁樁。\n\n插畫人必學的圖像印刷術  < 按此了解詳情！ \n\n本課堂邀請到擁用豐富設計及圖檔處理經驗的設計師，教授實務的圖檔處理及印刷知識，與及印刷稿背後的設計思維，更重要是讓你認識不同的選紙選色要訣，不再浪費時間修正錯誤的插畫印刷檔！\n\n  \n探索系列 Explorer Series: \n適合想擴闊視野、有意從事文創行業的朋友！ \n立體書創作研習班 < 按此了解詳情！ \n\nTrial and Error Lab首度舉辦立體書研習班，邀請到書本藝術家、香港迷你書協會會長天藍授課。課程完成後，你將擁有一本自己一手撰寫與製作的立體書。來學的人，不需精於繪畫及寫作，只要很想創作，不斷嘗試，喜歡3D（？） 就能擁有自己的立體書。\n\n自由工作者的理財策略分享 < 按此了解詳情！ \n\nSlasher或Freelancer這類自顧人士，在個人理財上的原則和思考，儲蓄、投資的重要性是什麼？是次分享會費用全免，歡迎大家把握機會，報名參加！\n\n  \n「我適合什麼課程？」按此了解我們的課程如何分類吧！ \n「我想了解全部課程！」歡迎你按此瀏覽所有課程！ \n「嘩，好吸引！如何報名？」報名傳送門在此！ \n  \n\n疫情下的特別安排：\n\n所有學員必需妥善配戴口罩以及讓工作人員量度體溫後方可上課；如不遵守此規則，Trial Academy 有權要求參加者離開課室並不獲退款。\n活動如有任何突發變動，將於7日前以電郵通知延期安排，如學員未能於延後的日子上課，將安排退款（不適用於實戰課程）。\n若感到身體不適，或與任何確診或疑似患者有過緊密接觸，請留在家中休息，避免外出。\n\n\n 
URL:https://trialanderror.hk/single-event/ta2022s3-2-2/
LOCATION:匠舍 Artisan Essence\, 1/F\, Breakthrough Centre\, 191 - 197 Woo Sung Street\, Jordan\, Kowloon
CATEGORIES:Trial Academy,重點推介
ATTACH;FMTTYPE=image/png:https://trialanderror.hk/wp-content/uploads/2023/01/ta_earlybirdvs-02.png
END:VEVENT
BEGIN:VEVENT
DTSTART;VALUE=DATE:20230118
DTEND;VALUE=DATE:20230330
DTSTAMP:20260424T010120
CREATED:20221124T041146Z
LAST-MODIFIED:20230117T043730Z
UID:71429-1674000000-1680134399@trialanderror.hk
SUMMARY:【從興趣到專業：開創打動人心的插畫品牌】
DESCRIPTION:課程簡介\n品牌名？諗好，logo都畫好！\n插書技巧？成熟，已練習了三年又三年！\n產品？有，畫了一堆postcards和tote bags，仲做了最近流行的陶泥公仔！\n宣傳方法？開了IG，還報名參加市集等派卡片！\n一切準備就緒，插畫品牌可以見人了！ \n創立插畫品牌，就這樣簡單？近年，越來越多插畫品牌冒起，要作品不沉沒於百花齊放的市場中，要用心預備的事可不少。 \n今季Trial Academy嘗試學院再次請來擁有超過20年專業插畫經驗的導師，從插畫技巧、風格建立、到品牌營運、行銷推廣，一步步指導同學開創自己的插畫品牌。最後，你的品牌作品還可以展示於人眼！ \n興趣能夠變成專業，是幸福的事。想畫畫升呢，作品更多人認識，就來報名吧！ \n課程目標\n學習基本創作及插畫理論，練習不同插畫技巧，以及了解開創插畫品版的各個步驟與思考點。導師會以小組交流形式，指導每位學員起步開創具個人特色的插畫品牌。 \n課程內容\n\n課堂授課——插畫創作及品牌建立理論分享\n技巧分享——同學即場練習各種插畫技巧，在指導下建立自己的風格\n品牌實戰——從品牌形象、市場定位、產品創作，到品牌推廣，由導師指導大家逐步開創自己的插畫品牌\n小組研習——互相評賞作品，互相觀摩，刺激學習\n經驗交流——導師將過去豐富的創作經驗一一分享\n\n課程對象\n已有基本插畫基礎的朋友。有意創立個人插畫品牌，或已擁有插畫品牌並希望提升品牌成熟度的朋友（最重要你願意用三個月與我們同行學習及進步！） \n課程資料\n\n\n\n\n	上課日期2023年1月18日、2月1日、2月15日、3月1日、3月15日、3月29日（三）\n\n\n	上課時間7:30pm-9:30pm\n\n\n	地點Trial and Error Lab*\n\n\n	費用 $1800 （於12月16日或以前報名，可享有85折早鳥優惠，以$1530報讀課程）\n\n\n	截止報名日期2023年1月11日（三）\n\n\n\n\n*Trial Academy 將持續觀察疫情，課堂將因應疫情的狀況以及政府分佈的限聚令安排，有機會改為網上授課。如有改動，Trial Academy會於開課前7日透過電郵發出通知，敬請留意。 \n其他事項\n參加者需自備畫具、iPad或手提電腦作課堂插畫實習之用。 \n報名連結\nhttps://bit.ly/3VaKpOI \n\n導師簡介\n伍尚豪（Peter Ng）｜拍拍手創作室創意總監｜插畫 x 人物設計 x 動畫創作人 \nPeter是插畫動畫創作狂熱分子，亦是香港插畫師協會前任會長及現任會員。於1997年憑《三文魚先生》的第三屆香港獨立短片及影像比賽（ ifva ）動畫組金獎， 2001年再憑《蒲公英》奪得IFVA動畫組銀獎。2004年於香港匯豐銀行和香港文化博物館合辦的「我的香港鈔票」設計比賽中榮獲冠軍。2005年獲香港藝術中心邀請，聯同其他8個動畫單位為「i-city Festival」製作動畫電影，其創作之短片為〈我的燕子〉。 \nPeter最為人樂道的，是參與《芝SEE菇BI FAMILY》「苦榮」和「小苦妹」的人物設計及漫畫創作。之後亦為香港社會福利處、LEVI’S及NOKIA等作動畫或角色設計。現為香港社會福利署「凝聚家庭、齊抗暴力」宣傳運動人物設計及動畫創作「火爆家族」原創者。
URL:https://trialanderror.hk/single-event/ta2022s3_illustration_advance-2/
LOCATION:匠舍 Artisan Essence\, 1/F\, Breakthrough Centre\, 191 - 197 Woo Sung Street\, Jordan\, Kowloon
ATTACH;FMTTYPE=image/png:https://trialanderror.hk/wp-content/uploads/2022/11/內容行銷實戰_visual.png
END:VEVENT
END:VCALENDAR